BEGIN:VCALENDAR
VERSION:2.0
PRODID:-//Ateneo Mercantil de Valencia - ECPv6.0.4//NONSGML v1.0//EN
CALSCALE:GREGORIAN
METHOD:PUBLISH
X-WR-CALNAME:Ateneo Mercantil de Valencia
X-ORIGINAL-URL:https://historico.ateneovalencia.es
X-WR-CALDESC:Eventos para Ateneo Mercantil de Valencia
REFRESH-INTERVAL;VALUE=DURATION:PT1H
X-Robots-Tag:noindex
X-PUBLISHED-TTL:PT1H
BEGIN:VTIMEZONE
TZID:Europe/Madrid
BEGIN:DAYLIGHT
TZOFFSETFROM:+0100
TZOFFSETTO:+0200
TZNAME:CEST
DTSTART:20230326T010000
END:DAYLIGHT
BEGIN:STANDARD
TZOFFSETFROM:+0200
TZOFFSETTO:+0100
TZNAME:CET
DTSTART:20231029T010000
END:STANDARD
END:VTIMEZONE
BEGIN:VEVENT
DTSTART;TZID=Europe/Madrid:20231003T193000
DTEND;TZID=Europe/Madrid:20231003T210000
DTSTAMP:20260426T011334
CREATED:20230607T095752Z
LAST-MODIFIED:20230928T114455Z
UID:74455-1696361400-1696366800@historico.ateneovalencia.es
SUMMARY:Ciclo Grandes Enigmas de la Humanidad: "Ooparts. Objetos fuera de tiempo y lugar"
DESCRIPTION:Nos sumergimos en el fascinante mundo de los objetos fuera de su tiempo. Desde artefactos arqueológicos desconcertantes hasta tecnología avanzada de civilizaciones pasadas\, la máquina de Anticitera\, la pila de Bagdad\, el pilar de Delhi y obras de arte imposibles serán algunos de los que hablaremos. Acompáñanos mientras desentrañamos enigmas\, cuestionamos la historia y ampliamos los límites de nuestro conocimiento. \nEnlace para el Online: https://youtu.be/qX8mlC4Ry7U\nLos ooparts u objetos fuera de tiempo son considerados todo un desafío para la ciencia\, estos objetos se han hallado en lugares que no deberían estar\, ya que\, por sus características\, no se ajustan a las posibilidades de la época. Sus hallazgos han dado material para que se construya toda una suerte de teorías para explicar cómo y por qué están donde no corresponde. \nTítulo: "Ooparts. Objetos fuera de tiempo y lugar" \nConferenciante: Luis Tobajas \nDía: Martes 3 de octubre de 2023 \nHora: 19.30 horas \nLugar: Salón de Actos / Teatro del Ateneo \nEntrada libre y gratuita hasta completar aforo. \nCartel:
URL:https://historico.ateneovalencia.es/evento/ciclo-grandes-enigmas-de-la-humanidad-ooparts-objetos-fuera-de-tiempo-y-lugar/
LOCATION:Teatro Ateneo
CATEGORIES:Ciclo Grandes Enigmas de la Humanidad
ATTACH;FMTTYPE=image/jpeg:https://historico.ateneovalencia.es/wp-content/uploads/2023/06/20231004-Ooparts-Tobajas.jpg
END:VEVENT
BEGIN:VEVENT
DTSTART;TZID=Europe/Madrid:20231016T190000
DTEND;TZID=Europe/Madrid:20231016T203000
DTSTAMP:20260426T011334
CREATED:20230623T110208Z
LAST-MODIFIED:20231005T100957Z
UID:74656-1697482800-1697488200@historico.ateneovalencia.es
SUMMARY:Ciclo Grandes Enigmas de la Humanidad: "Los enigmas del Jueves Santo"
DESCRIPTION:¿Quién era el dueño del cenáculo? ¿Cómo fue la última cena? ¿Fue realmente una Pascua? ¿Existió Judas? ¿Cómo murió? ¿Cuál fue el destino de las 30 monedas? ¿Fueron romanos o judíos los que aprendieron a Cristo? ¿Quién fue el joven que huyó desnudo de Getsemani? Éstos y otros interrogantes serán desvelados por el profesor Rodríguez Almenar. \nEnlace para el Online: https://youtu.be/gxWqmNw3R38\nEl Jueves Santo se celebra: La Última Cena; El Lavatorio de los pies; La institución de la Eucaristía y del Sacerdocio y la oración de Jesús en el Huerto de Getsemaní. Pero aún hoy nos generan algunas dudas ciertos pasajes que han trascendido hasta nuestros días. \nTítulo: Los enigmas del Jueves Santo \nConferenciante: Prof. Dr. Jorge Manuel Rodríguez Almenar \nDía: Lunes 16 de octubre de 2023 \nHora: 19 horas \nLugar: Salón de Actos del Ateneo Mercantil de Valencia \nEntrada libre y gratuita hasta completar aforo. \nCartel:
URL:https://historico.ateneovalencia.es/evento/ciclo-grandes-enigmas-de-la-humanidad-los-enigmas-del-jueves-santo/
LOCATION:Teatro Ateneo
CATEGORIES:Ciclo Grandes Enigmas de la Humanidad
ATTACH;FMTTYPE=image/jpeg:https://historico.ateneovalencia.es/wp-content/uploads/2023/06/20231016-ENIGMAS-JUEVES-SANTO.jpg
END:VEVENT
BEGIN:VEVENT
DTSTART;TZID=Europe/Madrid:20231025T190000
DTEND;TZID=Europe/Madrid:20231025T203000
DTSTAMP:20260426T011334
CREATED:20231013T085218Z
LAST-MODIFIED:20231017T110607Z
UID:75657-1698260400-1698265800@historico.ateneovalencia.es
SUMMARY:Tradiciones Apócrifas sobre los Apóstoles. Entre la prohibición\, la censura y la aceptación
DESCRIPTION:Los evangelios y Hechos apócrifos de los apóstoles son el mejor testimonio de ese cristianismo primitivo que comienza a cuestionarse algunos interrogantes\, como qué había pasado en la infancia de Jesús o cuál había sido la suerte de los apóstoles después de las misiones narradas por Lucas. Y la respuesta fue un conglomerado de textos en los que lo explicaban con diversos elementos legendarios que convivió con los textos canónicos sin una opinión contraria clara de la jerarquía eclesiástica hasta la delimitación del canon a principios del siglo III. \nEnlace para el Online: https://youtu.be/Dd8dYUaYE_I\nParalelamente\, las persecuciones cristianas se sucedieron desde Nerón hasta Diocleciano\, con Juliano el Apóstata como punto final a mediados del siglo iV. En estos momentos nació una rica literatura martirial que se fusionó con algunas de las tradiciones sobre los apóstoles y estas narraciones sobre los hechos de cada apóstol en solitario que recogían los Hechos apócrifos acababan normalmente en un martirio\, a menudo marcadamente sobrenatural. Las autoridades romanas eran el enemigo y el mártir cristiano el héroe que había sacrificado su vida. \nTítulo: Tradiciones Apócrifas sobre los Apóstoles. Entre la prohibición\, la censura y la aceptación \nConferenciante: Prof. Dr. Ángel Narro Sánchez \nDía: Miércoles 25 de octubre de 2023 \nHora: 19 horas \nLugar: Teatro Ateneo \nEntrada libre y gratuita hasta completar aforo. \nBreve currículum de Ángel Narro: \nLicenciado en Filología Clásica (2008) y Filología Francesa (2012) por la Universitat de València. Doctor en Filología Griega por la Universitat de València (2013) e investigador. Sus líneas de investigación fundamentales son tres: \n\nLa lengua y la literatura griega cristiana.\nLa hagiografía bizantina\nLa recepción de la literatura clásica en la literatura de la Baja Edad Media y el Renacimiento.\n\nLa primera y segunda línea de investigación confluyeron en el trabajo de tesis doctoral sobre los textos griegos acerca de Santa Tecla –Hechos de Pablo y Tecla del siglo II y Vida y Milagros de Santa Tecla del siglo V- y a posteriori se han ido concentrado en dos áreas bien diferenciadas. De un lado\, en el ámbito de la lengua y literatura griega cristiana\, los Hechos Apócrifos de los Apóstoles en su conjunto y en comparación con otros textos de la época han sido estudiados en diferentes trabajos. \nDesde septiembre de 2014 a septiembre de 2019 ocupó plaza de profesor Ayudante Doctor en la Universitat de València con cambio de perfil incluido en Septiembre de 2016 mediante concurso de Didáctica de la lengua y la literatura a Filología Clásica. Desde 2020 se ocupa plaza de Profesor Titular de Universidad. \nLas publicaciones superan en total las 70. Se ha tomado parte activa en más de 40 congresos\, algunos de ellos celebrados en Bélgica\, Cuba\, Francia\, Italia\, Portugal\, Reino Unido y República Checa. Se ha participado activamente en la organización de congresos\, la mayoría con carácter internacional\, entre los años 2009-2022. \nCartel:
URL:https://historico.ateneovalencia.es/evento/tradiciones-apocrifas-sobre-los-apostoles-entre-la-prohibicion-la-censura-y-la-aceptacion/
LOCATION:Teatro Ateneo
CATEGORIES:Ciclo Grandes Enigmas de la Humanidad
ATTACH;FMTTYPE=image/jpeg:https://historico.ateneovalencia.es/wp-content/uploads/2023/10/20231025-Evangelios-Apocrifos-Angel-Narro-1.jpg
END:VEVENT
END:VCALENDAR