BEGIN:VCALENDAR
VERSION:2.0
PRODID:-//Ateneo Mercantil de Valencia - ECPv6.0.4//NONSGML v1.0//EN
CALSCALE:GREGORIAN
METHOD:PUBLISH
X-WR-CALNAME:Ateneo Mercantil de Valencia
X-ORIGINAL-URL:https://historico.ateneovalencia.es
X-WR-CALDESC:Eventos para Ateneo Mercantil de Valencia
REFRESH-INTERVAL;VALUE=DURATION:PT1H
X-Robots-Tag:noindex
X-PUBLISHED-TTL:PT1H
BEGIN:VTIMEZONE
TZID:Europe/Madrid
BEGIN:DAYLIGHT
TZOFFSETFROM:+0100
TZOFFSETTO:+0200
TZNAME:CEST
DTSTART:20210328T010000
END:DAYLIGHT
BEGIN:STANDARD
TZOFFSETFROM:+0200
TZOFFSETTO:+0100
TZNAME:CET
DTSTART:20211031T010000
END:STANDARD
END:VTIMEZONE
BEGIN:VEVENT
DTSTART;TZID=Europe/Madrid:20211227T120000
DTEND;TZID=Europe/Madrid:20211227T140000
DTSTAMP:20260423T093210
CREATED:20211222T112007Z
LAST-MODIFIED:20211226T103821Z
UID:66348-1640606400-1640613600@historico.ateneovalencia.es
SUMMARY:Ciclo García Berlanga: "Bienvenido Míster Marshall"
DESCRIPTION:El Ateneo Mercantil de Valencia se ha unido a la celebración del 'Año Berlanga' que en este 2021 celebra los 100 años del nacimiento del director valenciano\, Luis García Berlanga. Nuestra institución le quiere homenajear de la mejor manera posible y por eso se van a proyectar de forma gratuita  tres de su mejores películas y que marcaron un antes y un después en la historia del cine español. Además\, antes de cada película Chechu García Berlanga presentará el film destacando sus claves cinematográficas. El ciclo está coordinado por el directivo ateneísta\, Vicente Gomar. \nEn esta primera ocasión\, el lunes 27 de diciembre a las 12 horas en el Salón de Actos del Ateneo\, se proyectará la película de 1957\, "Bienvenido Míster Marshall". \nLa historia transcurre en los años 50\, en un pequeño y tranquilo pueblo llamado Villar del Río\, en el que nunca pasa nada. Sin embargo\, el mismo día en que llegan la cantante folclórica Carmen Vargas y su representante\, el alcalde (Pepe Isbert) recibe la noticia de la inminente visita de un comité del Plan Marshall\, un proyecto económico americano para la reconstrucción de Europa. La novedad provoca un gran revuelo entre la gente\, que se dispone a ofrecer a los americanos un recibimiento muy especial. \nCartel:
URL:https://historico.ateneovalencia.es/evento/ciclo-garcia-berlanga-bienvenido-mister-marshall/
LOCATION:Teatro Ateneo
CATEGORIES:Ciclo García Berlanga - 100 años
ATTACH;FMTTYPE=image/jpeg:https://historico.ateneovalencia.es/wp-content/uploads/2021/12/20211227-Pelicula-Bienvenido-Mister-Marshall.jpg
END:VEVENT
BEGIN:VEVENT
DTSTART;TZID=Europe/Madrid:20211228T120000
DTEND;TZID=Europe/Madrid:20211228T140000
DTSTAMP:20260423T093210
CREATED:20211222T115104Z
LAST-MODIFIED:20211226T104151Z
UID:66354-1640692800-1640700000@historico.ateneovalencia.es
SUMMARY:Ciclo García Berlanga: "La escopeta nacional"
DESCRIPTION:El Ateneo Mercantil de Valencia se ha unido a la celebración del 'Año Berlanga' que en este 2021 celebra los 100 años del nacimiento del director valenciano\, Luis García Berlanga. Nuestra institución le quiere homenajear de la mejor manera posible y por eso se van a proyectar de forma gratuita  tres de su mejores películas y que marcaron un antes y un después en la historia del cine español. Además\, antes de cada película Chechu García Berlanga presentará el film destacando sus claves cinematográficas. El ciclo está coordinado por el directivo ateneísta\, Vicente Gomar. \nEn esta segunda ocasión\, el martes 28 de diciembre a las 12 horas en el Salón de Actos del Ateneo\, se proyectará la película de 1978\, "La escopeta nacional". \nUn fabricante catalán de porteros electrónicos viaja a Madrid\, acompañado de su amante\, para asistir a una cacería que él mismo ha organizado. Lo que pretende es relacionarse con gente de la alta sociedad española para promocionar su negocio. En la finca del marqués de Leguineche conoce a diversos personajes y vive multitud de situaciones tan absurdas como disparatadas. \nCartel:
URL:https://historico.ateneovalencia.es/evento/ciclo-garcia-berlanga-la-escopeta-nacional/
LOCATION:Teatro Ateneo
CATEGORIES:Ciclo García Berlanga - 100 años
ATTACH;FMTTYPE=image/jpeg:https://historico.ateneovalencia.es/wp-content/uploads/2021/12/20211228-Pelicula-La-Escopeta-Nacional.jpg
END:VEVENT
BEGIN:VEVENT
DTSTART;TZID=Europe/Madrid:20211229T180000
DTEND;TZID=Europe/Madrid:20211229T200000
DTSTAMP:20260423T093210
CREATED:20211222T120337Z
LAST-MODIFIED:20211226T104352Z
UID:66358-1640800800-1640808000@historico.ateneovalencia.es
SUMMARY:Ciclo García Berlanga: "La vaquilla"
DESCRIPTION:El Ateneo Mercantil de Valencia se ha unido a la celebración del 'Año Berlanga' que en este 2021 celebra los 100 años del nacimiento del director valenciano\, Luis García Berlanga. Nuestra institución le quiere homenajear de la mejor manera posible y por eso se van a proyectar de forma gratuita  tres de su mejores películas y que marcaron un antes y un después en la historia del cine español. Además\, antes de cada película Chechu García Berlanga presentará el film destacando sus claves cinematográficas. El ciclo está coordinado por el directivo ateneísta\, Vicente Gomar. \nEn esta segunda ocasión\, el martes 28 de diciembre a las 12 horas en el Salón de Actos del Ateneo\, se proyectará la película de 1985\, "La vaquilla". \nGuerra Civil Española (1936-1939). En el frente\, un grupo de soldados se limita a escribir cartas o a dormitar. Pero la tranquilidad se rompe cuando un altavoz de la Zona Nacional anuncia que\, con motivo de la Virgen de Agosto\, se va a celebrar en un pueblo cercano una corrida. Cinco combatientes de la Zona Republicana deciden robar la vaquilla para arruinarle la fiesta al enemigo y conseguir la comida que necesitan. \nCartel:
URL:https://historico.ateneovalencia.es/evento/ciclo-garcia-berlanga-la-vaquilla/
LOCATION:Teatro Ateneo
CATEGORIES:Ciclo García Berlanga - 100 años
ATTACH;FMTTYPE=image/jpeg:https://historico.ateneovalencia.es/wp-content/uploads/2021/12/20211229-Pelicula-La-vaquilla.jpg
END:VEVENT
END:VCALENDAR