BEGIN:VCALENDAR
VERSION:2.0
PRODID:-//Ateneo Mercantil de Valencia - ECPv6.0.4//NONSGML v1.0//EN
CALSCALE:GREGORIAN
METHOD:PUBLISH
X-WR-CALNAME:Ateneo Mercantil de Valencia
X-ORIGINAL-URL:https://historico.ateneovalencia.es
X-WR-CALDESC:Eventos para Ateneo Mercantil de Valencia
REFRESH-INTERVAL;VALUE=DURATION:PT1H
X-Robots-Tag:noindex
X-PUBLISHED-TTL:PT1H
BEGIN:VTIMEZONE
TZID:Europe/Madrid
BEGIN:DAYLIGHT
TZOFFSETFROM:+0100
TZOFFSETTO:+0200
TZNAME:CEST
DTSTART:20240331T010000
END:DAYLIGHT
BEGIN:STANDARD
TZOFFSETFROM:+0200
TZOFFSETTO:+0100
TZNAME:CET
DTSTART:20241027T010000
END:STANDARD
END:VTIMEZONE
BEGIN:VEVENT
DTSTART;TZID=Europe/Madrid:20241119T171500
DTEND;TZID=Europe/Madrid:20241119T183000
DTSTAMP:20260426T043135
CREATED:20240703T080539Z
LAST-MODIFIED:20241112T115027Z
UID:80718-1732036500-1732041000@historico.ateneovalencia.es
SUMMARY:Ciclo Estilos Arquitectónicos en la Historia: Arquitectura Renacentista - Sesión 3
DESCRIPTION:Un nuevo ciclo sobre arte llega al Ateneo Mercantil de Valencia de la mano de D. Amando García. En esta ocasión nos desgranará la evolución de la arquitectura a lo largo de los siglos. En la tercera sesión nos hablará sobre Arquitectura Renacentista. Los resultados de este periodo son claramente visibles en bellas edificaciones por toda Europa. Suelen ser construcciones muy novedosas\, complejas y emplean técnicas nunca vistas hasta el momento. \nEnlace para el Online: https://youtu.be/MNJsazS4C48\nEl retorno a la antigüedad clásica griega y romana\, y a los principios fundamentales de sus manifestaciones\, empieza a producirse hacia finales del siglo XV y perdura durante todo el siglo siguiente. Como es natural\, los ejemplos de grandes construcciones renacentistas abundan muy especialmente en Italia\, aunque también en España hay muchos y valiosos testimonios de estas construcciones. \nTítulo: La Arquitectura Renacentista \nConferenciante: D. Amando García \nDía: Martes\, 19 de noviembre de 2024 \nHora: 17.15 horas \nConferencia gratuita y Online en directo por nuestro Canal de Youtube. \nCartel:\n \n 
URL:https://historico.ateneovalencia.es/evento/ciclo-estilos-arquitectonicos-en-la-historia-arquitectura-renacentista-sesion-3/
LOCATION:On line
CATEGORIES:Ciclo Estilos Arquitectónicos en la Historia
ATTACH;FMTTYPE=image/jpeg:https://historico.ateneovalencia.es/wp-content/uploads/2024/07/20241119-Arquitectura-Renacentista.jpg
END:VEVENT
END:VCALENDAR