BEGIN:VCALENDAR
VERSION:2.0
PRODID:-//Ateneo Mercantil de Valencia - ECPv6.0.4//NONSGML v1.0//EN
CALSCALE:GREGORIAN
METHOD:PUBLISH
X-ORIGINAL-URL:https://historico.ateneovalencia.es
X-WR-CALDESC:Eventos para Ateneo Mercantil de Valencia
REFRESH-INTERVAL;VALUE=DURATION:PT1H
X-Robots-Tag:noindex
X-PUBLISHED-TTL:PT1H
BEGIN:VTIMEZONE
TZID:Europe/Madrid
BEGIN:DAYLIGHT
TZOFFSETFROM:+0100
TZOFFSETTO:+0200
TZNAME:CEST
DTSTART:20230326T010000
END:DAYLIGHT
BEGIN:STANDARD
TZOFFSETFROM:+0200
TZOFFSETTO:+0100
TZNAME:CET
DTSTART:20231029T010000
END:STANDARD
END:VTIMEZONE
BEGIN:VEVENT
DTSTART;TZID=Europe/Madrid:20230222T190000
DTEND;TZID=Europe/Madrid:20230222T203000
DTSTAMP:20260424T111756
CREATED:20230109T115127Z
LAST-MODIFIED:20230109T115129Z
UID:72612-1677092400-1677097800@historico.ateneovalencia.es
SUMMARY:"La Música y las Artes Escénicas en tiempos de Sorolla"
DESCRIPTION:El Año Sorolla continua en el Ateneo Mercantil con una conferencia en la que se tratará la relación que tuvo Joaquín Sorolla con las artes escénicas. Toda una serie de compositores contemporáneos al pintor español\, que reflejan el panorama creativo musical tan intenso que se vivió a finales del siglo XIX y principios del XX. Una muestra de cuadros de Sorolla en los que se podrán ver su relación con la música y las artes del momento. Cuadros en los que privilegian la tradición y el folklore\, y que muestran la variada forma de expresión del alma de un único pueblo. Variedad de danzas folclóricas\, creaciones clásicas españolas\, boleras y flamenco... \nEnlace para el Online:\nTítulo: "La Música y las Artes Escénicas en tiempos de Sorolla" \nConferenciante: Ilmo. Sr. D. Rodrigo Madrid \nFecha: Miércoles 22 de febrero de 2023 \nHora: 19 horas \nSalón: Salón Sorolla \nEntrada libre y gratuita hasta completar aforo \nCurriculum abreviado de Rodrigo Madrid:\nEs un pianista\, clavecinista\, organista y director que cursa sus estudios en el Conservatorio Superior de Música de Valencia con Francisco Baró (piano)\, Eduardo Cifre (dirección de orquesta) y Montserrat Torrent (órgano). \nAcadémico Correspondiente de la Real Academia de Bellas Artes de San Carlos de Valencia\, Académico Investigador de la M.I. Academia de la Música Valenciana\, profesor emérito de la Universidad Católica de Valencia (UCV)\, miembro de la Sociedad Económica de Amigos del País (RSEAPV) y de la Sociedad General de Autores de España (SGAE)\, exvicedirector del Conservatorio Profesional de Música\, tuvo a su cargo la cátedra de clave del Conservatorio Superior de Música de Valencia. \nObtiene el Premio Extraordinario de Licenciatura en la especialidad de clavecín otorgado por el Conservatorio Superior de Música de Valencia. Premio a la Creatividad y Premio del Instituto Universitario de Iniciativas Culturales de la Universidad de Valencia; Premio “Andrés Segovia” al mejor intérprete de música española en la especialidad de clavecín y Premio “José Miguel Ruiz de Morales” otorgados ambos por la Universidad de Santiago de Compostela. En el año 2001 obtiene el Doctorado en Filosofía y Ciencias de la Educación obteniendo la calificación de sobresaliente “cum laude”. \nHa actuado como intérprete en calidad de solista junto a numerosas orquestas; además\, como integrante de conjuntos de cámara\, grupos de música antigua y clavecinista-continuista de la orquesta “Joaquín Rodrigo” ha ofrecido recitales por diferentes países de Europa y Asia. \nCartel:
URL:https://historico.ateneovalencia.es/evento/la-musica-y-las-artes-escenicas-en-tiempos-de-sorolla/
LOCATION:Salón Sorolla - Ateneo Mercantil de Valencia\, Plaza del Ayuntamiento 18\, Valencia\, Valencia\, 46002\, España
CATEGORIES:Ciclo de Música M.I.
ATTACH;FMTTYPE=image/jpeg:https://historico.ateneovalencia.es/wp-content/uploads/2023/01/20230222-Musica-Sorolla.jpg
END:VEVENT
END:VCALENDAR