BEGIN:VCALENDAR
VERSION:2.0
PRODID:-//Ateneo Mercantil de Valencia - ECPv6.0.4//NONSGML v1.0//EN
CALSCALE:GREGORIAN
METHOD:PUBLISH
X-WR-CALNAME:Ateneo Mercantil de Valencia
X-ORIGINAL-URL:https://historico.ateneovalencia.es
X-WR-CALDESC:Eventos para Ateneo Mercantil de Valencia
REFRESH-INTERVAL;VALUE=DURATION:PT1H
X-Robots-Tag:noindex
X-PUBLISHED-TTL:PT1H
BEGIN:VTIMEZONE
TZID:Europe/Madrid
BEGIN:DAYLIGHT
TZOFFSETFROM:+0100
TZOFFSETTO:+0200
TZNAME:CEST
DTSTART:20190331T010000
END:DAYLIGHT
BEGIN:STANDARD
TZOFFSETFROM:+0200
TZOFFSETTO:+0100
TZNAME:CET
DTSTART:20191027T010000
END:STANDARD
END:VTIMEZONE
BEGIN:VEVENT
DTSTART;TZID=Europe/Madrid:20191212T191500
DTEND;TZID=Europe/Madrid:20191212T213000
DTSTAMP:20260423T052650
CREATED:20191118T133231Z
LAST-MODIFIED:20191119T180204Z
UID:54089-1576178100-1576186200@historico.ateneovalencia.es
SUMMARY:Ciclo M. I. Academia de la Música Valenciana: 2º Acto de Recepción de nuevos académicos
DESCRIPTION:La Muy Ilustre Academia de la Música Valenciana celebra el segundo acto de Recepción de nuevos Académicos Numerarios en el Salón Sorolla del Ateneo Mercantil el próximo jueves 12 de diciembre a las 19.10 horas. El Ilmo. Sr. D. José Mª Ortí Soriano y el Ilmo. Sr. D. Andrés Valero Castells serán otros dos nuevos académicos que entarán a formar parte de la Academia de la Música Valenciana. Presenta el acto\, el vicepresidente-rector de la M.I Academia de la Música Valenciana\, el Ilmo. Sr. D. Joaquín Gericó Trilla. \nEl discurso de entrada de Andrés Valero Castells será "Intertextualidad entre la música clásica y el rock duro"\, mientras que el discurso de José Mª Ortí Soriano será el "Evolución histórica de la trompeta. Concreción\, desarrollo y su introducción a la orquesta sinfónica". \nAdemás\, en el acto se podrá disfrutar de notas musicales: "Romance"\, de Andrés Valero y lo interpretarán José María Ortí en el fliscorno y Andrés Valero al piano. La segunda pieza será "Suite en re mayor"\, de G. F. Händel y lo interprarán José María Ortí a la trompeta  y Roberto Loras en el piano. \nCartel:
URL:https://historico.ateneovalencia.es/evento/ciclo-m-i-academia-de-la-musica-valenciana-2o-acto-de-recepcion-de-nuevos-academicos/
LOCATION:Salón Sorolla - Ateneo Mercantil de Valencia\, Plaza del Ayuntamiento 18\, Valencia\, Valencia\, 46002\, España
CATEGORIES:Ciclo de Música M.I.
ATTACH;FMTTYPE=image/jpeg:https://historico.ateneovalencia.es/wp-content/uploads/2019/11/20191212-M.I.-Musica-Valenciana-Academicos-2.jpg
END:VEVENT
END:VCALENDAR