BEGIN:VCALENDAR
VERSION:2.0
PRODID:-//Ateneo Mercantil de Valencia - ECPv6.0.4//NONSGML v1.0//EN
CALSCALE:GREGORIAN
METHOD:PUBLISH
X-ORIGINAL-URL:https://historico.ateneovalencia.es
X-WR-CALDESC:Eventos para Ateneo Mercantil de Valencia
REFRESH-INTERVAL;VALUE=DURATION:PT1H
X-Robots-Tag:noindex
X-PUBLISHED-TTL:PT1H
BEGIN:VTIMEZONE
TZID:Europe/Madrid
BEGIN:DAYLIGHT
TZOFFSETFROM:+0100
TZOFFSETTO:+0200
TZNAME:CEST
DTSTART:20190331T010000
END:DAYLIGHT
BEGIN:STANDARD
TZOFFSETFROM:+0200
TZOFFSETTO:+0100
TZNAME:CET
DTSTART:20191027T010000
END:STANDARD
END:VTIMEZONE
BEGIN:VEVENT
DTSTART;TZID=Europe/Madrid:20191114T190000
DTEND;TZID=Europe/Madrid:20191114T210000
DTSTAMP:20260423T073722
CREATED:20191106T120600Z
LAST-MODIFIED:20191106T120600Z
UID:53791-1573758000-1573765200@historico.ateneovalencia.es
SUMMARY:Ciclo M. I. Academia de la Música Valenciana: Acto de Recepción de nuevos académicos
DESCRIPTION:La Muy Ilustre Academia de la Música Valenciana celebra el acto de Recepción de nuevos Académicos Numerarios en el Salón Sorolla del Ateneo Mercantil el próximo jueves 14 de noviembre a las 19.00 horas. El Ilmo. Sr. Dr. D. Rodrigo Madrid Gómez y el Ilmo. Sr. D. Rubén Parejo Codina serán los dos académicos que entarán a formar parte de la Academia de la Música Valenciana. Presenta el acto\, el Secretario de la M.I Academia de la Música Valenciana\, el Sr. D. Amadeo LLoris Martínez. \nEl discurso de entrada de D. Rodrigo Madrid será el "El esplendor de la danza religiosa en el Reinado de los Austrias. La fiesta del Corpus en Valencia"\, mientras que el discurso de D. Rubén Parejo será "Música para guitarra en la C. Valenciana. Periodo de transición entre Luys Milán y Francisco Tárrega". \nAdemás\, en el acto se podrá disfrutar de un recital de guitarra cuyo autor e intérprete es D. Ruben Parejo y que es titula: "Fantasía sobre un tema de Melchor Gomis". Al finalizar el acto se servirá un vino de honor para todos los asistentes. \nCartel:
URL:https://historico.ateneovalencia.es/evento/ciclo-m-i-academia-de-la-musica-valenciana-acto-de-recepcion-de-nuevos-academicos/
LOCATION:Salón Sorolla - Ateneo Mercantil de Valencia\, Plaza del Ayuntamiento 18\, Valencia\, Valencia\, 46002\, España
CATEGORIES:Ciclo de Música M.I.
ATTACH;FMTTYPE=image/jpeg:https://historico.ateneovalencia.es/wp-content/uploads/2019/11/20191114-MI-Academia-Musica-Valenciana-Academicos.jpg
END:VEVENT
END:VCALENDAR