BEGIN:VCALENDAR
VERSION:2.0
PRODID:-//Ateneo Mercantil de Valencia - ECPv6.0.4//NONSGML v1.0//EN
CALSCALE:GREGORIAN
METHOD:PUBLISH
X-ORIGINAL-URL:https://historico.ateneovalencia.es
X-WR-CALDESC:Eventos para Ateneo Mercantil de Valencia
REFRESH-INTERVAL;VALUE=DURATION:PT1H
X-Robots-Tag:noindex
X-PUBLISHED-TTL:PT1H
BEGIN:VTIMEZONE
TZID:Europe/Madrid
BEGIN:DAYLIGHT
TZOFFSETFROM:+0100
TZOFFSETTO:+0200
TZNAME:CEST
DTSTART:20180325T010000
END:DAYLIGHT
BEGIN:STANDARD
TZOFFSETFROM:+0200
TZOFFSETTO:+0100
TZNAME:CET
DTSTART:20181028T010000
END:STANDARD
END:VTIMEZONE
BEGIN:VEVENT
DTSTART;TZID=Europe/Madrid:20181031T190000
DTEND;TZID=Europe/Madrid:20181031T203000
DTSTAMP:20260422T185141
CREATED:20181010T120225Z
LAST-MODIFIED:20181010T120225Z
UID:38759-1541012400-1541017800@historico.ateneovalencia.es
SUMMARY:Ciclo M.I. Academia de Música Valenciana: "Recopilación de Música Tradicional de Aldaia"
DESCRIPTION:Llega una nueva conferencia del Ciclo M.I. Academia de Música Valenciana el próximo miércoles 31 de octubre a las 19.00 horas en el Salón Sorolla\, con la ponencia del Canónigo organista de la Catedral\, el Rvdo. D. Antonio Andrés Ferrandis\, quien recopiló este año\, junto al etnomusicólogo valenciano\, Carles Pitarch Alfonso\, un libro con 261 canciones de la música tradicional de Aldaia. Una obra que recoge el trabajo realizado por ambos durante más de diez años de recopilación\, transcripción\, clasificación y contextualización de las melodías y textos de cantos típicos de Aldaia\, la mayoría de ellos transmitidos por la tradición oral.  \nSe trata de un trabajo que recoge un cancionero con las partituras transcritas y los textos de 261 canciones\, clasificadas en dos apartados: música religiosa y música profana infantil. A su vez\, en cada una de estos apartados las obras están catalogadas según “Ciclo vital”\, “Ciclo anual” y “Acíclica”. El libro\, titulado “Música tradicional d´Aldaia”\, incluye también un CD con una selección representativa de piezas de los diversos apartados.  \nCartel:
URL:https://historico.ateneovalencia.es/evento/ciclo-m-i-academia-de-musica-valenciana-recopilacion-de-musica-tradicional-de-aldaia/
LOCATION:Salón Sorolla - Ateneo Mercantil de Valencia\, Plaza del Ayuntamiento 18\, Valencia\, Valencia\, 46002\, España
CATEGORIES:Ciclo de Música M.I.
ATTACH;FMTTYPE=image/jpeg:https://historico.ateneovalencia.es/wp-content/uploads/2018/10/20181031-Ciclo-Real-Academia-Musica-Tradicional-Aldaia.jpg
END:VEVENT
END:VCALENDAR