BEGIN:VCALENDAR
VERSION:2.0
PRODID:-//Ateneo Mercantil de Valencia - ECPv6.0.4//NONSGML v1.0//EN
CALSCALE:GREGORIAN
METHOD:PUBLISH
X-WR-CALNAME:Ateneo Mercantil de Valencia
X-ORIGINAL-URL:https://historico.ateneovalencia.es
X-WR-CALDESC:Eventos para Ateneo Mercantil de Valencia
REFRESH-INTERVAL;VALUE=DURATION:PT1H
X-Robots-Tag:noindex
X-PUBLISHED-TTL:PT1H
BEGIN:VTIMEZONE
TZID:Europe/Madrid
BEGIN:DAYLIGHT
TZOFFSETFROM:+0100
TZOFFSETTO:+0200
TZNAME:CEST
DTSTART:20170326T010000
END:DAYLIGHT
BEGIN:STANDARD
TZOFFSETFROM:+0200
TZOFFSETTO:+0100
TZNAME:CET
DTSTART:20171029T010000
END:STANDARD
END:VTIMEZONE
BEGIN:VEVENT
DTSTART;TZID=Europe/Madrid:20171024T193000
DTEND;TZID=Europe/Madrid:20171024T210000
DTSTAMP:20260422T162448
CREATED:20171024T155255Z
LAST-MODIFIED:20171024T155255Z
UID:27072-1508873400-1508878800@historico.ateneovalencia.es
SUMMARY:Ciclo sobre Música M.I.  Academia de la Música Valenciana: “Las obras para Piano de Miguel Asins Arbó”
DESCRIPTION:La segunda conferencia del Ciclo sobre Música M.I.  Academia de la Música Valenciana se centrará en la obra para piano del compositor Miguel Asins Arbó\, y en la propuesta performativa\, previo su correspondiente análisis armónico e incluso didáctico\, de su producción pianística. La inexistencia de trabajos sobre este repertorio\, en un compositor tan importante en la música española del siglo XX\, su valoración y difusión\, centraron la idea original del mismo. La conferencia la dará D. Jesús María Gómez\, cncertista y pedagogo diplomado en estudios avanzados de Música. Presentará el acto\, D. Bernardo Adam Ferrero\, Presidente de la Academia de Música Valenciana.
URL:https://historico.ateneovalencia.es/evento/ciclo-sobre-musica-m-i-academia-de-la-musica-valenciana-las-obras-para-piano-de-miguel-asins-arbo/
LOCATION:Salón Sorolla - Ateneo Mercantil de Valencia\, Plaza del Ayuntamiento 18\, Valencia\, Valencia\, 46002\, España
CATEGORIES:Ciclo de Música M.I.
ATTACH;FMTTYPE=image/jpeg:https://historico.ateneovalencia.es/wp-content/uploads/2017/10/20171024-Asins_Arbo.jpg
END:VEVENT
END:VCALENDAR