BEGIN:VCALENDAR
VERSION:2.0
PRODID:-//Ateneo Mercantil de Valencia - ECPv6.0.4//NONSGML v1.0//EN
CALSCALE:GREGORIAN
METHOD:PUBLISH
X-ORIGINAL-URL:https://historico.ateneovalencia.es
X-WR-CALDESC:Eventos para Ateneo Mercantil de Valencia
REFRESH-INTERVAL;VALUE=DURATION:PT1H
X-Robots-Tag:noindex
X-PUBLISHED-TTL:PT1H
BEGIN:VTIMEZONE
TZID:Europe/Madrid
BEGIN:DAYLIGHT
TZOFFSETFROM:+0100
TZOFFSETTO:+0200
TZNAME:CEST
DTSTART:20230326T010000
END:DAYLIGHT
BEGIN:STANDARD
TZOFFSETFROM:+0200
TZOFFSETTO:+0100
TZNAME:CET
DTSTART:20231029T010000
END:STANDARD
END:VTIMEZONE
BEGIN:VEVENT
DTSTART;TZID=Europe/Madrid:20230115T190000
DTEND;TZID=Europe/Madrid:20230115T210000
DTSTAMP:20260424T003505
CREATED:20230111T101231Z
LAST-MODIFIED:20230111T101232Z
UID:72636-1673809200-1673816400@historico.ateneovalencia.es
SUMMARY:Homenaje póstumo a Bernardo Adam Ferrero
DESCRIPTION:El Ateneo Mercantil de Valencia acoge el próximo domingo 15 de enero de 2023 a las 19 horas en el Salón de Actos el homenaje a Bernardo Adam que le procesan sus compañeros de la M. I. Academia de la Música Valenciana. El acto empezará con la presentación del Secretario General de la M. I. Academia de Música Valenciana\, D. Amadeo Lloris. Actuará un quinteto de viento de alumnos del Conservatorio Superior de Música de Valencia interpretando obras de Bernardo para esa formación. \nPor su parte\, la laudatio la realizará el presidente de la M. I. Academia de la Música Valenciana\, D. Roberto Loras\, e intervendrán distintas personalidades\, miembros de honor y académicos correspondientes de la Academia\, bien en persona o por vídeo. \nAdemás\, actuará el dúo flauta-piano\, Joaquín Gericó-Sonia Sifres\, Rector de la Academia y Miembro de Número de ella\, con obras de Bernardo. Actuará el conjunto "Mare Nosstrum"\, grupo de viento de 16 componentes\, que fundó y dirigió Bernardo muchos años\, llevándolos por todo el mundo\, también con obras de él. Cerrará el acto\, su hijo\, Bernardo Adam Llagües\, con palabras de agradecimiento al público asistente y que ha colaborado en el homenaje a Bernardo Adam. \nHomenaje póstumo a Bernardo Adam Ferrero\nEl compositor valenciano y director de orquesta falleció el pasado mes de octubre de 2022. El también locutor de radio\, natural de la localidad valenciana de Algemesí\, fue el autor del himno en recuerdo a las víctimas valencianas de la Covid-19. \nBernardo Adam Ferrero nació en la localidad valenciana de Algemesí. Estrenó sus obras en las principales salas sinfónicas europeas y americanas\, y fue distinguido con numerosos premios nacionales e internacionales. El Ayuntamiento de Algemesí reconoció su trayectoria artística con el Galardón 2002 y la Federación de Sociedades Musicales de la Comunidad Valenciana le concedió el Premio Euterpe 2003 a la composición musical. \nEs\, por otro lado\, académico de la Real Academia de Bellas Artes de San Fernando de Madrid\, rector de la Academia de la Música Valenciana y miembro de Mérito de la Fundación Carlos III. Posee la medalla y encomienda de la Real Orden de San Hermenegildo\, concedida por el rey Juan Carlos I\, y es doctor Honoris Causa por la Universidad de Sídney (Australia). \nHa recibido a lo largo de su larga trayectoria numerosos galardones y distinciones\, como la Orden al Mérito en Nueva York por su contribución al mundo de la música\, la Batuta de Oro de La Habana o la Medalla de Oro del Mid West de Chicago\, y sus obras han sido estrenadas en todo el mundo. \nBernardo Adam ha recibido a lo largo de su larga trayectoria numerosos galardones y distinciones (como la Orden al Mérito en Nueva York por su contribución al mundo de la música\, la Batuta de Oro de La Habana o la Medalla de Oro del Mid West de Chicago)\, y sus obras han sido estrenadas en todo el mundo. \nSe ha labrado también una "excelente reputación" como investigador en el ámbito de la música\, y nunca ha dejado de lado su vocación como divulgador musical y docente. \nCartel:
URL:https://historico.ateneovalencia.es/evento/homenaje-postumo-a-bernardo-adam-ferrero/
LOCATION:Teatro Ateneo
CATEGORIES:Ciclo de Música M.I.
ATTACH;FMTTYPE=image/jpeg:https://historico.ateneovalencia.es/wp-content/uploads/2023/01/20230115-Homenaje-Bernando-Adam-Ferrero.jpg
END:VEVENT
END:VCALENDAR