BEGIN:VCALENDAR
VERSION:2.0
PRODID:-//Ateneo Mercantil de Valencia - ECPv6.0.4//NONSGML v1.0//EN
CALSCALE:GREGORIAN
METHOD:PUBLISH
X-ORIGINAL-URL:https://historico.ateneovalencia.es
X-WR-CALDESC:Eventos para Ateneo Mercantil de Valencia
REFRESH-INTERVAL;VALUE=DURATION:PT1H
X-Robots-Tag:noindex
X-PUBLISHED-TTL:PT1H
BEGIN:VTIMEZONE
TZID:Europe/Madrid
BEGIN:DAYLIGHT
TZOFFSETFROM:+0100
TZOFFSETTO:+0200
TZNAME:CEST
DTSTART:20200329T010000
END:DAYLIGHT
BEGIN:STANDARD
TZOFFSETFROM:+0200
TZOFFSETTO:+0100
TZNAME:CET
DTSTART:20201025T010000
END:STANDARD
END:VTIMEZONE
BEGIN:VEVENT
DTSTART;TZID=Europe/Madrid:20201112T190000
DTEND;TZID=Europe/Madrid:20201112T210000
DTSTAMP:20260423T111421
CREATED:20201013T080753Z
LAST-MODIFIED:20201023T062129Z
UID:60366-1605207600-1605214800@historico.ateneovalencia.es
SUMMARY:Ciclo M.I Academia de la Música Valenciana: "El gran pianista José Iturbi: 125 aniversario de su nacimiento"
DESCRIPTION:La segunda conferencia del Ciclo M. I. Academia de la Música Valenciana llega bajo el título "El gran pianista José Iturbi: 125 aniversario de su nacimiento" dentro del ciclo de Grandes Pianistas Valencianos que se va a realizar en el Ateneo Mercantil de Valencia. \n  \n \nEl conferenciante es el Presidente de la Muy Ilustre Academia de la Música Valenciana\, el pianista\, compositor y docente. Profesor jubilado de Contrapunto y Armonía del Conservatorio Superior de Música de Valencia\, el Prof. Dr. Roberto Loras Villalonga.  \n  \n  \nLa conferencia será una biografía detallada\, que incluye anécdotas\, de Iturbi\, complementada con pequeñas reseñas de una serie de grandes pianistas valencianos\, anteriores\, contemporáneos y posteriores a Iturbi. Fue el primer valenciano que triunfó en Hollywood. Iturbi nunca tuvo miedo al éxito. Pronto destacó como un genio musical\, se formó en París\, Bilbao\, Ginebra\, de nuevo París y\, finalmente\, en Estados Unidos. El periplo internacional del pianista fue imparable. Al otro lado del charco se puso al frente de formaciones como la propia Orquesta Iturbi\, que él mismo fundó\, la Filarmónica de Nueva York\, la Orquesta de Filadelfia\, la Orquesta Sinfónica de Chicago y la Orquesta Filarmónica de Rochester. \nLa Metro Goldwin Mayer le contrató para ponerle música\, y alma\, a aquellas comedias mudas que comenzaban a triunfar en los años 40. ‘Levando anclas’\, ‘Holiday in México’\, ‘Sweethearts’\, ‘Three daring daughters’\, ‘That Midnight Kiss’ y ‘Thousands Cheer’ le encumbraron en el olimpo hollywoodiense como el pianista imprescindible. Allí\, obtuvo dos discos de oro por vender un millón de copias\, nada más ni nada menos\, de ‘La polonesa’ de Chopin y ‘Claro de luna’ de Debussy. Ya se sabe\, los genios siempre interpretan a los genios. No se pierdan esta conferencia. \nCartel:\n \n 
URL:https://historico.ateneovalencia.es/evento/ciclo-m-i-academia-de-la-musica-valenciana-el-gran-pianista-jose-iturbi-125-aniversario-de-su-nacimiento/
LOCATION:Salón Stolz - Ateneo Mercantil de Valencia\, Plaza del Ayuntamiento\, 18\, Valencia\, España\, Valencia\, Valencia\, 46002\, España
CATEGORIES:Ciclo de Música M.I.
ATTACH;FMTTYPE=image/jpeg:https://historico.ateneovalencia.es/wp-content/uploads/2020/10/20201112-MI-Musica-Valenciana-Jose-Iturbi.jpg
END:VEVENT
BEGIN:VEVENT
DTSTART;TZID=Europe/Madrid:20201119T190000
DTEND;TZID=Europe/Madrid:20201119T203000
DTSTAMP:20260423T111421
CREATED:20201021T105033Z
LAST-MODIFIED:20201118T150550Z
UID:60532-1605812400-1605817800@historico.ateneovalencia.es
SUMMARY:"Vida y obra de Eduardo López-Chavarri Marco en el 50 aniversario de su defunción: Su contribución a la música pianística y orquestal en el siglo XX"
DESCRIPTION:El próximo jueves 19 de noviembre a las 19 horas en el Salón Stolz llega la tercera de las conferencias del Ciclo Grandes Pianistas Valencianos que organiza la Muy Ilustre Academia de la Música Valenciana en colaboración con el Ateneo Mercantil de Valencia. En esta ocasión se desgranará la vida y obras de un polifacético artista valenciano como es Eduardo López-Chavarri Marco. Doctor en Derecho\, músico (compositor\, director de orquesta\, pianista\, musicólogo)\, periodista\, corresponsal de guerra\, crítico de arte y música\, traductor\, docente\, escritor\, ilustrador\, ensayista\, conferenciante\, etc. Una figura clave en el impulso y desarrollo de la vida cultural valenciana. \nLa conferencia la darán dos especialistas que conocen a la perfección la figura de López-Chavarri: \n\nDra. Mónica Orengo Miret\, catedrática de piano\n\n\n \n  \n  \n  \n  \n\nD. Vicente Martínez Alpuente\, director de orquesta.\n\n \n  \n  \n  \n  \n  \nEduardo López-Chavarri Marco fue una persona con una gran capacidad intelectual\, fue un indagador de cualquier disciplina relacionada con el conocimiento y el arte. De él se remarca su importante preparación cultural y el contacto continuo que mantuvo con grandes personalidades y las nuevas corrientes estéticas europeas a lo largo de toda su vida. En la conferencia nos ocuparemos de la relevancia del piano en la creación musical del maestro\, centrándonos en su integral pianística\, formada por las composiciones completas y originales. También se comentará su obra orquestal. \n  \nCartel:
URL:https://historico.ateneovalencia.es/evento/vida-y-obra-de-eduardo-lopez-chavarri-marco-en-el-50-aniversario-de-s-defuncion-su-contribucion-a-la-musica-pianistica-y-orquestal-en-el-siglo-xx/
LOCATION:Salón Stolz - Ateneo Mercantil de Valencia\, Plaza del Ayuntamiento\, 18\, Valencia\, España\, Valencia\, Valencia\, 46002\, España
CATEGORIES:Ciclo de Música M.I.
ATTACH;FMTTYPE=image/jpeg:https://historico.ateneovalencia.es/wp-content/uploads/2020/10/20201119-MI-Musica-Eduardo-López-Chavarri.jpg
END:VEVENT
END:VCALENDAR