BEGIN:VCALENDAR
VERSION:2.0
PRODID:-//Ateneo Mercantil de Valencia - ECPv6.0.4//NONSGML v1.0//EN
CALSCALE:GREGORIAN
METHOD:PUBLISH
X-WR-CALNAME:Ateneo Mercantil de Valencia
X-ORIGINAL-URL:https://historico.ateneovalencia.es
X-WR-CALDESC:Eventos para Ateneo Mercantil de Valencia
REFRESH-INTERVAL;VALUE=DURATION:PT1H
X-Robots-Tag:noindex
X-PUBLISHED-TTL:PT1H
BEGIN:VTIMEZONE
TZID:Europe/Madrid
BEGIN:DAYLIGHT
TZOFFSETFROM:+0100
TZOFFSETTO:+0200
TZNAME:CEST
DTSTART:20250330T010000
END:DAYLIGHT
BEGIN:STANDARD
TZOFFSETFROM:+0200
TZOFFSETTO:+0100
TZNAME:CET
DTSTART:20251026T010000
END:STANDARD
END:VTIMEZONE
BEGIN:VEVENT
DTSTART;TZID=Europe/Madrid:20250423T190000
DTEND;TZID=Europe/Madrid:20250423T203000
DTSTAMP:20260424T142439
CREATED:20250408T173944Z
LAST-MODIFIED:20250415T120808Z
UID:83559-1745434800-1745440200@historico.ateneovalencia.es
SUMMARY:Del guerrero lobo al sátiro. La domesticación del guerrero Berserker
DESCRIPTION:La figura del guerrero en trance\, temido y reverenciado\, ha recorrido distintas culturas indoeuropeas desde tiempos remotos: desde los temibles berserker de la tradición nórdica hasta los héroes épicos como Diomedes o Héctor en la Ilíada\, o el cambiaformas irlandés Cúchulainn. ¿Qué hay detrás de estos combatientes furiosos que rozan lo divino? \nEnlace para el Online: https://youtu.be/-O11ffT7Hk8\nLa divulgadora helenista\, Reyes Bertolín Cebrián —profesora\, doctora en Lingüística Indo-Europea y filóloga— nos invita a un fascinante recorrido por la evolución de estos personajes míticos: del guerrero lobo al sátiro\, de la furia a la domesticación. \n🗓 Miércoles 23 de abril | 19:00 h📍 Teatro Ateneo \n🆓 Entrada libre y gratuita hasta completar aforo \nUna cita imprescindible para amantes de la mitología\, la historia antigua y la cultura indoeuropea. \nCurrículum abreviado de Reyes Bertolín:\nFormación Académica: \n\n\nDoctorado en Lingüística Indo-Europea (1994)\, Universidad de Freiburg\, Alemania. \n\n\nLicenciaturas en Filología Clásica (1990) y Filología Anglo-germánica (1994)\, Universidad de Valencia. \n\n\nEstancia postdoctoral en la Universidad Masaryk\, Brno\, República Checa (1994–1995). \n\n\nTrayectoria Académica: \n\n\nCatedrática del Departamento de Estudios Clásicos y Religiosos\, Universidad de Calgary (2021). \n\n\nProfesora titular y docente en Calgary desde 1996 hasta su jubilación en 2022. \n\n\nProfesora emérita y voluntaria en educación de adultos en Valencia. \n\n\nAfiliación: \n\n\nSociedad Española de Estudios Clásicos\, Comunidad Valenciana. \n\n\nPublicaciones Destacadas: \nLibros: \n\n\nThe Athlete in the Ancient Greek World (Oklahoma UP\, 2020) \n\n\nComic Epic and Parodies of Epic (Georg Olms\, 2008) \n\n\nSinging the Dead. A Model for Epic Evolution (Peter Lang\, 2006) \n\n\nDie Verben des Denkens bei Homer (Innsbruck\, 1996) \n\n\nArtículos y capítulos (Selección reciente): \n\n\n“El engaño de los paisajes utópicos en la Odisea”\, Fortunatae\, 2024 \n\n\n“Diomedes y Héctor: guerreros furiosos en la Ilíada”\, Revista de Estudios Clásicos\, 2024 \n\n\nEntrada “athletics\, Greek”\, The Oxford Classical Dictionary\, 2023 \n\n\n“Galeno entrenador”\, Materiales para el Estudio de la Historia del Deporte\, 2023 \n\n\n“Aquiles en el exilio”\, Studia Philologica Valentina\, 2023 \n\n\nOtras contribuciones: \n\n\nMás de 30 artículos académicos y 20 entradas en la Cambridge Guide to Classical Civilization \n\n\nInvestigaciones sobre deporte\, épica\, ideología indoeuropea y mujeres en la Antigüedad. \n\n\nCartel:
URL:https://historico.ateneovalencia.es/evento/del-guerrero-lobo-al-satiro-la-domesticacion-del-guerrero-berserker/
LOCATION:Teatro Ateneo
CATEGORIES:Ciclo de Conferencias
ATTACH;FMTTYPE=image/jpeg:https://historico.ateneovalencia.es/wp-content/uploads/2025/04/20250423-Guerreros-Reyes-Bertolin-1.jpg
END:VEVENT
END:VCALENDAR