BEGIN:VCALENDAR
VERSION:2.0
PRODID:-//Ateneo Mercantil de Valencia - ECPv6.0.4//NONSGML v1.0//EN
CALSCALE:GREGORIAN
METHOD:PUBLISH
X-ORIGINAL-URL:https://historico.ateneovalencia.es
X-WR-CALDESC:Eventos para Ateneo Mercantil de Valencia
REFRESH-INTERVAL;VALUE=DURATION:PT1H
X-Robots-Tag:noindex
X-PUBLISHED-TTL:PT1H
BEGIN:VTIMEZONE
TZID:Europe/Madrid
BEGIN:DAYLIGHT
TZOFFSETFROM:+0100
TZOFFSETTO:+0200
TZNAME:CEST
DTSTART:20250330T010000
END:DAYLIGHT
BEGIN:STANDARD
TZOFFSETFROM:+0200
TZOFFSETTO:+0100
TZNAME:CET
DTSTART:20251026T010000
END:STANDARD
END:VTIMEZONE
BEGIN:VEVENT
DTSTART;TZID=Europe/Madrid:20250109T183000
DTEND;TZID=Europe/Madrid:20250109T200000
DTSTAMP:20260425T032949
CREATED:20241007T112250Z
LAST-MODIFIED:20250102T122410Z
UID:81733-1736447400-1736452800@historico.ateneovalencia.es
SUMMARY:Diálogos sobre el Fin de ETA... entre Jesús de la Morena y Pablo Muñoz
DESCRIPTION:El Ateneo Mercantil de Valencia organiza la conferencia Diálogos sobre el Fin de ETA entre dos grandes protagonistas como fueron D. Jesús de la Morena\, Comisario General de Información del CNP (1996-2004) y D. Pablo Muñoz\, periodista especializado en Interior\, Terrorismo\, Crimen Organizado y Sucesos. Un diálogo entre un protagonista indiscutible y un testigo cercano\, que está basado en el libro El patio trasero de ETA de la editorial Almuzara. Presenta el acto D. Pedro Morenés Eulate\, Secretario de Estado de Seguridad (2000-2002) y Ministro de Defensa (2011-2016). \nEnlace para el Online: https://youtu.be/oRMbWn560Qo\nUn conferencia donde se hablará de las investigaciones que desmantelaron las estructuras logísticas y financieras de ETA\, con testimonios que participaron en la lucha antiterrorista y se analizarán las estrategias empleadas para identificar y neutralizar las células de apoyo a la organización. \nETA no se reducía a las pistolas. Ese enfoque de la lucha contra el terrorismo\, hoy indiscutible\, no estaba tan claro en 1996 y\, sin embargo\, fue decisivo para colapsar y bloquear el entramado etarra\, que hasta entonces le servía de apoyo y regeneración constante. Un puñado de policías de la Comisaría General de Información (organismos centrales y brigadas del País Vasco y Navarra) pusieron en marcha esa estrategia junto al magistrado Baltasar Garzón y al fiscal Enrique Molina\, ambos de la Audiencia Nacional. \nEsta es la crónica de aquellos años en los que\, partiendo del «patio trasero»\, se llegó a golpear la cabeza y la columna vertebral de la organización como nunca hasta entonces. Este trabajo\, junto con el de la Guardia Civil\, el CNI\, todos los Gobiernos\, las víctimas y la sociedad en su conjunto\, logró la derrota final del terror. \nTítulo: Diálogos sobre el Fin de ETA entre un protagonista indiscutible y un testigo cercano \nConferenciantes: Jesús de la Morena\, Comisario General de Información del Cuerpo Nacional de Policía entre 1996 y 2004\, y Pablo Muñoz\, periodista especializado en Interior\, Terrorismo\, Crimen Organizado y Sucesos. \nPresenta: D. Pedro Morenés Eulate\, Secretario de Estado de Seguridad (2000-2002) y Ministro de Defensa (2011-2016). \nDía: Jueves\, 9 de enero de 2025 \nHora: 18.30 horas \nLugar: Teatro Ateneo \nEntrada libre y gratuita hasta completar aforo. \nCartel:
URL:https://historico.ateneovalencia.es/evento/dialogos-sobre-el-fin-de-eta-entre-jesus-de-la-morena-y-pablo-munoz/
LOCATION:Teatro Ateneo
CATEGORIES:Ciclo de Conferencias
ATTACH;FMTTYPE=image/jpeg:https://historico.ateneovalencia.es/wp-content/uploads/2024/10/20241113-Dialogos-Fin-de-ETA-1.jpg
END:VEVENT
END:VCALENDAR