BEGIN:VCALENDAR
VERSION:2.0
PRODID:-//Ateneo Mercantil de Valencia - ECPv6.0.4//NONSGML v1.0//EN
CALSCALE:GREGORIAN
METHOD:PUBLISH
X-WR-CALNAME:Ateneo Mercantil de Valencia
X-ORIGINAL-URL:https://historico.ateneovalencia.es
X-WR-CALDESC:Eventos para Ateneo Mercantil de Valencia
REFRESH-INTERVAL;VALUE=DURATION:PT1H
X-Robots-Tag:noindex
X-PUBLISHED-TTL:PT1H
BEGIN:VTIMEZONE
TZID:Europe/Madrid
BEGIN:DAYLIGHT
TZOFFSETFROM:+0100
TZOFFSETTO:+0200
TZNAME:CEST
DTSTART:20250330T010000
END:DAYLIGHT
BEGIN:STANDARD
TZOFFSETFROM:+0200
TZOFFSETTO:+0100
TZNAME:CET
DTSTART:20251026T010000
END:STANDARD
END:VTIMEZONE
BEGIN:VEVENT
DTSTART;TZID=Europe/Madrid:20250603T190000
DTEND;TZID=Europe/Madrid:20250603T203000
DTSTAMP:20260424T063723
CREATED:20250425T130536Z
LAST-MODIFIED:20250427T164805Z
UID:83737-1748977200-1748982600@historico.ateneovalencia.es
SUMMARY:Leopoldo Querol Roso\, una vida al piano (1899–1985)
DESCRIPTION:El Ateneo Mercantil tiene el placer de invitarle a esta conferencia dedicada a una de las figuras más brillantes del piano español del siglo XX: Leopoldo Querol Roso. Formado en Valencia y París\, donde recibió los consejos de Milhaud\, Poulenc y Ravel\, Querol desarrolló una trayectoria musical extraordinaria. Fue el primer pianista en grabar la integral de Iberia de Albéniz y estrenó más de 30 conciertos para piano\, consolidándose como un referente en el panorama musical de su época. Una cita imprescindible para los amantes de la música y de la historia cultural de nuestro país. ¡Te esperamos! \n📅 Martes 3 de junio · 19 h📍 Salón Sorolla · Entrada libre hasta completar aforo \nLeopoldo Querol Roso\, una vida al piano (1899–1985)🗣️ A cargo de: Mario Masó Agut \nCartel:
URL:https://historico.ateneovalencia.es/evento/leopoldo-querol-roso-una-vida-al-piano-1899-1985/
LOCATION:Salón Sorolla - Ateneo Mercantil de Valencia\, Plaza del Ayuntamiento 18\, Valencia\, Valencia\, 46002\, España
CATEGORIES:Ciclo de Conferencias
ATTACH;FMTTYPE=image/jpeg:https://historico.ateneovalencia.es/wp-content/uploads/2025/04/20250603-Leopoldo-Querol.jpg
END:VEVENT
BEGIN:VEVENT
DTSTART;TZID=Europe/Madrid:20250609T190000
DTEND;TZID=Europe/Madrid:20250609T203000
DTSTAMP:20260424T063723
CREATED:20250410T103500Z
LAST-MODIFIED:20250410T103503Z
UID:83582-1749495600-1749501000@historico.ateneovalencia.es
SUMMARY:"El modelo social en Europa: Retos\, velocidades y potencialidades"
DESCRIPTION:El Ateneo Mercantil organiza la conferencia "El modelo Social en Europa: Retos\, velocidades y potencialidades"\, que será impartida por la profesora Carmen Salcedo Beltrán\, Catedrática de Derecho del Trabajo y de la Seguridad Social y Miembro del Comité Europeo de Derechos Sociales (Consejo de Europa). \nEnlace para el Online:\nDesde 2008\, Europa se enfrenta a una serie de crisis que han puesto a prueba sus pilares fundamentales: la democracia\, los derechos humanos y el Estado de Derecho. En esta conferencia se abordarán los distintos enfoques del Consejo de Europa y de la Unión Europea ante estos desafíos sociales\, así como el papel clave de la Carta Social Europea —reconocida desde hace una década como la Constitución Social de Europa— y los estándares de garantía del Comité Europeo de Derechos Sociales\, encargado de supervisar su cumplimiento. \n🗓 Lunes 9 de junio de 2025🕖 19 horas📍 Teatro Ateneo - Ateneo Mercantil de Valencia🎟 Entrada libre y gratuita \nUna oportunidad única para reflexionar sobre el presente y el futuro del modelo social europeo. ¡Te esperamos! \nCurrículum abreviado de Mª Carmen Salcedo Beltrán:\nCatedrática de Derecho del Trabajo y Seguridad Social de la Universidad de Valencia. Miembro del Comité Europeo de Derechos Sociales (Consejo de Europa) y Consultora Experta Internacional Consejo de Europa (Servicio de la Carta Social Europea). Directora del Grupo de Investigación Internacional de la Universidad de Valencia 'Derechos Humanos y Carta Social Europea'. Directora de la revista científica Lex Social\, Revista de los Derechos Sociales. Realización de estancias en otras Universidades con la finalidad de estudiar el Derecho laboral internacional (Université de París X (Francia)\, University of Columbia (New York)\, Università di Bologna (Italia)\, Collège de France(Paris) y Università de Karlova (Praga). \nAutora de más 200 publicaciones (monografías\, capítulos de libros\, artículos científicos en revistas nacionales y extranjeras). Dirección y participación en proyectos de investigación y desarrollo del Ministerio de Educación y de diversas Consellerías. Ponente en numerosos Congresos\, Jornadas\, seminarios nacionales e internacionales\, en particular\,  en los últimos años con referencia a la difusión de la Carta Social Europea\, la jurisprudencia del Comité Europeo de Derechos Sociales y su implementación en los tribunales en eventos organizados por instituciones\, organizaciones\, colegios profesionales\, etc. \nCartel:
URL:https://historico.ateneovalencia.es/evento/el-modelo-social-en-europa-retos-velocidades-y-potencialidades/
LOCATION:Teatro Ateneo
CATEGORIES:Ciclo de Conferencias
ATTACH;FMTTYPE=image/jpeg:https://historico.ateneovalencia.es/wp-content/uploads/2025/04/20250609-Modelo-Social-Europa-Carmen-Salcedo.jpg
END:VEVENT
BEGIN:VEVENT
DTSTART;TZID=Europe/Madrid:20250610T190000
DTEND;TZID=Europe/Madrid:20250610T203000
DTSTAMP:20260424T063723
CREATED:20250424T170242Z
LAST-MODIFIED:20250424T170530Z
UID:83711-1749582000-1749587400@historico.ateneovalencia.es
SUMMARY:Magia en el Antiguo Egipto
DESCRIPTION:El Ateneo Mercantil de Valencia organiza esta fascinante conferencia online donde exploraremos los misterios y creencias del Egipto faraónico de la mano del escritor\, divulgador\, y experto en el mundo del Antiguo Egipto\, Javier Arries. Entra al canal de YouTube del Ateneo Mercantil de Valencia el próximo martes 10 de junio a las 19 horas y déjate llevar por la magia del Antiguo Egipto. \n🔗 Enlace para el Online:\nÚnete a este viaje a través del tiempo hasta las riberas del Nilo\, donde la magia no solo impregnaba la vida diaria\, sino que era considerada una herramienta fundamental del poder del faraón. Conoceremos a los sacerdotes lectores\, guardianes de los sortilegios y rituales\, descubriremos el uso de amuletos\, encantamientos para sanar\, maldiciones contra enemigos\, y ceremonias que pretendían revelar el futuro o contactar con los difuntos. Un universo fascinante de creencias que\, sorprendentemente\, aún pervive en la actualidad. \n📢 Conferencia Online y gratuita 🎥 Canal de YouTube del Ateneo Mercantil de Valencia🗓 Martes 10 de junio de 2025🕖 19:00 horas \nCurrículum abreviado de Javier Arries:\nLicenciado en Ciencias Físicas por la Universidad Complutense de Madrid\, programador de sistemas\, profesor\, y apasionado egiptólogo\, Javier Arries ha profundizado en los secretos de la civilización del Nilo a través de estudios en la UNED y su constante labor como investigador y conferenciante. Autor del libro "Magia en el Antiguo Egipto"\, nos invita a descubrir una cosmovisión en la que la magia era mucho más que superstición: era poder\, religión y ciencia. \nCartel:\n \n 
URL:https://historico.ateneovalencia.es/evento/magia-en-el-antiguo-egipto-javier-arries/
LOCATION:On line
CATEGORIES:Ciclo de Conferencias
ATTACH;FMTTYPE=image/jpeg:https://historico.ateneovalencia.es/wp-content/uploads/2025/04/20250610-Javier-Arries-Magia-Egipto.jpg
END:VEVENT
BEGIN:VEVENT
DTSTART;TZID=Europe/Madrid:20250610T190000
DTEND;TZID=Europe/Madrid:20250610T203000
DTSTAMP:20260424T063723
CREATED:20250518T183410Z
LAST-MODIFIED:20250518T183412Z
UID:83948-1749582000-1749587400@historico.ateneovalencia.es
SUMMARY:Ciclo Edificios Emblemáticos de Valencia: Real Parroquia de los Santos Juanes de Valencia
DESCRIPTION:La Fundación del Ateneo Mercantil de la Comunidad Valenciana organiza una nueva conferencia del primer ciclo "Edificios Emblemáticos de Valencia" y en esta ocasión dedicada a uno de los templos más representativos del patrimonio artístico e histórico valenciano: La Iglesia de los Santos Juanes. \nLa conferencia será impartida por la Prof. Dra. Pilar Roig Pinazo\, profesora emérita del Departamento de Conservación y Restauración de Bienes Culturales e investigadora del Instituto Universitario de Restauración de la Universidad Politécnica de Valencia\, quien ha liderado durante décadas la restauración de este monumento barroco\, cuyas raíces góticas se remontan a 1240. \nSituada en el corazón del centro histórico de València\, la Real Parroquia de los Santos Juanes ha sido testigo del devenir de la ciudad a lo largo de siglos\, desde su origen sobre una antigua mezquita hasta su actual configuración barroca. Entre sus joyas arquitectónicas destacan la "O de Sant Joan"\, su imponente nave\, el retablo de la Virgen del Rosario\, y la singular veleta conocida como “el pardal de Sant Joan”. \nLa restauración de la iglesia\, próxima a su culminación\, no solo ha sido un reto técnico y artístico\, sino también una obra profundamente personal para la Dra. Roig\, quien continúa el legado de su padre\, el también restaurador Luis Roig. \nEsta será una oportunidad única para conocer de cerca el proceso de recuperación de los frescos de Antonio Palomino\, profundamente dañados durante la Guerra Civil\, y redescubrir la historia y el arte que guarda este templo\, símbolo de la resiliencia cultural de València. \n- Conferencia: "Real Parroquia de los Santos Juanes de Valencia"- Martes\, 10 de junio- 19:00 horas- Salón Sorolla – Ateneo Mercantil de Valencia(Plaza del Ayuntamiento\, 18 – Entrada libre y gratuita) \nEntrada libre hasta completar aforo. \nBreve currículum de Pilar Roig:\nPilar Roig Picazo (Valencia\, 1949) es catedrática e investigadora del Departamento de Conservación y Restauración de Bienes Culturales de la Universidad Politécnica de Valencia\, y forma parte del Instituto Universitario de Restauración del Patrimonio. En 2015 fue nombrada Académica de Número de la Real Academia de Bellas Artes de San Carlos\, en la sección de Pintura\, Grabado y Dibujo. \nSe formó en la Escuela Superior de Bellas Artes y amplió estudios en Italia con una beca de la Fundación Juan March y del Ministerio de Asuntos Exteriores. Fue vicerrectora de Extensión e Imagen Universitaria entre 1986 y 1989. Su tesis doctoral\, defendida en 1987\, profundiza en el estudio técnico y estilístico de una obra atribuida a Luis Dalmau. \nHa dirigido más de 35 tesis doctorales y es autora de numerosas publicaciones científicas. Destaca a nivel internacional por haber liderado la recuperación de once iglesias excavadas en la roca en Lalibela (Etiopía). En València\, ha dirigido intervenciones de referencia como la restauración de la cúpula de la Basílica de la Virgen de los Desamparados (Premio Europa Nostra 2006)\, las bóvedas de la iglesia de San Nicolás y\, desde 2003\, la recuperación de la iglesia de los Santos Juanes. \nCartel:
URL:https://historico.ateneovalencia.es/evento/ciclo-edificios-emblematicos-de-valencia-real-parroquia-de-los-santos-juanes-de-valencia/
LOCATION:Salón Sorolla - Ateneo Mercantil de Valencia\, Plaza del Ayuntamiento 18\, Valencia\, Valencia\, 46002\, España
CATEGORIES:Ciclo Edificios emblemáticos de Valencia
ATTACH;FMTTYPE=image/jpeg:https://historico.ateneovalencia.es/wp-content/uploads/2025/05/20220224-Santos-Juanes-Arquitectura.jpg
END:VEVENT
BEGIN:VEVENT
DTSTART;TZID=Europe/Madrid:20250611T190000
DTEND;TZID=Europe/Madrid:20250611T203000
DTSTAMP:20260424T063723
CREATED:20250405T072121Z
LAST-MODIFIED:20250405T072138Z
UID:83511-1749668400-1749673800@historico.ateneovalencia.es
SUMMARY:"Bob Fosse: Un referente del cine y el musical"
DESCRIPTION:El Ateneo Mercantil de Valencia organiza una nueva conferencia sobre cine y en esta ocasión nos van a traer una figura clave en el cine y en los musicales. Bob Fosse fue mucho más que un brillante bailarín y coreógrafo: creó un estilo único que lleva su nombre\, imitado hasta la saciedad. Sus musicales siguen vivos y reponiéndose más de 60 años después de su estreno. \nEn esta conferencia repasaremos su trayectoria\, desde los grandes éxitos de Broadway hasta su incursión en el cine. Nos detendremos especialmente en sus obras más emblemáticas: Sweet Charity\, Cabaret\, Chicago y All That Jazz\, su película autobiográfica. \n¡No te lo pierdas! \n📅 Miércoles 11 de junio de 2025🕖 19:00 horas📍 Teatro Ateneo🎟️ Entrada libre y gratuita hasta completar aforo \n📣 A cargo de Paco Dolz \nAmante del cine\, el teatro\, la música y el musical. Creador del portal Love4musicals.com\, donde publica desde hace más de quince años sus crónicas y análisis. En su canal de YouTube\, Love4musicals\, comparte programas dedicados al cine y al teatro musical. \nCartel:
URL:https://historico.ateneovalencia.es/evento/bob-fosse-un-referente-del-cine-y-el-musical/
LOCATION:Teatro Ateneo
CATEGORIES:Ciclo de Conferencias
ATTACH;FMTTYPE=image/jpeg:https://historico.ateneovalencia.es/wp-content/uploads/2025/04/20250611-Cine-Bob-Fosse.jpg
END:VEVENT
BEGIN:VEVENT
DTSTART;TZID=Europe/Madrid:20250616T190000
DTEND;TZID=Europe/Madrid:20250616T203000
DTSTAMP:20260424T063723
CREATED:20250519T172555Z
LAST-MODIFIED:20250519T172555Z
UID:83960-1750100400-1750105800@historico.ateneovalencia.es
SUMMARY:La Lanza de Cristo. Tras la huella de la Pasión
DESCRIPTION:Regresa el Ciclo Grandes Enigmas de la Humanidad al Ateneo Mercantil de Valencia con una nueva conferencia que supondrá el regreso hasta nuestra institución del viajero y divulgador\, Luis Tobajas. En esta ocasión nos guiará por un viaje tras la huella de una de las reliquias más enigmáticas del cristianismo y uno de los símbolos de la Pasión de Cristo\, la lanza que atravesó el costado de Jesucristo. \nEnlace para el Online:\n\nAcompáñanos en un fascinante recorrido por los rincones del mundo en busca de uno de los objetos más misteriosos de la historia: la Lanza del Destino\, la misma que el centurión Longinos clavó en el costado de Jesús durante la crucifixión. \nUna reliquia que ha obsesionado a emperadores\, cruzados y dictadores a lo largo de los siglos —desde Constantino y Carlomagno\, hasta Hitler— y cuya historia nos lleva desde Viena hasta Israel\, pasando por Armenia\, París y Roma. \nLuis Tobajas nos guiará en esta apasionante travesía donde historia\, fe\, leyenda y poder se entrelazan en la búsqueda de la Lanza Sagrada de la Pasión. No te pierdas esta nueva cita con los grandes enigmas de la humanidad. \n- Ciclo Grandes Enigmas de la Humanidad- Teatro Ateneo – 3ª planta del Ateneo Mercantil de Valencia- Lunes\, 16 de junio de 2025- 19:00 h- Entrada libre y gratuita hasta completar aforo \nCartel:
URL:https://historico.ateneovalencia.es/evento/la-lanza-de-cristo-tras-la-huella-de-la-pasion/
LOCATION:Teatro Ateneo
CATEGORIES:Ciclo de Conferencias
ATTACH;FMTTYPE=image/jpeg:https://historico.ateneovalencia.es/wp-content/uploads/2025/05/20250616-Lanza-de-Cristo-Tobajas.jpg
END:VEVENT
BEGIN:VEVENT
DTSTART;TZID=Europe/Madrid:20250618T190000
DTEND;TZID=Europe/Madrid:20250618T203000
DTSTAMP:20260424T063723
CREATED:20250519T213842Z
LAST-MODIFIED:20250519T213843Z
UID:83964-1750273200-1750278600@historico.ateneovalencia.es
SUMMARY:Descendemos del mono... o de los ¿gusanos?
DESCRIPTION:El Ateneo Mercantil de Valencia organiza una nueva cita con la ciencia y el conocimiento\, de la mano de uno de los divulgadores científicos más reconocidos de España: Manuel Toharia Cortés. \nEnlace para el Online:\nEn esta conferencia\, Toharia explorará cómo se originó la vida en la Tierra y de qué manera\, millones de años después\, surgió la biodiversidad actual. Gracias a la teoría de la evolución de Darwin y Wallace\, hoy entendemos que los seres humanos compartimos ancestros recientes con los primates… pero si retrocedemos aún más en el tiempo\, descubrimos ancestros comunes con gusanos anfibios y bacterias marinas. \nUn recorrido apasionante por la historia de la vida y su lenta pero imparable evolución\, desde los orígenes más simples hasta el ser humano. Una mirada fascinante a los orígenes de la vida y la evolución. Una charla amena\, rigurosa y reveladora. Ciencia para todos los públicos. ¡No faltes! \n- Conferencia: Descendemos del mono... o de los ¿gusanos?- Miércoles 18 de junio | 🕖 19:00 h- Teatro Ateneo (3ª planta) · Ateneo Mercantil de Valencia - Plaza del Ayuntamiento\, 18 · Valencia- Entrada libre hasta completar aforo \nCurrículum abreviado de Manuel Toharia:\nLicenciado en Ciencias Físicas por la Universidad Complutense de Madrid (especialidad en Física del cosmos)\, Manuel Toharia ha desarrollado una dilatada carrera como divulgador\, periodista científico y director de museos. Fue durante años el popular “hombre del tiempo” en TVE\, además de creador y presentador de programas como Alcores\, Última Frontera o Viva la Ciencia. También fue director del Museo de las Ciencias Príncipe Felipe y del complejo Ciudad de las Artes y las Ciencias de Valencia. \nPromotor de revistas como Muy Interesante y Conocer\, ha publicado numerosos libros de divulgación y colabora activamente con medios como RNE y Cadena SER. Ha sido galardonado con premios como la Medalla de Honor al Fomento de la Invención y el Premio Prisma Especial del Jurado. \nCartel:
URL:https://historico.ateneovalencia.es/evento/descendemos-del-mono-o-de-los-gusanos/
LOCATION:Teatro Ateneo
CATEGORIES:Ciclo de Conferencias
ATTACH;FMTTYPE=image/jpeg:https://historico.ateneovalencia.es/wp-content/uploads/2025/05/20250618-Descendemos-Mono-Gusano-Toharia.jpg
END:VEVENT
BEGIN:VEVENT
DTSTART;TZID=Europe/Madrid:20250624T190000
DTEND;TZID=Europe/Madrid:20250624T203000
DTSTAMP:20260424T063723
CREATED:20250518T081100Z
LAST-MODIFIED:20250518T081101Z
UID:83940-1750791600-1750797000@historico.ateneovalencia.es
SUMMARY:La Epopeya de Gilgamesh de Uruk. Un relato para el siglo XXI
DESCRIPTION:El Ateneo Mercantil de Valencia tiene el placer de invitarle a una nueva conferencia online bajo el título “La Epopeya de Gilgamesh de Uruk. Un relato para el siglo XXI”\, que tendrá lugar el próximo martes 24 de junio de 2025 a las 19:00 horas\, retransmitida en directo y de forma gratuita a través del canal de YouTube del Ateneo. \nEnlace para el Online:\nEl Poema de Gilgamés\, considerado el primer relato épico de la historia\, no solo marca el inicio de la literatura universal\, sino que también nos introduce en una profunda reflexión sobre los grandes temas de la humanidad: el poder\, la civilización\, la amistad\, la inmortalidad… A pesar de su antigüedad\, el texto sigue siendo sorprendentemente actual. Nos recuerda que la vida es un viaje hacia el conocimiento y la construcción de lo humano. \nLa conferencia será impartida por el Profesor Bernardo Souvirón Guijo\, escritor\, divulgador y docente especializado en lenguas y cultura clásicas. Con una destacada trayectoria académica y divulgativa\, el profesor Souvirón ha enseñado en la Universidad Complutense\, la UNED y diversos institutos de secundaria\, y ha colaborado con medios como Radio Nacional de España y la revista La Clave. Es autor de numerosos libros de ensayo y divulgación sobre el mundo clásico\, así como galardonado con el Premio Aristóteles de la Fundación Onassis por su trabajo en el Diccionario Griego-Español del CSIC. \nUna oportunidad única para redescubrir el pasado y comprender mejor nuestro presente a través de la literatura más antigua del mundo. \n- La Epopeya de Gilgamesh de Uruk. Un relato para el siglo XXI- Martes\, 24 de junio de 2025- 19:00 horas (CET)- Online - En directo por el canal de YouTube del Ateneo Mercantil de Valencia- Acceso gratuito \nCartel:
URL:https://historico.ateneovalencia.es/evento/la-epopeya-de-gilgamesh-de-uruk-un-relato-para-el-siglo-xxi/
LOCATION:On line
CATEGORIES:Ciclo de Conferencias
ATTACH;FMTTYPE=image/jpeg:https://historico.ateneovalencia.es/wp-content/uploads/2025/05/20250624-Epopeya-de-Gilgamesh.jpg
END:VEVENT
BEGIN:VEVENT
DTSTART;TZID=Europe/Madrid:20250625T190000
DTEND;TZID=Europe/Madrid:20250625T203000
DTSTAMP:20260424T063723
CREATED:20250407T095128Z
LAST-MODIFIED:20250407T100137Z
UID:83524-1750878000-1750883400@historico.ateneovalencia.es
SUMMARY:Steinbeck\, Hemingway y Fitzgerald: Los ecos de la generación perdida
DESCRIPTION:El escritor y crítico de cine Javier Lacomba nos trae una nueva conferencia al Ateneo Mercantil de Valencia en la que nos guiará en un viaje literario a través de los ecos de la Generación Perdida\, su contexto\, sus obsesiones y su vigencia\, con una mirada apasionada y reveladora. \nEnlace para el Online:\nComo un soldado de infantería tras una explosión cercana: perdidos\, desorientados… Así se encontró toda una generación tras el estruendo de la Gran Guerra. Entre las cenizas del conflicto y la antesala de otro aún más devastador\, surgieron voces que supieron captar como nadie el pulso de una época: la desesperanza\, la huida hacia el placer\, el vértigo de vivir. \nJohn Steinbeck\, Ernest Hemingway y F. Scott Fitzgerald fueron mucho más que grandes escritores: fueron testigos lúcidos del colapso de un mundo y cronistas de los sueños rotos de una generación que\, aun perdida\, nunca dejó de buscar sentido. \n📅 Miércoles 25 de junio de 2025🕖 19:00 h📍 Teatro Ateneo🎟 Entrada libre y gratuita \nUna cita imprescindible para quienes aman la literatura y buscan en ella no solo belleza\, sino respuestas. \nCartel:
URL:https://historico.ateneovalencia.es/evento/steinbeck-hemingway-y-fitzgerald-los-ecos-de-la-generacion-perdida/
LOCATION:Teatro Ateneo
CATEGORIES:Ciclo de Conferencias
ATTACH;FMTTYPE=image/jpeg:https://historico.ateneovalencia.es/wp-content/uploads/2025/04/20250622-Steinbeck-Hemingway-Fitzgerald-Javier-Lacomba.jpg
END:VEVENT
BEGIN:VEVENT
DTSTART;TZID=Europe/Madrid:20250626T190000
DTEND;TZID=Europe/Madrid:20250626T203000
DTSTAMP:20260424T063723
CREATED:20250519T225535Z
LAST-MODIFIED:20250519T230114Z
UID:83969-1750964400-1750969800@historico.ateneovalencia.es
SUMMARY:La Catedral de Valencia como administrador del Diezmo de la Diócesis
DESCRIPTION:La Fundación del Ateneo Mercantil de la Comunidad Valenciana organiza una nueva conferencia en la que se acercará el entramado económico que regía a la catedral más rica de las enclavadas en los territorios de la antigua Corona de Aragón\, la Catedral de Valencia. \nDesde sus orígenes\, la Catedral de Valencia se configuró como el modelo y madre de iglesias de menor rango dentro de la diócesis. Sus prácticas litúrgicas sirvieron de patrón para toda la provincia eclesiástica\, y su influencia se extendió a través del sistema del diezmo\, canalizando los recursos provenientes de todos los rincones del Reino de Valencia. \nEsta conferencia abordará cómo el cabildo catedralicio organizó una compleja red de administraciones para gestionar estas rentas. Una de ellas\, diner menut\, alcanzaba ingresos que duplicaban el presupuesto anual de la Universidad de Valencia\, ilustrando la relevancia económica y social de la institución eclesiástica en el devenir histórico valenciano. \nConferencia impartida por el Prof. Dr. Francisco Mayordomo García-Chicote\, doctor en Ciencias Económicas y Empresariales por la Universitat de València. \n- Conferencia: La Catedral de Valencia como administrador del Diezmo de la Diócesis-  Jueves\, 26 de junio de 2025 | 19:00 horas- Salón Sorolla (5ª planta)- Ateneo Mercantil de Valencia (Plaza del Ayuntamiento\, 18 – Valencia)- Entrada libre y gratuita hasta completar aforo \nCartel:
URL:https://historico.ateneovalencia.es/evento/la-catedral-de-valencia-como-administrador-del-diezmo-de-la-diocesis/
LOCATION:Salón Sorolla - Ateneo Mercantil de Valencia\, Plaza del Ayuntamiento 18\, Valencia\, Valencia\, 46002\, España
CATEGORIES:Ciclo de Conferencias
ATTACH;FMTTYPE=image/jpeg:https://historico.ateneovalencia.es/wp-content/uploads/2025/05/20250626-Catedral-como-Diezmo.jpg
END:VEVENT
END:VCALENDAR