BEGIN:VCALENDAR
VERSION:2.0
PRODID:-//Ateneo Mercantil de Valencia - ECPv6.0.4//NONSGML v1.0//EN
CALSCALE:GREGORIAN
METHOD:PUBLISH
X-ORIGINAL-URL:https://historico.ateneovalencia.es
X-WR-CALDESC:Eventos para Ateneo Mercantil de Valencia
REFRESH-INTERVAL;VALUE=DURATION:PT1H
X-Robots-Tag:noindex
X-PUBLISHED-TTL:PT1H
BEGIN:VTIMEZONE
TZID:Europe/Madrid
BEGIN:DAYLIGHT
TZOFFSETFROM:+0100
TZOFFSETTO:+0200
TZNAME:CEST
DTSTART:20240331T010000
END:DAYLIGHT
BEGIN:STANDARD
TZOFFSETFROM:+0200
TZOFFSETTO:+0100
TZNAME:CET
DTSTART:20241027T010000
END:STANDARD
END:VTIMEZONE
BEGIN:VEVENT
DTSTART;TZID=Europe/Madrid:20241111T190000
DTEND;TZID=Europe/Madrid:20241111T203000
DTSTAMP:20260425T020714
CREATED:20241107T125347Z
LAST-MODIFIED:20241107T132257Z
UID:82111-1731351600-1731357000@historico.ateneovalencia.es
SUMMARY:El Titanic Español. El naufragio del 'Príncipe de Asturias'
DESCRIPTION:Cinco de marzo de 1916\, 4.15 horas: tras un violento impacto\, el 'Príncipe de Asturias'\, un imponente trasatlántico español de 140 metros de eslora\, se hunde en poco más de cinco minutos frente a la isla de Ilhabela\, en la costa de Brasil. Según fuentes oficiales\, murieron 447 personas y sobrevivieron 147. Pero la cifra real de víctimas podría ascender a más de un millar: a bordo viajaban muchos polizones que huían de la Primera Guerra Mundial. \nEnlace para el Online: https://youtu.be/ZcnVXYtb7Pg\nLa magnitud de la catástrofe convertiría a este 'Titanic español' en uno de los mayores ataúdes náuticos de la historia de la humanidad. Españoles\, argentinos e italianos\, entre otros\, lloraron a sus muertos. En poco más de cien años después\, la tragedia del 'Príncipe de Asturias' ha quedado sepultada en el olvido\, pese a que quedan muchos interrogantes por resolver. \n¿Por qué se acercó tanto y tan peligrosamente a la costa brasileña? ¿Qué pasó con el gran cargamento de oro que llevaba en las bodegas? ¿Su capitán se suicidó? ¿La brújula del barco sufrió una alteración a causa de los fuertes campos magnéticos de Ilhabela? ¿Acaso influyó la 'maldición' de las estatuas de bronce que llevaba a bordo? \nEl periodista hispano-brasileño\, Pablo Villarrubia Mauso\, realizó una expedición al lugar de la tragedia del 'Titanic español' en Brasil para desvelar éstos y otros misterios que rodean el naufragio y nos la contará en nuestro Canal de Youtube. \nBreve currículum de Pablo Villarrubia:\nPablo Villarrubia Mauso es periodista\, doctor en Ciencias de la Información por la Universidad Complutense de Madrid y\, desde 2006\, forma parte del equipo del programa Cuarto Milenio. En São Paulo (Brasil)\, su tierra natal\, fundó a los 16 años el Grupo de Investigações de Fenômenos Extraterrestres (GIFET) para investigar casos de ovnis\, misterios arqueológicos y parapsicológicos. El interés por estos temas le llevaron a viajar por más de 40 países para escribir artículos\, libros y realizar documentales para televisión. \nEn España colabora actualmente con las revistas La Aventura de la Historia\, Historia y Vida y Muy Historia\, y tiempo atrás con Espacio y Tiempo\, Enigmas del hombre y del universo\, Año Cero\, y Más Allá de la Ciencia. Ha organizado varias expediciones por Iberoamérica para buscar ciudades perdidas —como la del misterioso manuscrito 512 de la Amazonía— o paran investigar las urbes de los antiguos mayas de Centroamérica. \nTambién ha indagado en casos clásicos en el ámbito de la ufología mundial como el de los gigantes de Voronezh (Rusia\, 1989)\, la abducción de Antonio Villas-Boas (Brasil\, 1957) o la de Frank Fontaine (Francia\, 1977)\, y ha descubierto numerosos casos de ovnis inéditos en América\, África y Europa. \nEs autor de la tesis doctoral Periodismo y arqueología en España\, y de libros como Brasil Insólito\, Un viaje mágico por los misterios de América\, El fantástico reino del Preste Juan\, 1916: el Titanic español\, Rumbo a lo desconocido y Luces de la muerte entre otros. \nTítulo: El Titanic Español. El naufragio del 'Príncipe de Asturias' \nConferenciante: Pablo Villarrubia Mauso. \nDía: Lunes\, 11 de noviembre de 2024 \nHora: 19 horas \nConferencia Online en el Canal de Youtube del Ateneo  \n\nCartel:
URL:https://historico.ateneovalencia.es/evento/el-titanic-espanol-el-naufragio-del-principe-de-asturias/
LOCATION:On line
CATEGORIES:Ciclo de Conferencias
ATTACH;FMTTYPE=image/jpeg:https://historico.ateneovalencia.es/wp-content/uploads/2024/11/20241111-Titanic-Espanol-Pablo-Villarrubia.jpg
END:VEVENT
BEGIN:VEVENT
DTSTART;TZID=Europe/Madrid:20241119T190000
DTEND;TZID=Europe/Madrid:20241119T203000
DTSTAMP:20260425T020714
CREATED:20241002T153021Z
LAST-MODIFIED:20241113T083436Z
UID:81702-1732042800-1732048200@historico.ateneovalencia.es
SUMMARY:Ciclo edificios emblemáticos de Valencia: Iglesia de San Nicolás de Bari
DESCRIPTION:Tercera conferencia del Ciclo Edificios Emblemáticos de Valencia que organiza la Fundación del Ateneo Mercantil de la CV y que en esta ocasión nos trae la Iglesia de San Nicolás de Bari de Valencia\, que fue recientemente restaurada\, saliendo a la luz una muestra pictórica que los expertos han denominado como la ‘Capilla Sixtina' valenciana. \nEnlace para ver Online: https://youtu.be/44H7_4zzFzI\nEs una de las primeras doce parroquias cristianas de la ciudad de València tras la reconquista de Jaume I en 1238. Erigida como parroquia hacia 1242\, fue reformada a iniciativa de la familia Borja en estilo gótico entre 1419 y 1455 contrayéndose la bóveda gótica de crucería en la nave central. Entre 1690 y 1693 se recubrió el interior con decoración barroca y pinturas al fresco de escenas de la vida de San Nicolás de Bari y de San Pedro Mártir\, diseñadas por Antonio Palomino y pintadas por Dionís Vidal. \nTítulo: Iglesia de San Nicolás de Bari \nConferenciante: Prof. D. Carlos Campos González. Arquitecto. Profesor de Proyectos Arquitectónicos ETS Arquitectura de Valencia. Académico de número de la Academia de Bellas Artes de San Carlos de Valencia. \nDía: Martes\, 19 de noviembre de 2024 \nHora: 19 horas \nLugar: Salón Sorolla  \nEntrada libre y gratuita hasta completar aforo \nCartel:
URL:https://historico.ateneovalencia.es/evento/ciclo-edificios-emblematicos-de-valencia-iglesia-de-san-nicolas-de-bari/
LOCATION:Salón Sorolla - Ateneo Mercantil de Valencia\, Plaza del Ayuntamiento 18\, Valencia\, Valencia\, 46002\, España
CATEGORIES:Ciclo Edificios emblemáticos de Valencia,Fundación A.M. C.V.
ATTACH;FMTTYPE=image/jpeg:https://historico.ateneovalencia.es/wp-content/uploads/2024/10/20241119-Edificios-emblematicos-San-Nicolas-de-Bari.jpg
END:VEVENT
BEGIN:VEVENT
DTSTART;TZID=Europe/Madrid:20241120T190000
DTEND;TZID=Europe/Madrid:20241120T203000
DTSTAMP:20260425T020714
CREATED:20241003T081213Z
LAST-MODIFIED:20241106T134308Z
UID:81706-1732129200-1732134600@historico.ateneovalencia.es
SUMMARY:Everest. La primera llegada valenciana a la cima del mundo - Se visualizará un documental inédito de la ascensión
DESCRIPTION:La gesta de la expedición valenciana al Everest fue todo un elogio al trabajo en equipo y a la solidaridad. Los dos alpinistas que hicieron cumbre Rafael Vidaurre y Coque Pérez\, a las 12.30 horas de aquel 6 de octubre de 1991\, ascendieron los 8.848 metros de altura de la cima del mundo. La expedición se completó con Juan Carlos Gómez\, Joan Grifoll\, Javier Botella\, Moisés García\, la médico Victoria Amigó y el periodista Paco López. \nAl final de la conferencia se visualizará un documental inédito (23 min.) que recoge toda la ascensión de la expedición valenciana a la cima del Everest. \nEnlace para ver el Online: https://youtu.be/xep4DRYhmiE\nSubir al Everest en 1991 no es lo mismo que subirlo en 2024. La tecnología era distinta\, la afluencia era mucho menor y hace 33 años sólo el intentar ascender a la cima del mundo era para los elegidos. Sólo para dar un paso necesitas respirar cinco veces. Pese al éxito\, ya que todos regresaron\, la expedición valenciana pasó por momentos de dificultad como la ceguera temporal de Rafael Vidaurre o las frecuentes diarreas y faringitis. \nFueron siete años de espera para que concedieran el permiso para subir. El grupo valenciano lo pidió en 1984 y se lo concedieron en 1991 al considerar que Valencia ya tenía el nivel alpinístico necesario para afrontar una expedición al Everest. \nTítulo: Everest. La primera llegada valenciana a la cima del mundo - Se visualizará un documental inédito de la ascensión \nConferenciantes: Juan Carlos Gómez\, Rafael Vidaurre y Joan Grifoll \nDía: Miércoles\, 20 de noviembre de 2024 \nHora: 19 horas \nLugar: Teatro Ateneo \nEntrada libre y gratuita hasta completar aforo. \nCartel:
URL:https://historico.ateneovalencia.es/evento/everest-la-primera-llegada-valenciana-a-la-cima-del-mundo-se-visualizara-un-documental-inedito-de-la-ascension/
LOCATION:Teatro Ateneo
CATEGORIES:Ciclo de Conferencias
ATTACH;FMTTYPE=image/jpeg:https://historico.ateneovalencia.es/wp-content/uploads/2024/10/20241120-Everest-Expedicion-Valenciana-1.jpg
END:VEVENT
BEGIN:VEVENT
DTSTART;TZID=Europe/Madrid:20241125T190000
DTEND;TZID=Europe/Madrid:20241125T203000
DTSTAMP:20260425T020714
CREATED:20240705T090527Z
LAST-MODIFIED:20241114T103151Z
UID:80738-1732561200-1732566600@historico.ateneovalencia.es
SUMMARY:El cautiverio de Cervantes en Argel: Su historia. La gran desconocida
DESCRIPTION:Begoña Valero ha sido galardonada con el Premio ODILO 2024 a la mejor autora de novela histórica por su obra Un testigo llamado Cervantes. Prestigioso premio que concede la Semana de Novela Histórica de Cartagena. A partir de este libro\, la escritora nos ofrecerá una conferencia en la que desgranará el cautiverio de Cervantes en Argel\, una gran historia y bastante desconocida para el público. \nEnlace para el Online: https://youtu.be/J8vULtAf1Ws\nUn testigo llamado Cervantes narra una insólita historia basada en hechos reales donde el egoísmo\, la envidia y los celos se conjugan ante una justicia que no atiende a razones. Solo la verdadera amistad y el ingenio se aliarán para buscar una justa sentencia. \nEn 1580 desaparece en Valencia Jeroni\, un joven pescador. Dado por muerto\, la detención de los presuntos culpables llevará a Pere de Pax\, un mercader mallorquín\, a averiguar la verdad para intentar salvar a sus amigos de la horca. Durante el proceso criminal\, cuando existe riesgo inminente para la vida de los acusados\, el soldado del tercio Miguel de Cervantes llega a Valencia tras sufrir unos penosos años de cautiverio en Argel. Por circunstancias del destino\, su testimonio será crucial y desencadenará una serie de extraordinarias apuestas que perturbarán la paz de la ciudad. \nTítulo: El cautiverio de Cervantes en Argel: Su historia. La gran desconocida \nConferenciante: Begoña Valero. Escritora. Autora del libro "Un testigo llamado Cervantes" \nDia: Lunes\, 25 de noviembre de 2024 \nHora: 19 horas \nLugar: Teatro Ateneo \nEntrada libre y gratuita hasta completar aforo. \nCurrículum de Begoña Valero:\nBegoña Valero es natural de Banyeres de Mariola (Alicante) y vive en Valencia. Licenciada en Medicina y Cirugía por la Universidad de Valencia\, trabaja en la Generalitat Valenciana. Es autora de El trabajo de los libros (Editorial Denes\, 2012)\, La casa del Compás de Oro (Grijalbo\, 2017) y Un testigo llamado Cervantes (Editorial Sargantana 2024)\, su nueva novela. \nSenadora del Museo de la Imprenta y de las Artes Gráficas de Valencia desde 2018. Desde enero de 2019\, Begoña Valero es miembro de la Red de Escritoras del Mediterráneo. Desde 2020\, pasa a formar parte del equipo administrador del Grupo de Novela Histórica en lengua española más numeroso de Facebook\, que cuenta con más de 64.000 miembros. \nEn 2020 fue jurado del III Premio Nacional de Novela Ateneo Mercantil de Valencia. En 2021 y 2022\, fue jurado del XXXIX y XL Premio Ciudad de Valencia en su modalidad de narrativa en castellano: Premio Vicente Blasco Ibáñez. Desde junio de 2022 es miembro de "Escritores con la Historia". En 2024 ha sido galardonada con el "Premio ODILO a la mejor autora de novela histórica". \nCartel:
URL:https://historico.ateneovalencia.es/evento/el-cautiverio-de-cervantes-en-argel-su-historia-la-gran-desconocida/
LOCATION:Teatro Ateneo
CATEGORIES:Ciclo de Conferencias
ATTACH;FMTTYPE=image/jpeg:https://historico.ateneovalencia.es/wp-content/uploads/2024/07/20241125-Cervantes-Argel-1.jpg
END:VEVENT
BEGIN:VEVENT
DTSTART;TZID=Europe/Madrid:20241127T190000
DTEND;TZID=Europe/Madrid:20241127T203000
DTSTAMP:20260425T020714
CREATED:20241120T173255Z
LAST-MODIFIED:20241125T130202Z
UID:82228-1732734000-1732739400@historico.ateneovalencia.es
SUMMARY:J. R. R. Tolkien. Soldado y escritor
DESCRIPTION:J.R.R. Tolkien\, autor de El Señor de los Anillos y El Hobbit\, vivió de cerca los horrores de la Primera Guerra Mundial\, lo que marcó profundamente su vida y su obra. En 1916\, se unió al ejército británico y participó en la Batalla del Somme\, una de las más devastadoras\, donde enfrentó el frío\, el barro y la tragedia humana. Estas vivencias influyeron en los temas de sus libros\, como la lucha entre el bien y el mal\, el valor en tiempos difíciles y la esperanza ante la adversidad\, reflejando la valentía y el sacrificio que presenció en las trincheras \nEnlace para el Online: https://youtu.be/E6MzK-sf4rw\nTras enfermar de fiebre de las trincheras\, Tolkien fue cuidado por enfermeras\, pero fue especialmente una de ella\, cuya dedicación dejó una huella en él. Una de estas mujeres\, por su serenidad y fortaleza en medio del caos\, le inspiró a crear a Galadriel\, la sabia y compasiva elfa de la Tierra Media. Galadriel\, descrita por Tolkien como "la más grandiosa de las elfas"\, es un símbolo de guía y esperanza\, atributos que Tolkien pudo haber encontrado en aquella enfermera que\, en tiempos oscuros\, mostró humanidad y consuelo. \nTítulo: "J. R. R. Tolkien. Soldado y escritor" \nConferenciante: Dra. Alicia García Herrera. Doctora por la Universidad de Valencia. Escritora. Autora del libro “La Dama Blanca”. \nDía: Miércoles\, 27 de noviembre de 2024 \nHora: 19 horas \nLugar: Teatro Ateneo \nEntrada libre y gratuita hasta completar aforo. \nBreve currículum de Alicia García Herrera:\nAlicia García-Herrera\, doctora por la Universitat de València y máster\, se ha dedicado habitualmente al ámbito de la investigación en ciencias sociales y humanas. Colabora con la sección cultural del diario La Vanguardia y su suplemento\, Revista de Letras; también con las revistas literarias Quimera\, La Retaguardia\, Mercurio y Crátera\, además de ser conferenciante. En 2017 fue la ganadora del primer premio de narrativa de la Dirección General de l'Institut Valencià per les Dones i per la Igualtat de Gènere\, con la obra Calle Progreso 36\, se vende. Es autora de dos ensayos jurídicos y de la obra divulgativa Eso no estaba en mi libro de mitología griega (Almuzara\, 2021). La dama blanca (Plaza & Janés\, 2023)\, sobre el escritor J.R.R. Tolkien\, es su primera novela. \nCartel:
URL:https://historico.ateneovalencia.es/evento/j-r-r-tolkien-soldado-y-escritor/
LOCATION:Teatro Ateneo
CATEGORIES:Ciclo de Conferencias
ATTACH;FMTTYPE=image/jpeg:https://historico.ateneovalencia.es/wp-content/uploads/2024/11/20241127-Tolkien-Galadriel.jpg
END:VEVENT
END:VCALENDAR