BEGIN:VCALENDAR
VERSION:2.0
PRODID:-//Ateneo Mercantil de Valencia - ECPv6.0.4//NONSGML v1.0//EN
CALSCALE:GREGORIAN
METHOD:PUBLISH
X-WR-CALNAME:Ateneo Mercantil de Valencia
X-ORIGINAL-URL:https://historico.ateneovalencia.es
X-WR-CALDESC:Eventos para Ateneo Mercantil de Valencia
REFRESH-INTERVAL;VALUE=DURATION:PT1H
X-Robots-Tag:noindex
X-PUBLISHED-TTL:PT1H
BEGIN:VTIMEZONE
TZID:Europe/Madrid
BEGIN:DAYLIGHT
TZOFFSETFROM:+0100
TZOFFSETTO:+0200
TZNAME:CEST
DTSTART:20240331T010000
END:DAYLIGHT
BEGIN:STANDARD
TZOFFSETFROM:+0200
TZOFFSETTO:+0100
TZNAME:CET
DTSTART:20241027T010000
END:STANDARD
END:VTIMEZONE
BEGIN:VEVENT
DTSTART;TZID=Europe/Madrid:20240502T190000
DTEND;TZID=Europe/Madrid:20240502T203000
DTSTAMP:20260426T001144
CREATED:20240412T075557Z
LAST-MODIFIED:20240412T075558Z
UID:77595-1714676400-1714681800@historico.ateneovalencia.es
SUMMARY:Ciclo Bicentenario de la Policía: "Historia de la Policía Nacional" - Sesión 1
DESCRIPTION:La Jefatura Superior de Policía de Valencia\,  dentro de los actos de celebración del Bicentenario de la Policía Nacional\, ha organizado y programado este ciclo de cinco conferencias en el Ateneo Mercantil de Valencia. La primera de ellas llega el próximo jueves 2 de mayo de 2024 a las 19 horas en el Teatro Ateneo bajo el título "Historia de la Policía Nacional" en la que se tratarán tres puntos: \n\nAntecedentes históricos hasta 1824\nPeriodo hasta 1986\nSingularidades históricas\n\nEl ponente será el Comisario Principal Honorario\, D. José Piris Perpen. \nCartel:\n \n 
URL:https://historico.ateneovalencia.es/evento/ciclo-bicentenario-de-la-policia-historia-de-la-policia-nacional-sesion-1/
LOCATION:Teatro Ateneo
CATEGORIES:Ciclo Bicentenario de la Policía Nacional
ATTACH;FMTTYPE=image/jpeg:https://historico.ateneovalencia.es/wp-content/uploads/2024/04/20240502-Ciclo-Policia-Historia-Policia-Nacional.jpg
END:VEVENT
BEGIN:VEVENT
DTSTART;TZID=Europe/Madrid:20240506T190000
DTEND;TZID=Europe/Madrid:20240506T203000
DTSTAMP:20260426T001144
CREATED:20240322T111100Z
LAST-MODIFIED:20240417T095428Z
UID:76965-1715022000-1715027400@historico.ateneovalencia.es
SUMMARY:La ciudades romanas: el ejemplo de Tarraco
DESCRIPTION:La sociedad romana fue durante la mayor parte de su existencia eminentemente urbana. Las ciudades eran los centros neurálgicos social y económicamente… Ese mundo urbano es lo que todos nosotros conocemos hoy. Los romanos fundaron ciudades\, pero también dejaron en pie muchas poblaciones preexistentes a su conquista. \nEnlace para el Online: https://youtu.be/hVK6xmoiIRY\nNos centraremos en el caso de la gran Tarraco\, la actual Tarragona. Esta antigua ciudad romana se convirtió en una de las más importantes ciudades de Hispania durante el Impero Romano. Su conjunto arqueológico fue declarado en el año 2000 Patrimonio de la Humanidad. Además\, es uno de los asentamientos romanos más antiguos de la Península Ibérica. El Foro Romano\, el Circo\, el Anfiteatro con sus vistas al mar y la muralla romana. La antigua Tarraco\, fundada por los romanos\, conserva gran parte de su esplendor. \nTítulo: La ciudades romanas: el ejemplo de Tarraco \nConferenciante: Cristina Aldana. \nDía: Lunes\, 6 de mayo de 2024 \nHora: 19 horas \nLugar: Teatro Ateneo \nEntrada libre y gratuita hasta completar aforo. \nCartel:
URL:https://historico.ateneovalencia.es/evento/la-ciudades-romanas-el-ejemplo-de-tarraco/
LOCATION:Teatro Ateneo
CATEGORIES:Ciclo de Conferencias
ATTACH;FMTTYPE=image/jpeg:https://historico.ateneovalencia.es/wp-content/uploads/2024/03/20240506-Ciudades-Romanas-Tarraco.jpg
END:VEVENT
BEGIN:VEVENT
DTSTART;TZID=Europe/Madrid:20240507T190000
DTEND;TZID=Europe/Madrid:20240507T203000
DTSTAMP:20260426T001144
CREATED:20240322T131707Z
LAST-MODIFIED:20240418T114724Z
UID:76973-1715108400-1715113800@historico.ateneovalencia.es
SUMMARY:Arqueología de los campos de batalla
DESCRIPTION:La guerra es una de las facetas más constantes y críticas de la actividad humana. La Arqueología ha desarrollado desde hace unas décadas toda una serie de enfoques teóricos y de métodos de trabajo de campo para el estudio de los restos materiales de  la guerra\, desde la Prehistoria a la actualidad. \nEnlace para el Online: https://youtu.be/u71MEwEWYTo\nEn algunos casos\, la ‘Arqueología de los campos de batalla’ es la única fuente que tenemos para documentar acciones pasadas; en otros\, modifica en mucho las fuentes documentales\, ofreciendo nuevas e inéditas perspectivas. Por fin\, en batallas modernas que creemos ya muy bien documentadas\, aporta a menudo la visión del íntima individuo sometido a fuerzas colosales. \nTítulo: Arqueología de los campos de batalla \nConferenciante: Prof. Dr. Fernando Quesada Sanz. Catedrático de Arqueología\, Universidad Autónoma de Madrid. \nDía: Martes\, 7 de mayo de 2024 \nHora: 19horas \nConferencia Online y gratuita por el Canal de Youtube del Ateneo \nCurrículum abreviado de Fernando Quesada Sanz:\nCatedrático de Arqueología en la Universidad Autónoma de Madrid. Director de su Departamento de Prehistoria y Arqueología (2012 y 2020); además de Subdirector entre  2010 y 2012 y otros cargos de gestión. \nEs licenciado por la UAM (1985) y Premio Extraordinario de Licenciatura (1988) en Arqueología\, y también Licenciado (UAM 1989I y Premio Extraordinario en Historia Antigua y Medieval (1991). Es además Premio Extraordinario de Doctorado (1994). \nSus principales líneas de investigación son el análisis de las sociedades del Mediterráneo a través de los conflictos bélicos\, y el de la Cultura Ibérica. Es Patrono de la Fundación Pastor de Estudios Clásicos y Miembro Correspondiente del Instituto Arqueológico Alemán. \nHa recibido distintos premios y distinciones\, entre ellos la Medalla de Honor de la Asociación Española de Amigos de la Arqueología\, el premio Vaccea de la Universidad de Valladolid a la Investigación y Divulgación en Arqueología\, el Premio Hislibris al Mejor Ensayo Histórico en 2010\, Mención especial de los Premios Egabrenses del Año 2015 por el trabajo patrimonial en el ‘Cerro de la Merced’ (Cabra\, Córdoba)\, Premio Honorífico Hiuslibris 2022 por una trayectoria\,  Insignia de Oro de la Asociación de Museos Locales de Córdoba (2023) etc. \nHa dirigido una decena de Tesis Doctorales\, y es Director del Grupo de Investigación consolidado Polemos de la UAM sobre Arqueología e Historia de la Guerra Antigua. \nDe  sus más de quinientas publicaciones académicas y divulgativas\, destacan las dedicadas al estudio de la guerra y el armamento  en la Antigüedad y a la Cultura Ibérica en Andalucía\, donde excava desde 1985. \nCartel:
URL:https://historico.ateneovalencia.es/evento/arqueologia-de-los-campos-de-batalla/
LOCATION:On line
CATEGORIES:Ciclo de Conferencias
ATTACH;FMTTYPE=image/jpeg:https://historico.ateneovalencia.es/wp-content/uploads/2024/03/20240507-Arqueologia-en-Campo-de-Batalla.jpg
END:VEVENT
BEGIN:VEVENT
DTSTART;TZID=Europe/Madrid:20240508T183000
DTEND;TZID=Europe/Madrid:20240508T200000
DTSTAMP:20260426T001144
CREATED:20240321T173215Z
LAST-MODIFIED:20240506T075107Z
UID:76940-1715193000-1715198400@historico.ateneovalencia.es
SUMMARY:La Guerra de Troya: El canto de cisne de dos civilizaciones
DESCRIPTION:Anatolios y griegos se enfrentaron durante 250 años por el control de las rutas comerciales y de los recursos estratégicos. Agotados y sumidos en profunda crisis\, jugaron su última carta en Troya. Su ruina fue su inmortalidad. Una conferencia que llega bajo el título "La Guerra de Troya: el canto de cisno de dos civilizaciones" y el conferenciante será el médico y escritor\, Josep Asensi. \nEnlace para el Online: https://youtu.be/6ZYBS_pLc1w\nSegún la epopeya griega La Ilíada\, el príncipe Paris de Troya secuestró a su enamorada Helena de Grecia\, la mujer más bella del mundo\, y Melenao de Esparta\, su marido\, convocó a los griegos\, que emprendieron la guerra contra los troyanos. Esta guerra fue el encuentro de muchos de los grandes héroes de la antigüedad\, como Aquiles\, Héctor o Áyax. \nTítulo: La Guerra de Troya: El canto de cisne de dos civilizaciones \nConferenciante: Josep Asensi. Médico y escritor. \nDía: Miércoles\, 8 de mayo de 2024 \nHora: 18.30 horas \nLugar: Teatro Ateneo \nEntrada libre y gratuita hasta completar aforo. \nCartel:
URL:https://historico.ateneovalencia.es/evento/la-guerra-de-troya-el-canto-de-cisne-de-dos-civilizaciones/
LOCATION:Teatro Ateneo
CATEGORIES:Ciclo de Conferencias
ATTACH;FMTTYPE=image/jpeg:https://historico.ateneovalencia.es/wp-content/uploads/2024/03/20240508-GUERRA-DE-TROYA.jpg
END:VEVENT
BEGIN:VEVENT
DTSTART;TZID=Europe/Madrid:20240509T190000
DTEND;TZID=Europe/Madrid:20240509T203000
DTSTAMP:20260426T001144
CREATED:20240412T080844Z
LAST-MODIFIED:20240412T080844Z
UID:77600-1715281200-1715286600@historico.ateneovalencia.es
SUMMARY:Ciclo Bicentenario de la Policía: "La Policía Judicial: evolución histórica" - Sesión 2
DESCRIPTION:La Jefatura Superior de Policía de Valencia\,  dentro de los actos de celebración del Bicentenario de la Policía Nacional\, ha organizado y programado este ciclo de cinco conferencias en el Ateneo Mercantil de Valencia. La segunda de ellas llega el próximo jueves 9 de mayo de 2024 a las 19 horas en el Teatro Ateneo bajo el título "La Policía Judicial: evolución histórica". \nEl ponente será el Comisario Principal\, Jefe Provincial de Valencia\, D. Vicente Martínez Guillem. \nCartel:\n \n 
URL:https://historico.ateneovalencia.es/evento/ciclo-bicentenario-de-la-policia-la-policia-judicial-evolucion-historica-sesion-2/
LOCATION:Teatro Ateneo
CATEGORIES:Ciclo Bicentenario de la Policía Nacional
ATTACH;FMTTYPE=image/jpeg:https://historico.ateneovalencia.es/wp-content/uploads/2024/04/20240509-Ciclo-Policia-Policia-Judicial.jpg
END:VEVENT
BEGIN:VEVENT
DTSTART;TZID=Europe/Madrid:20240516T190000
DTEND;TZID=Europe/Madrid:20240516T203000
DTSTAMP:20260426T001144
CREATED:20240412T081419Z
LAST-MODIFIED:20240412T081909Z
UID:77604-1715886000-1715891400@historico.ateneovalencia.es
SUMMARY:Ciclo Bicentenario de la Policía: "Evolución de la Policía Uniformada en el siglo XX" - Sesión 3
DESCRIPTION:La Jefatura Superior de Policía de Valencia\,  dentro de los actos de celebración del Bicentenario de la Policía Nacional\, ha organizado y programado este ciclo de cinco conferencias en el Ateneo Mercantil de Valencia. La tercera de ellas llega el próximo jueves 16 de mayo de 2024 a las 19 horas en el Teatro Ateneo bajo el título "Evolución de la Policía Uniformada en el siglo XX". Con especial referencia al Cuerpo de Seguridad. \nEl ponente será el Comisario Principal Honorario\, D. José Piris Perpen. \nCartel:\n \n 
URL:https://historico.ateneovalencia.es/evento/ciclo-bicentenario-de-la-policia-evolucion-de-la-policia-uniformada-en-el-siglo-xx-sesion-3/
LOCATION:Teatro Ateneo
CATEGORIES:Ciclo Bicentenario de la Policía Nacional
ATTACH;FMTTYPE=image/jpeg:https://historico.ateneovalencia.es/wp-content/uploads/2024/04/20240516-Ciclo-Policia-Policia-Uniformada.jpg
END:VEVENT
BEGIN:VEVENT
DTSTART;TZID=Europe/Madrid:20240520T190000
DTEND;TZID=Europe/Madrid:20240520T203000
DTSTAMP:20260426T001144
CREATED:20240412T115508Z
LAST-MODIFIED:20240502T112755Z
UID:77621-1716231600-1716237000@historico.ateneovalencia.es
SUMMARY:Rivalidad entre Leonardo y Miguel Ángel en tiempos de la primera Mona Lisa
DESCRIPTION:1503\, Dos gigantes del arte coinciden en Florencia: Leonardo da Vinci y Miguel Ángel Buonarroti. Mientras Leonardo pinta La Mona Lisa y el joven Miguel Ángel acaba su David\, son contratados para pintar frente a frente dos enormes murales en el Palacio de la Signoria. La guerra entre amos titanes llegará a límites insospechados. \nEnlace para el Online: https://youtu.be/Y-avaUAqV34\nLa pintura de aquellos dos enormes murales en el salón más emblemático del palacio Vecchio: el Salón de los Quinientos\, fue el cénit de su rivalidad y supondría el mayor duelo artístico de la Historia del Arte\, pues habrían de trabajar el uno contra el otro: Leonardo da Vinci pintaría La batalla de Anghiari; y Miguel Ángel\, justo en la pared de enfrente\, La batalla de Cascina.  \nTítulo: Rivalidad entre Leonardo y Miguel Ángel en tiempos de la primera Mona Lisa \nConferenciante: Dª. María Dolores García. Escritora e investigadora \nDía: Lunes 20 de mayo de 2024 \nHora: 19 horas \nLugar: Teatro Ateneo \nEntrada libre y gratuita hasta completar el aforo. \nCartel:
URL:https://historico.ateneovalencia.es/evento/rivalidad-entre-leonardo-y-miguel-angel-en-tiempos-de-la-primera-mona-lisa/
LOCATION:Teatro Ateneo
CATEGORIES:Ciclo de Conferencias
ATTACH;FMTTYPE=image/jpeg:https://historico.ateneovalencia.es/wp-content/uploads/2024/04/20240520-Leonardo-vs-Miguel-Angel.jpg
END:VEVENT
BEGIN:VEVENT
DTSTART;TZID=Europe/Madrid:20240521T190000
DTEND;TZID=Europe/Madrid:20240521T203000
DTSTAMP:20260426T001144
CREATED:20240412T083444Z
LAST-MODIFIED:20240520T102241Z
UID:77608-1716318000-1716323400@historico.ateneovalencia.es
SUMMARY:Ciclo Bicentenario de la Policía: "El Orden Público en la Policía" - Sesión 4
DESCRIPTION:La Jefatura Superior de Policía de Valencia\,  dentro de los actos de celebración del Bicentenario de la Policía Nacional\, ha organizado y programado este ciclo de cinco conferencias en el Ateneo Mercantil de Valencia. La cuarta de ellas llega el próximo martes 21 de mayo de 2024 a las 19 horas en el Salón Sorolla bajo el título "El Orden Público en la Policía". En la que se desgranarán los antecedentes y\, también\, la evolución histórica. \nEl ponente será el Comisario Principal Honorario\, D. José Piris Perpen. \nCartel:\n \n 
URL:https://historico.ateneovalencia.es/evento/ciclo-bicentenario-de-la-policia-el-orden-publico-en-la-policia-sesion-4/
LOCATION:Salón Sorolla - Ateneo Mercantil de Valencia\, Plaza del Ayuntamiento 18\, Valencia\, Valencia\, 46002\, España
CATEGORIES:Ciclo Bicentenario de la Policía Nacional
ATTACH;FMTTYPE=image/jpeg:https://historico.ateneovalencia.es/wp-content/uploads/2024/04/20240521-Ciclo-Policia-Orden-Publico.jpg
END:VEVENT
BEGIN:VEVENT
DTSTART;TZID=Europe/Madrid:20240522T190000
DTEND;TZID=Europe/Madrid:20240522T203000
DTSTAMP:20260426T001144
CREATED:20240430T120353Z
LAST-MODIFIED:20240514T093526Z
UID:77817-1716404400-1716409800@historico.ateneovalencia.es
SUMMARY:Heródoto. Vida\, obra y pensamiento del primer historiador
DESCRIPTION:La conferencia de Antonio Penadés girará en torno a la figura de Heródoto\, inaugurador de la historiografía. Hablaremos de su vida\, de la educación recibida en Halicarnaso y en ciudades jonias de Asia Menor\, de sus largos viajes por Egipto y Oriente Próximo y de los factores que configuraron su visión del mundo\, siempre abierta y coherente. \nEnlace para el Online: https://youtu.be/RD8zMsVQZQc\nLos interesados por Heródoto\, no pueden perderse la conferencia porque se hablará largo y tendido del sabio griego. De hecho\, Penadés está enamorado del que fue el primer historiador occidental. \nTítulo: Heródoto. Vida\, obra y pensamiento del primer historiador \nConferenciante: Antonio Penadés. Historiador\, periodista y abogado. \nDía: Miércoles 22 de mayo de 2024 \nHora: 19 horas \nLugar: Teatro Ateneo \nEntrada libre y gratuita hasta completar aforo. \nCartel:
URL:https://historico.ateneovalencia.es/evento/herodoto-vida-obra-y-pensamiento-del-primer-historiador/
LOCATION:Teatro Ateneo
CATEGORIES:Ciclo de Conferencias,Ciclo La Grecia Clásica
ATTACH;FMTTYPE=image/jpeg:https://historico.ateneovalencia.es/wp-content/uploads/2024/04/20240522-Herodoto-Penades.jpg
END:VEVENT
BEGIN:VEVENT
DTSTART;TZID=Europe/Madrid:20240527T190000
DTEND;TZID=Europe/Madrid:20240527T203000
DTSTAMP:20260426T001144
CREATED:20240201T103200Z
LAST-MODIFIED:20240514T094352Z
UID:76704-1716836400-1716841800@historico.ateneovalencia.es
SUMMARY:Watergate. El escándalo que acabó con Richard Nixon
DESCRIPTION:Richard Nixon fue elegido presidente en 1969\, hasta que en el año 1974\, dos valientes periodistas\, Woodward y Bernstein\, destaparon el caso Watergate\, un plan de espionaje y escuchas ilegales contra sus rivales del partido demócrata\, y provocaron su dimisión. \nEnlace para el Online: https://youtu.be/ZRYuItWAf90\nLa prensa libre\, como contrapeso del poder absoluto de un presidente fue entonces\, más que nunca\, un verdadero cuarto poder. En su cincuenta aniversario\, este es el relato de una mentira\, y de aquellos que descubrieron la verdad\, cambiando la historia para siempre. \nTítulo: Watergate. El escándalo que acabó con Richard Nixon \nConferenciante: Javier Lacomba. Escritor y crítico de cine \nDía: Lunes\, 27 de mayo de 2024 \nHora: 19 horas \nLugar: Teatro Ateneo \nEntrada libre y gratuita hasta completar aforo. \nCartel:
URL:https://historico.ateneovalencia.es/evento/watergate-el-escandalo-que-acabo-con-richard-nixon/
LOCATION:Teatro Ateneo
CATEGORIES:Ciclo de Conferencias
ATTACH;FMTTYPE=image/jpeg:https://historico.ateneovalencia.es/wp-content/uploads/2024/02/20240527-Watergate-50-anos.jpg
END:VEVENT
BEGIN:VEVENT
DTSTART;TZID=Europe/Madrid:20240528T190000
DTEND;TZID=Europe/Madrid:20240528T203000
DTSTAMP:20260426T001144
CREATED:20240412T085050Z
LAST-MODIFIED:20240412T085527Z
UID:77612-1716922800-1716928200@historico.ateneovalencia.es
SUMMARY:Ciclo Bicentenario de la Policía: "Hitos históricos y futuros de la Policía Científica" - Sesión 5
DESCRIPTION:La Jefatura Superior de Policía de Valencia\,  dentro de los actos de celebración del Bicentenario de la Policía Nacional\, ha organizado y programado este ciclo de cinco conferencias en el Ateneo Mercantil de Valencia. La quinta y última de ellas llega el próximo martes 28 de mayo de 2024 a las 19 horas en el Teatro Ateneo bajo el título "Hitos históricos y futuros de la Policía Científica". \nLos dos ponentes de la conferencia serán el Comisario Jefe - Brigada Policía Científica\, D. Carlos Corrochano Alonso y el Inspector Jefe - Brigada Policía Científica\, D. Estanislao García Moreno. \nCartel:\n \n 
URL:https://historico.ateneovalencia.es/evento/ciclo-bicentenario-de-la-policia-hitos-historicos-y-futuros-de-la-policia-cientifica-sesion-5/
LOCATION:Teatro Ateneo
CATEGORIES:Ciclo Bicentenario de la Policía Nacional
ATTACH;FMTTYPE=image/jpeg:https://historico.ateneovalencia.es/wp-content/uploads/2024/04/20240528-Ciclo-Policia-Policia-Cientifica.jpg
END:VEVENT
BEGIN:VEVENT
DTSTART;TZID=Europe/Madrid:20240529T190000
DTEND;TZID=Europe/Madrid:20240529T203000
DTSTAMP:20260426T001144
CREATED:20240430T084943Z
LAST-MODIFIED:20240520T110025Z
UID:77800-1717009200-1717014600@historico.ateneovalencia.es
SUMMARY:Septimio Severo y las persecuciones cristianas en el Norte de África (202-203 D.C.)
DESCRIPTION:Uno de los debates historiográficos más candentes sobre Septimio Severo es si realmente fue un emperador que persiguió a personas de credo cristiano. La problemática gira en torno a los testimonios de las fuentes literarias y a algunos episodios concretos producidos en el norte de África bajo su principado. \nEnlace para el Online: https://youtu.be/KwEryJv3M2Y\nEn esta conferencia se pretende indagar en dicha problemática analizando los testimonios legados por las fuentes clásicas y teniendo como ejemplo paradigmático el martirio sufrido por Perpetua y Felicidad. \nCon Septimio Severo (193-211)\, fundador de la dinastía siria\, parece anunciarse para el cristianismo una fase de desarrollo sin estorbos. Cristianos ocupan en la corte cargos influyentes. Pero en su décimo año de reinado (202) el emperador cambió radicalmente de actitud. En el 202 aparece un edicto de Septimio Severo\, que conmina graves penas para quien se pase al judaísmo y a la religión cristiana. \nEl cambio repentino del emperador\, solamente se puede comprender pensando que él se dio cuenta de que los cristianos se unían cada vez más estrechamente en una sociedad religiosa universal y organizada\, dotada de una fuerte capacidad íntima de oposición que a él\, por consideraciones de política estatal\, le parecía sospechosa. Sus devastaciones más llamativas las sufrieron la célebre Escuela de Alejandría y las comunidades cristianas de África. \nTítulo: Septimio Severo y las persecuciones cristianas en el Norte de África (202-203 D.C.) \nConferenciante: Prof. Dr. Pedro David Conesa Navarro. \nDía: Miércoles 29 de mayo de 2024 \nHora: 19 horas \nLugar: Teatro Ateneo (3ª planta) \nEntrada libre y gratuita hasta completar aforo. \nCartel:
URL:https://historico.ateneovalencia.es/evento/septimio-severo-y-las-persecuciones-cristianas-en-el-norte-de-africa-202-203-d-c/
LOCATION:Teatro Ateneo
CATEGORIES:Ciclo de Conferencias
ATTACH;FMTTYPE=image/jpeg:https://historico.ateneovalencia.es/wp-content/uploads/2024/04/20240529-Septimio-Severo.jpg
END:VEVENT
END:VCALENDAR