BEGIN:VCALENDAR
VERSION:2.0
PRODID:-//Ateneo Mercantil de Valencia - ECPv6.0.4//NONSGML v1.0//EN
CALSCALE:GREGORIAN
METHOD:PUBLISH
X-WR-CALNAME:Ateneo Mercantil de Valencia
X-ORIGINAL-URL:https://historico.ateneovalencia.es
X-WR-CALDESC:Eventos para Ateneo Mercantil de Valencia
REFRESH-INTERVAL;VALUE=DURATION:PT1H
X-Robots-Tag:noindex
X-PUBLISHED-TTL:PT1H
BEGIN:VTIMEZONE
TZID:Europe/Madrid
BEGIN:DAYLIGHT
TZOFFSETFROM:+0100
TZOFFSETTO:+0200
TZNAME:CEST
DTSTART:20180325T010000
END:DAYLIGHT
BEGIN:STANDARD
TZOFFSETFROM:+0200
TZOFFSETTO:+0100
TZNAME:CET
DTSTART:20181028T010000
END:STANDARD
END:VTIMEZONE
BEGIN:VEVENT
DTSTART;TZID=Europe/Madrid:20180423T190000
DTEND;TZID=Europe/Madrid:20180423T203000
DTSTAMP:20260425T182609
CREATED:20180413T113403Z
LAST-MODIFIED:20180413T113403Z
UID:35195-1524510000-1524515400@historico.ateneovalencia.es
SUMMARY:Ciclo Civilizaciones Europeas: "La UE y su aportación al sistema de valores y el actual proceso de integración de Europa"
DESCRIPTION:El Ciclo Civilizaciones Europeas se despide hasta la vuelta de las vacaciones de verano con la última ponencia del 'curso' que llega bajo el título: "La Unión Europea y su aportación al sistema de valores y el actual proceso de integración de Europa". Una conferencia que correrá a cargo del Catedrático de Derecho Constitucional y Catedrático Jean Monnet “ad personam” de Derecho y Política de la Unión Europea en la Universidad de Valencia\, Dr. D. Antonio Bar Cendón y se realizará en el Salón Sorolla a las 19.00 horas el próximo lunes 23 de abril. \nLa Unión Europea se ha enfrentado en los últimos años a serios problemas que han puesto en duda su viabilidad\, frente a esa situación se han planteado posibles vías por las cuales los países integrantes de la Unión pueden superar las dificultades de la integración. Europa se ha visto golpeada por la crisis global y ha mostrado su vulnerabilidad frente a embates externos de carácter financiero; en ese sentido\, la Unión Europea no se ha visto fortalecida como era el objetivo de su creación. Estas y otras muchas preguntas se resolverán en una interesantes conferencia sobre la Europa del presente y del futuro.
URL:https://historico.ateneovalencia.es/evento/ciclo-civilizaciones-europeas-la-ue-y-su-aportacion-al-sistema-de-valores-y-el-actual-proceso-de-integracion-de-europa/
LOCATION:Salón Sorolla - Ateneo Mercantil de Valencia\, Plaza del Ayuntamiento 18\, Valencia\, Valencia\, 46002\, España
CATEGORIES:Ciclo Civilizaciones Europeas
ATTACH;FMTTYPE=image/jpeg:https://historico.ateneovalencia.es/wp-content/uploads/2018/04/20180423-Civilizaciones-Europeas-UE.jpg
END:VEVENT
END:VCALENDAR