BEGIN:VCALENDAR
VERSION:2.0
PRODID:-//Ateneo Mercantil de Valencia - ECPv6.0.4//NONSGML v1.0//EN
CALSCALE:GREGORIAN
METHOD:PUBLISH
X-WR-CALNAME:Ateneo Mercantil de Valencia
X-ORIGINAL-URL:https://historico.ateneovalencia.es
X-WR-CALDESC:Eventos para Ateneo Mercantil de Valencia
REFRESH-INTERVAL;VALUE=DURATION:PT1H
X-Robots-Tag:noindex
X-PUBLISHED-TTL:PT1H
BEGIN:VTIMEZONE
TZID:Europe/Madrid
BEGIN:DAYLIGHT
TZOFFSETFROM:+0100
TZOFFSETTO:+0200
TZNAME:CEST
DTSTART:20170326T010000
END:DAYLIGHT
BEGIN:STANDARD
TZOFFSETFROM:+0200
TZOFFSETTO:+0100
TZNAME:CET
DTSTART:20171029T010000
END:STANDARD
END:VTIMEZONE
BEGIN:VEVENT
DTSTART;TZID=Europe/Madrid:20171107T173000
DTEND;TZID=Europe/Madrid:20171107T190000
DTSTAMP:20260423T010456
CREATED:20171027T103250Z
LAST-MODIFIED:20171027T103250Z
UID:27181-1510075800-1510081200@historico.ateneovalencia.es
SUMMARY:Ciclo Citas con el Arte en Valencia: "El Patriarca"
DESCRIPTION:El Ciclo Citas con el Arte en Valencia trae en esta ocasión el Colegio del Patriarca San Juan de Ribera. Una conferencia que contará como ponente a D. Amando García\, que es catedrático de Física e Historiador de Arte. El Colegio de El Patriarca fue declarado Monumento Histórico Artístico Nacional en 1962 y Bien de Interés Cultural en 2007. Juan de Ribera fue un obispo plenamente identificado con el ideal de la reforma de la Iglesia tal como tomó cuerpo en el Concilio de Trento. Nació en Sevilla en 1532: estudió Humanidades y Teología en la Universidad de Salamanca; en 1562 fue nombrado obispo de Badajoz; Patriarca de Antioquía en 1568 y poco después Arzobispo de Valencia. \nEste Real Colegio\, conocido entre los valencianos como Colegio del Patriarca\, tuvo como principal misión la formación de sacerdotes según el espíritu y las disposiciones del Concilio de Trento\, tal como recoge el propio fundador en las constituciones\, y se convierte\, por tanto\, en un ejemplo y paradigma de la Contrarreforma en Valencia.
URL:https://historico.ateneovalencia.es/evento/ciclo-citas-con-el-arte-en-valencia-el-patriarca/
LOCATION:Salón Sorolla - Ateneo Mercantil de Valencia\, Plaza del Ayuntamiento 18\, Valencia\, Valencia\, 46002\, España
CATEGORIES:Ciclo Citas con el Arte
ATTACH;FMTTYPE=image/jpeg:https://historico.ateneovalencia.es/wp-content/uploads/2017/10/20171107-El-Patiarca.jpg
END:VEVENT
BEGIN:VEVENT
DTSTART;TZID=Europe/Madrid:20171121T173000
DTEND;TZID=Europe/Madrid:20171121T173000
DTSTAMP:20260423T010456
CREATED:20171108T122029Z
LAST-MODIFIED:20171108T122029Z
UID:27438-1511285400-1511285400@historico.ateneovalencia.es
SUMMARY:Conferencia sobre el Palacio del Marqués de Dos Aguas
DESCRIPTION:El ciclo Citas con el Arte organiza el próximo 21 de noviembre  las 17:30 horas una conferencia sobre el Palacio del Marqués de Dos Aguas\, impartida por el catedrático de Física e Historiador de Arte\, Amando García. \nEl Palacio del Marqués de Dos Aguas fue declarado Monumento Histórico Artístico en 1941. Este palacio de estilo claramente rococó\, estrechamente relacionado con el barroco\, se alza sobre la antigua casa de los Rabassa de Perellós\, titular del marquesado de dos aguas en el año 1740. El edificio se organiza alrededor de un patio y de varias torres en las esquinas.
URL:https://historico.ateneovalencia.es/evento/conferencia-sobre-el-palacio-del-marques-de-dos-aguas/
LOCATION:Salón Sorolla - Ateneo Mercantil de Valencia\, Plaza del Ayuntamiento 18\, Valencia\, Valencia\, 46002\, España
CATEGORIES:Ciclo Citas con el Arte
ATTACH;FMTTYPE=image/jpeg:https://historico.ateneovalencia.es/wp-content/uploads/2017/11/20171121-Ciclo-Citas-Arte-Palacio-Marques-2-Aguas.jpg
END:VEVENT
END:VCALENDAR