BEGIN:VCALENDAR
VERSION:2.0
PRODID:-//Ateneo Mercantil de Valencia - ECPv6.0.4//NONSGML v1.0//EN
CALSCALE:GREGORIAN
METHOD:PUBLISH
X-ORIGINAL-URL:https://historico.ateneovalencia.es
X-WR-CALDESC:Eventos para Ateneo Mercantil de Valencia
REFRESH-INTERVAL;VALUE=DURATION:PT1H
X-Robots-Tag:noindex
X-PUBLISHED-TTL:PT1H
BEGIN:VTIMEZONE
TZID:Europe/Madrid
BEGIN:DAYLIGHT
TZOFFSETFROM:+0100
TZOFFSETTO:+0200
TZNAME:CEST
DTSTART:20160327T010000
END:DAYLIGHT
BEGIN:STANDARD
TZOFFSETFROM:+0200
TZOFFSETTO:+0100
TZNAME:CET
DTSTART:20161030T010000
END:STANDARD
END:VTIMEZONE
BEGIN:VEVENT
DTSTART;TZID=Europe/Madrid:20161013T210000
DTEND;TZID=Europe/Madrid:20161013T230000
DTSTAMP:20260423T125037
CREATED:20161003T060023Z
LAST-MODIFIED:20161010T072404Z
UID:15748-1476392400-1476399600@historico.ateneovalencia.es
SUMMARY:Ciclo Blasco Ibáñez: 2ª sesión de su Obra Periodística
DESCRIPTION:Segunda entrega de Vicente Blasco Ibáñez en su versión periodística\, una tertulia que correrá a cargo de D. Fernando Millán Sánchez\, que es escritos y profesor de Historia y Vicepresidente Primero de la Asociación Blasco Ibáñez. El acto será presentado por el directivo Vicente Bosch. Se completa esta primera visión del escritor valenciano que en la primera reunión dejó pequeño el Sorolla. \nBlasco Ibáñez escribió y dirigió libros y periódicos. Montó negocios editoriales y difundió millones de obras. Vivió y viajó por todo el mundo con la misma intensidad que viajaba y vivía la huerta valenciana. Fue corresponsal de guerra\, promotor de negocios ruinosos y pionero de la nueva industria del cine que alumbró el comienzo del siglo XX. Creador del periódico El Pueblo. Un nuevo diario que asomó por las calles de la ciudad\, con formas muy similares al resto de diarios que ya existían\, pero con una carta de presentación que inmediatamente lo diferenció. El nuevo diario fue voceado por los vendedores de prensa al grito de “¡Ha salido El Pueblo\, la voz de la libertad!”.
URL:https://historico.ateneovalencia.es/evento/ciclo-blasco-ibanez-2a-sesion-de-su-obra-periodistica/
LOCATION:Salón Sorolla - Ateneo Mercantil de Valencia\, Plaza del Ayuntamiento 18\, Valencia\, Valencia\, 46002\, España
CATEGORIES:Ciclo Blasco Ibañez
ATTACH;FMTTYPE=image/jpeg:https://historico.ateneovalencia.es/wp-content/uploads/2016/10/blasco-ibanez2.jpg
END:VEVENT
END:VCALENDAR