BEGIN:VCALENDAR
VERSION:2.0
PRODID:-//Ateneo Mercantil de Valencia - ECPv6.0.4//NONSGML v1.0//EN
CALSCALE:GREGORIAN
METHOD:PUBLISH
X-WR-CALNAME:Ateneo Mercantil de Valencia
X-ORIGINAL-URL:https://historico.ateneovalencia.es
X-WR-CALDESC:Eventos para Ateneo Mercantil de Valencia
REFRESH-INTERVAL;VALUE=DURATION:PT1H
X-Robots-Tag:noindex
X-PUBLISHED-TTL:PT1H
BEGIN:VTIMEZONE
TZID:Europe/Madrid
BEGIN:DAYLIGHT
TZOFFSETFROM:+0100
TZOFFSETTO:+0200
TZNAME:CEST
DTSTART:20160327T010000
END:DAYLIGHT
BEGIN:STANDARD
TZOFFSETFROM:+0200
TZOFFSETTO:+0100
TZNAME:CET
DTSTART:20161030T010000
END:STANDARD
END:VTIMEZONE
BEGIN:VEVENT
DTSTART;TZID=Europe/Madrid:20160217T200000
DTEND;TZID=Europe/Madrid:20160217T220000
DTSTAMP:20260424T044938
CREATED:20160217T180020Z
LAST-MODIFIED:20160907T080554Z
UID:11822-1455739200-1455746400@historico.ateneovalencia.es
SUMMARY:Ciclo de la Obra Literaria de Vicente Blasco Ibáñez
DESCRIPTION:Ciclo dirigido y presentado por D. Fernando Millán Sánchez\, escritor y profesor de Historia.\nSegunda Conferencia: “El triunfo del novelista: La novela valenciana y la novela social”\nVicente Blasco Ibáñez ha sido uno de los novelistas valencianos\, más destacados en la historia. En sus años de juventud se adhirió al movimiento republicano y fue editor del diario antimonárquico El Pueblo.
URL:https://historico.ateneovalencia.es/evento/ciclo-de-la-obra-literaria-de-vicente-blasco-ibanez/
LOCATION:Salón Sorolla - Ateneo Mercantil de Valencia\, Plaza del Ayuntamiento 18\, Valencia\, Valencia\, 46002\, España
CATEGORIES:Ciclo Blasco Ibañez
ATTACH;FMTTYPE=image/jpeg:https://historico.ateneovalencia.es/wp-content/uploads/2016/02/Vicente-Blasco-Ibañez.jpg
END:VEVENT
END:VCALENDAR