BEGIN:VCALENDAR
VERSION:2.0
PRODID:-//Ateneo Mercantil de Valencia - ECPv6.0.4//NONSGML v1.0//EN
CALSCALE:GREGORIAN
METHOD:PUBLISH
X-WR-CALNAME:Ateneo Mercantil de Valencia
X-ORIGINAL-URL:https://historico.ateneovalencia.es
X-WR-CALDESC:Eventos para Ateneo Mercantil de Valencia
REFRESH-INTERVAL;VALUE=DURATION:PT1H
X-Robots-Tag:noindex
X-PUBLISHED-TTL:PT1H
BEGIN:VTIMEZONE
TZID:Europe/Madrid
BEGIN:DAYLIGHT
TZOFFSETFROM:+0100
TZOFFSETTO:+0200
TZNAME:CEST
DTSTART:20240331T010000
END:DAYLIGHT
BEGIN:STANDARD
TZOFFSETFROM:+0200
TZOFFSETTO:+0100
TZNAME:CET
DTSTART:20241027T010000
END:STANDARD
END:VTIMEZONE
BEGIN:VEVENT
DTSTART;TZID=Europe/Madrid:20241112T190000
DTEND;TZID=Europe/Madrid:20241112T203000
DTSTAMP:20260423T065944
CREATED:20241107T133154Z
LAST-MODIFIED:20241107T135134Z
UID:82118-1731438000-1731443400@historico.ateneovalencia.es
SUMMARY:"Historias Sorprendentes del Antiguo Egipto" con Rubén Villalobos
DESCRIPTION:El youtuber ejidense y divulgador histórico especializado en el Antiguo Egipto\, Rubén Villalobos\, nos trae las historias más sorprendentes sobre el Antiguo Egipto. ¿Te has preguntado alguna vez qué chistes se contaban en el antiguo Egipto? ¿Cuáles eran los castigos más crueles impuestos a ladrones\, asesinos y otros delincuentes? ¿Sabías que había momias premium y low cost\, algunas incluso con sorpresa incluida? \nEnlace para el Online: https://youtu.be/WZCXvGG_YIw\nFamosa sobre todo por sus pirámides\, sus grandes templos y sus faraones\, la civilización egipcia oculta aún muchos aspectos desconocidos que fascinan a todos los aficionados a las culturas antiguas. En esta conferencia nos hablará sobre cuestiones curiosas\, sorprendentes y poco conocidas de la vida en el antiguo Egipto que arrojan nueva luz sobre esta enigmática\, maravillosa y\, por supuesto\, increíble civilización. \nBreve currículum del Rubén Villalobos:\nRubén Villalobos (1994) es divulgador histórico especializado en el antiguo Egipto. Como creador de contenido\, se ha convertido en la persona de habla hispana con más seguidores en redes sociales que aborda estos temas\, superando los 800.000 entre todas las plataformas digitales. De formación autodidacta\, a base de trabajo\, constancia y una enorme curiosidad ha conseguido que lo que empezó siendo una pasión para él\, la historia de las antiguas civilizaciones —en particular la egipcia—\, se haya convertido en su profesión. En palabras del autor: "Si juntas misterios e historia\, todos los caminos llevan al antiguo Egipto". \nTítulo: "Historias Sorprendentes del Antiguo Egipto" \nConferenciante: Rubén Villalobos. Divulgador histórico especializado en el antiguo Egipto. Creador de contenido. \nDía: Martes\, 12 de noviembre de 2024 \nHora: 19 horas \nConferencia Online en el Canal del Youtube del Ateneo Mercantil \nCartel:
URL:https://historico.ateneovalencia.es/evento/historias-sorprendentes-del-antiguo-egipto-con-ruben-villalobos/
LOCATION:On line
CATEGORIES:Ciclo Antiguo Egipto
ATTACH;FMTTYPE=image/jpeg:https://historico.ateneovalencia.es/wp-content/uploads/2024/11/20241112-Historias-Sorprendentes-Ruben-Villalobos.jpg
END:VEVENT
END:VCALENDAR