BEGIN:VCALENDAR
VERSION:2.0
PRODID:-//Ateneo Mercantil de Valencia - ECPv6.0.4//NONSGML v1.0//EN
CALSCALE:GREGORIAN
METHOD:PUBLISH
X-ORIGINAL-URL:https://historico.ateneovalencia.es
X-WR-CALDESC:Eventos para Ateneo Mercantil de Valencia
REFRESH-INTERVAL;VALUE=DURATION:PT1H
X-Robots-Tag:noindex
X-PUBLISHED-TTL:PT1H
BEGIN:VTIMEZONE
TZID:Europe/Madrid
BEGIN:DAYLIGHT
TZOFFSETFROM:+0100
TZOFFSETTO:+0200
TZNAME:CEST
DTSTART:20180325T010000
END:DAYLIGHT
BEGIN:STANDARD
TZOFFSETFROM:+0200
TZOFFSETTO:+0100
TZNAME:CET
DTSTART:20181028T010000
END:STANDARD
END:VTIMEZONE
BEGIN:VEVENT
DTSTART;TZID=Europe/Madrid:20180913T193000
DTEND;TZID=Europe/Madrid:20180913T203000
DTSTAMP:20260425T173510
CREATED:20180912T145820Z
LAST-MODIFIED:20180912T145820Z
UID:38053-1536867000-1536870600@historico.ateneovalencia.es
SUMMARY:Aula Las Provincias: Presentación del libro 'Valencia CF 1919-2019. Un siglo de pasión'
DESCRIPTION:Este jueves 13 de septiembre a las 19.30 horas tendrá lugar la presentación del libro 'Valencia CF 1919-2019. Un siglo de pasión' en el Salón de Actos del Ateneo Mercantil de Valencia dentro del Aula LAS PROVINCIAS. Cabe recordar que este acto de valencianismo es totalmente gratuito hasta completar el aforo existente. De este modo se producirá la puesta de largo de un valioso ejemplar que contará con la participación de varios exfutbolistas del club valencianista\, además del periodista Paco Lloret y el jefe de la sección de Deportes de Las Provincias\, Héctor Esteban\, ambos\, autores del volumen. \nEl libro\, que Las Provincias entregará el próximo domingo 16 de septiembre de forma gratuita junto a la primera lámina con las pegatinas adhesivas\, tiene un enorme impacto visual con sus más de 500 imágenes. Un ejemplar que se completará como si fuera un álbum de cromos tradicional y que semana tras semana llenará de imágenes para el recuerdo las 152 páginas de puro valencianismo que integran el libro sobre el centenario del Valencia CF. La entrega de las láminas con las pegatinas se realizará de martes a viernes encartadas de manera gratuita en el ejemplar del diario Las Provincias y habrá un total de 60 entregas hasta completar la colección el viernes 28 de diciembre\, cuando se dará la última lámina. \nCartel:
URL:https://historico.ateneovalencia.es/evento/aula-las-provincias-presentacion-del-libro-valencia-cf-1919-2019-un-siglo-de-pasion/
LOCATION:Teatro Ateneo
CATEGORIES:Aula Las Provincias
ATTACH;FMTTYPE=image/jpeg:https://historico.ateneovalencia.es/wp-content/uploads/2018/09/20180913-Aula-Las-Provincias-Libro-VCF.jpg
END:VEVENT
END:VCALENDAR