BEGIN:VCALENDAR
VERSION:2.0
PRODID:-//Ateneo Mercantil de Valencia - ECPv6.0.4//NONSGML v1.0//EN
CALSCALE:GREGORIAN
METHOD:PUBLISH
X-ORIGINAL-URL:https://historico.ateneovalencia.es
X-WR-CALDESC:Eventos para Ateneo Mercantil de Valencia
REFRESH-INTERVAL;VALUE=DURATION:PT1H
X-Robots-Tag:noindex
X-PUBLISHED-TTL:PT1H
BEGIN:VTIMEZONE
TZID:Europe/Madrid
BEGIN:DAYLIGHT
TZOFFSETFROM:+0100
TZOFFSETTO:+0200
TZNAME:CEST
DTSTART:20180325T010000
END:DAYLIGHT
BEGIN:STANDARD
TZOFFSETFROM:+0200
TZOFFSETTO:+0100
TZNAME:CET
DTSTART:20181028T010000
END:STANDARD
END:VTIMEZONE
BEGIN:VEVENT
DTSTART;TZID=Europe/Madrid:20181017T193000
DTEND;TZID=Europe/Madrid:20181017T213000
DTSTAMP:20260425T143707
CREATED:20181017T121951Z
LAST-MODIFIED:20181017T125116Z
UID:39125-1539804600-1539811800@historico.ateneovalencia.es
SUMMARY:Aulas Las Provincias: El criminólogo Vicente Garrido\, en el Ateneo Mercantil
DESCRIPTION:El próximo miércoles 17 de octubre\, en el Salón Stolz\, a las 19.30 horas\, el psicólogo\, criminólogo\, científico y ahora también escritor de novelas\, Vicente Garrido\, dará una conferencia que llega bajo el título: "La paradoja del mal: ética y estética del crimen en la sociedad digital". Vicente Garrido\, autor del libro "Asesinos multiples y otros depredadores sociales" llega hasta nuestra institución para hablar\, como no podía ser de otra manera\, de la psicología criminal. Recuerda que la entrada es completamente gratuita y libre hasta completar aforo de la sala. \nCartel:
URL:https://historico.ateneovalencia.es/evento/aulas-las-provincias-el-criminologo-vicente-garrido-en-el-ateneo-mercantil/
LOCATION:Salón Stolz - Ateneo Mercantil de Valencia\, Plaza del Ayuntamiento\, 18\, Valencia\, España\, Valencia\, Valencia\, 46002\, España
CATEGORIES:Aula Las Provincias
ATTACH;FMTTYPE=image/jpeg:https://historico.ateneovalencia.es/wp-content/uploads/2018/10/20181017-Aula-Las-Provincias-Vicente-Garrido.jpg
END:VEVENT
END:VCALENDAR