BEGIN:VCALENDAR
VERSION:2.0
PRODID:-//Ateneo Mercantil de Valencia - ECPv6.0.4//NONSGML v1.0//EN
CALSCALE:GREGORIAN
METHOD:PUBLISH
X-WR-CALNAME:Ateneo Mercantil de Valencia
X-ORIGINAL-URL:https://historico.ateneovalencia.es
X-WR-CALDESC:Eventos para Ateneo Mercantil de Valencia
REFRESH-INTERVAL;VALUE=DURATION:PT1H
X-Robots-Tag:noindex
X-PUBLISHED-TTL:PT1H
BEGIN:VTIMEZONE
TZID:Europe/Madrid
BEGIN:DAYLIGHT
TZOFFSETFROM:+0100
TZOFFSETTO:+0200
TZNAME:CEST
DTSTART:20180325T010000
END:DAYLIGHT
BEGIN:STANDARD
TZOFFSETFROM:+0200
TZOFFSETTO:+0100
TZNAME:CET
DTSTART:20181028T010000
END:STANDARD
END:VTIMEZONE
BEGIN:VEVENT
DTSTART;TZID=Europe/Madrid:20180509T193000
DTEND;TZID=Europe/Madrid:20180509T210000
DTSTAMP:20260426T030152
CREATED:20180508T101859Z
LAST-MODIFIED:20180508T102508Z
UID:35835-1525894200-1525899600@historico.ateneovalencia.es
SUMMARY:Aula Las Provincias: La receta del éxito del psicólogo y escritor Rafael Santandreu
DESCRIPTION:El reconocido terapeuta defenderá su receta contra el sufrimiento "perder los miedos\, adquirir pasión por la vida y dejar de quejarse" este próximo miércoles en el Ateneo Mercantil dentro del Aula Las Provicnias. Santandreu dará algunas de las claves como: dejar las preocupaciones\, disfrutar más intensamente de la vida\, no tener complejos\, adquirir el carisma necesario\, desactivar a las personas difíciles o mejorar las relaciones personales\, para alcanzar el éxito y lo hará en el Salón Stolz a partir de las 19.30 horas en una conferencia de entrada libre y gratuita. \nEl psicólogo y escritor Rafael Santandreu (Barcelona\, 1969) tiene un enorme tirón y son muchos los interesados en asistor a la ponencia del reconocido terapeuta. Santandreu disertará para y con los asistentes los puntos más relevantes de sus terapias y de su último libro\, titulado 'Nada es tan terrible'. Después de pasar por la Universidad Ramón Llull como profesor y de actuar como redactor jefe de la revista de psicología Mente Sana\, Santandreu se centra ahora en sus obras y en sus pacientes.
URL:https://historico.ateneovalencia.es/evento/aula-las-provincias-la-receta-del-exito-del-psicologo-y-escritor-rafael-santandreu/
LOCATION:Salón Stolz - Ateneo Mercantil de Valencia\, Plaza del Ayuntamiento\, 18\, Valencia\, España\, Valencia\, Valencia\, 46002\, España
CATEGORIES:Aula Las Provincias
ATTACH;FMTTYPE=image/jpeg:https://historico.ateneovalencia.es/wp-content/uploads/2018/05/20180509-Aula-Las-Provincias-Rafael-Santandreu.jpg
END:VEVENT
END:VCALENDAR