BEGIN:VCALENDAR
VERSION:2.0
PRODID:-//Ateneo Mercantil de Valencia - ECPv6.0.4//NONSGML v1.0//EN
CALSCALE:GREGORIAN
METHOD:PUBLISH
X-ORIGINAL-URL:https://historico.ateneovalencia.es
X-WR-CALDESC:Eventos para Ateneo Mercantil de Valencia
REFRESH-INTERVAL;VALUE=DURATION:PT1H
X-Robots-Tag:noindex
X-PUBLISHED-TTL:PT1H
BEGIN:VTIMEZONE
TZID:Europe/Madrid
BEGIN:DAYLIGHT
TZOFFSETFROM:+0100
TZOFFSETTO:+0200
TZNAME:CEST
DTSTART:20240331T010000
END:DAYLIGHT
BEGIN:STANDARD
TZOFFSETFROM:+0200
TZOFFSETTO:+0100
TZNAME:CET
DTSTART:20241027T010000
END:STANDARD
END:VTIMEZONE
BEGIN:VEVENT
DTSTART;TZID=Europe/Madrid:20240402T190000
DTEND;TZID=Europe/Madrid:20240402T203000
DTSTAMP:20260421T181018
CREATED:20240215T174321Z
LAST-MODIFIED:20240326T093913Z
UID:76827-1712084400-1712089800@historico.ateneovalencia.es
SUMMARY:El enigmático Pitágoras
DESCRIPTION:La conferencia\, dado que es un tema muy amplio y ciertamente controvertido\, se centrará en los aspectos más característicos de Pitágoras\, que fue el primero en llamarse a sí mismo filósofo y que configuró en torno a su persona y a sus enseñanzas toda una forma de concebir el universo\, la ciencia y el ser humano que tendría una influencia indiscutible en el mundo occidental posterior. \nEnlace para el Online: https://youtu.be/hzw9UJ0x_nM\nSu misticismo\, plasmado en un régimen de vida estricto\, sus sociedades mistéricas\, su relación con la medicina\, la música\, la política y el mundo femenino nos muestran a un personaje extraordinario\, conocido por testimonios de sus seguidores\, de otros filósofos y de autores bastante tardíos\, pues  no se conservan escritos de él. \nTítulo: El enigmático Pitágoras \nConferenciante: María Dolores Muñoz Fernández. Helenista y divulgadora del Mundo Clásico. \nDía: Martes\, 2 de abril de 2024 \nHora: 19 horas \nLugar: Conferencia Online - Canal de Youtube al Ateneo  \nCartel:
URL:https://historico.ateneovalencia.es/evento/el-enigmatico-pitagoras/
LOCATION:On line
CATEGORIES:Ciclo de Conferencias
ATTACH;FMTTYPE=image/jpeg:https://historico.ateneovalencia.es/wp-content/uploads/2024/02/20240402-Enigmatico-Pitagoras-1.jpg
END:VEVENT
BEGIN:VEVENT
DTSTART;TZID=Europe/Madrid:20240403T190000
DTEND;TZID=Europe/Madrid:20240403T203000
DTSTAMP:20260421T181018
CREATED:20240124T105409Z
LAST-MODIFIED:20240326T100432Z
UID:76497-1712170800-1712176200@historico.ateneovalencia.es
SUMMARY:El primer excavador de Pompeya: Joaquín de Alcubierre
DESCRIPTION:Roque Joaquín de Alcubierre nació un 16 de agosto de 1702. Fue ingeniero militar durante el siglo XVIII y fue el descubridor de las ciudades romanas de Pompeya\, Estabia y Herculano (Italia). Fue una auténtica revolución en la Arqueología\, ya que\, hasta ese momento\, solo servía para engrosar las colecciones de antigüedades. También descubriría otros restos en Capri\, Cumas o Pozzuoli. \nEnlace para el Online: https://youtu.be/Q6MNJXv9OJQ\nUna conferencia que se realiza con el firme propósito de rescatar la memoria y legado de Alcubierre\, quien es considerado uno de los precursores de la arqueología moderna\, ya que fue un revolucionario para su tiempo\, incorporando principios de excavación\, conservación\, restauración y difusión que aún hoy son pilares de las intervenciones arqueológicas. Pero\, a pesar de sus significativos descubrimientos\, su nombre fue desafortunadamente olvidado debido a las críticas de su época. \nTítulo: El primer excavador de Pompeya: Joaquín de Alcubierre \nConferenciante: Dra. Mª Engracia Muñoz-Santos. Doctora en Arqueología clásica. Investigadora y divulgadora científica. Asesora histórica. \nDía: Miércoles\, 3 de abril de 2024 \nHora: 19 horas \nLugar: Teatro Ateneo (3ª planta) \nEntrada libre y gratuita hasta completar aforo. \nBreve currículum de María Engracia Muñoz-Santos:\nMaría Engracia Muñoz-Santos es arqueóloga\, historiadora y divulgadora de historia antigua. Ha cursado el Máster en Mediterráneo Antiguo y es doctora en Arqueología Clásica en la Universidad de Valencia. Ha participado en diversas excavaciones arqueológicas e imparte clases en el Centro de Estudios del Próximo Oriente y la Antigüedad Tardía de la Universidad de Murcia y en el Centro de Estudios Artísticos Elba. \nEn 2017 publicó su primer libro\, Animales en la Harena (Editorial Confluencias)\, como parte de su investigación sobre el papel de los animales en la vida cotidiana de la Antigua Roma. A nivel de divulgación ha creado el blog Arqueología en mi jardín\, ha publicado diversos artículos en revistas como Historia National Geographic y Revista de Historia\, y forma parte del proyecto Arqueólogas e historiadoras. Mujeres que también hacen ciencia e hicieron historia. \nCartel:
URL:https://historico.ateneovalencia.es/evento/el-primer-excavador-de-pompeya-joaquin-de-alcubierre/
LOCATION:Teatro Ateneo
CATEGORIES:Ciclo de Conferencias
ATTACH;FMTTYPE=image/jpeg:https://historico.ateneovalencia.es/wp-content/uploads/2024/01/20240402-Joaquin-de-Alcubierre-Pompeya.jpg
END:VEVENT
BEGIN:VEVENT
DTSTART;TZID=Europe/Madrid:20240409T190000
DTEND;TZID=Europe/Madrid:20240409T203000
DTSTAMP:20260421T181018
CREATED:20240322T102717Z
LAST-MODIFIED:20240402T081154Z
UID:76950-1712689200-1712694600@historico.ateneovalencia.es
SUMMARY:Los números en la Antigüedad y el descubrimiento de los números ibéricos
DESCRIPTION:Las cifras y las letras nacieron juntas\, cada civilización importante desarrolló su propio  sistema\, algunas se perdieron para siempre y otras traspasaron sus fronteras siendo adoptadas y adaptadas por otros pueblos para su uso. \nEnlace para el Online: https://youtu.be/w7_nGVIpuNU\nLos íberos de los cuales ya conocemos su escritura\, también sabíamos que tenían números \, pero ha sido recientemente cuando hemos desvelado el misterio de sus valores. \nTítulo: Los números en la Antigüedad y el descubrimiento de los números ibéricos \nConferenciante: José Vicente Montes Novella \nDía: Martes\, 9 de abril de 2024 \nHora: 19 horas \nLugar: Teatro Ateneo \nEntrada libre y gratuita hasta completar aforo. \nCurrículum abreviado de José Vicente Montes Novella:\nJosé Vicente Montes Novella. Barrio Arroyo (Requena) Valencia. Ingeniero Industrial por la UNED y la UPV. Licenciatura en Historia por la UNED. Formación adicional: Curso Monográfico de Prehistoria y Arqueología\, los Pueblos Ibéricos por la UNED\, Cartagena. IX Coloquio Internacional de Lenguas Prerrománicas de la Península Ibérica. \nCreador y promotor en la UNED\, Valencia\, de la asignatura de libre elección. Conferencia dada en la UNED sobre "Escritura Ibérica un enigma por descifrar". Sobre la aparición de la escritura su desarrollo y llegada a la península ibérica y el estado actual de la investigación en este tema. \nArtículos publicados: Los números simbólicos ibéricos\, Arse 54\,2020; Los números simbólicos ibéricos II \, Arse 56\, 2022; Fusayola inédita de Liria \, ELEA 21 \, (pendiente publicación); Ánfora esgrafiada en Bolvax\, Cieza\, colaborador con Joaquín Salmerón (pendiente de publicar). \nFundador del grupo de Facebook\, Lengua y epigrafía prerromana de la península ibérica con actualmente 3000 seguidores donde periódicamente publico divulgación sobre epigrafía peninsular. \nCartel:\n \n 
URL:https://historico.ateneovalencia.es/evento/los-numeros-en-la-antiguedad-y-el-descubrimiento-de-los-numeros-ibericos/
LOCATION:Teatro Ateneo
CATEGORIES:Ciclo de Conferencias
ATTACH;FMTTYPE=image/jpeg:https://historico.ateneovalencia.es/wp-content/uploads/2024/03/20240409-Escritura-Antigua-e-Iberica.jpg
END:VEVENT
BEGIN:VEVENT
DTSTART;TZID=Europe/Madrid:20240416T173000
DTEND;TZID=Europe/Madrid:20240416T190000
DTSTAMP:20260421T181018
CREATED:20240205T133043Z
LAST-MODIFIED:20240403T085427Z
UID:76728-1713288600-1713294000@historico.ateneovalencia.es
SUMMARY:Grandes Maestros de la Pintura Universal: Siglo XVII | Sesión 3
DESCRIPTION:El Ateneo Mercantil de Valencia prosigue con sus conferencias sobre arte y en esta ocasión se pone en marcha un ciclo sobre los grandes maestros de la Pintura Universal. En esta tercera sesión nos centraremos en el siglo XVII. De nuevo D. Amando García nos ilustrará desgranando los mejores pintores de la historia y lo hará con su magnífica forma de entender el arte. \nEnlace para el Online: https://youtu.be/dbAB7dYyc9E\nUna conferencia en la que hablarán sobre algunos de los artistas más destacados\, a los que se les considera grandes maestros e incluso a algunos\, se les tratan como los padres de la pintura ya que\, con la maestría de sus trabajos y uso de la técnica\, influyeron en el estilo y obra de gran cantidad de pintores a lo largo de los siglos. \nLa pintura del barroco es aquella que se produjo en el siglo XVII y parte del XVIII en Europa\, y que además se irradió en las colonias iberoamericanas. Enmarcada en el contexto de la Contrarreforma\, la pintura barroca fue particularmente fecunda al auspicio de los países católicos\, tales como Italia y España. Pero también fue alentada por las diversas monarquías europeas y los sectores privados protestantes que procuraban distinción social. \nPuede decirse que en el barroco\, la pintura fue una puesta en escena de recursos plásticos que exaltaban el efectismo\, el dinamismo\, y los conceptos complejos. Fue también\, sin duda\, un período glorioso para esta disciplina artística. Hablaremos sobre tres de sus artistas principales como  Rubens\,​ Velázquez​ y Vermeer. \nTítulo: Grandes Maestros de la Pintura Universal: Siglo XVII \nConferenciante: D. Amando García \nDía: Martes\, 16 de abril de 2024 \nHora: 17.30 horas \nConferencia Online \nCartel:
URL:https://historico.ateneovalencia.es/evento/grandes-maestros-de-la-pintura-universal-siglo-xvii-sesion-3/
LOCATION:On line
CATEGORIES:Ciclo Grandes Maestros de la Pintura
ATTACH;FMTTYPE=image/jpeg:https://historico.ateneovalencia.es/wp-content/uploads/2024/02/20240416-Maestros-de-la-Pintura-s-XVII.jpg
END:VEVENT
BEGIN:VEVENT
DTSTART;TZID=Europe/Madrid:20240417T190000
DTEND;TZID=Europe/Madrid:20240417T203000
DTSTAMP:20260421T181018
CREATED:20240216T101707Z
LAST-MODIFIED:20240403T090501Z
UID:76844-1713380400-1713385800@historico.ateneovalencia.es
SUMMARY:Ciclo Grandes Enigmas de Humanidad: La verdad del Paso Dyatlov. El gran enigma de la montaña
DESCRIPTION:Las extrañas muertes de excursionistas en el paso de montaña ruso\, lo que se conoce como el incidente del Paso Dyatlov\, han inspirado innumerables teorías conspirativas\, pero la ciencia ha entrado de lleno para dar una posible respuesta a lo ocurrido. \nEnlace para el Online: https://youtu.be/RctTnbzzMVQ\nEn el incidente del Paso Dyatlov\, 10 miembros del Instituto Politécnico de los Urales de la Unión Soviética en Ekaterimburgo se adentraron en la gélida naturaleza en una expedición de esquí y montañismo el 23 de enero de 1959. Un misterio de aventura de seis décadas de antigüedad que ha suscitado teorías conspirativas como experimentos militares soviéticos\, Yetis e incluso contactos extraterrestres... \nTítulo: La verdad del Paso Dyatlov. El gran enigma de la montaña \nConferenciante: Luis Tobajas \nDía: Miércoles\, 17 de abril de 2024 \nHora: 19 horas \nLugar: Teatro Ateneo (3ª planta) \nEntrada libre y gratuita hasta completar aforo \nCartel:
URL:https://historico.ateneovalencia.es/evento/la-verdad-del-paso-dyatlov-el-gran-enigma-de-la-montana/
LOCATION:Teatro Ateneo
CATEGORIES:Ciclo Grandes Enigmas de la Humanidad
ATTACH;FMTTYPE=image/jpeg:https://historico.ateneovalencia.es/wp-content/uploads/2024/02/20240417-Paso-Dyatlov-Tobajas.jpg
END:VEVENT
BEGIN:VEVENT
DTSTART;TZID=Europe/Madrid:20240422T190000
DTEND;TZID=Europe/Madrid:20240422T203000
DTSTAMP:20260421T181018
CREATED:20240206T122716Z
LAST-MODIFIED:20240405T103300Z
UID:76750-1713812400-1713817800@historico.ateneovalencia.es
SUMMARY:James Cameron: tecnología\, naturaleza y autoría
DESCRIPTION:La figura del oscarizado realizador canadiense James Cameron está íntimamente ligada a la garantía de gran espectáculo visual y poderoso reclamo en cuanto a utilización de los más sofisticados y sorprendentes efectos especiales cinematográficos. \nEnlace para el Online: https://youtu.be/DJCeUV0Tri0\nUn modelo de trabajo que tiende a dar protagonismo a las estructuras férreas o metálicas (objetos y aparatos tecnomecánicos)\, y que va definiendo desde la autoría de sus guiones\, puesta en escena y dirección. Un repaso sobre sus obras más significativas permitirá establecer la fórmula para investigar el tema. \nTítulo: James Cameron: tecnología\, naturaleza y autoría \nConferenciante: Jimmy Entraigües. Guionista\, escritor y crítico de cine. \nDía: Lunes\, 22 de abril de 2024 \nHora: 19 horas \nLugar: Teatro Ateneo \nEntrada libre  y gratuita hasta completar aforo. \nCartel:
URL:https://historico.ateneovalencia.es/evento/james-cameron-tecnologia-naturaleza-y-autoria/
LOCATION:Teatro Ateneo
CATEGORIES:Ciclo de Conferencias,Club de Cine
ATTACH;FMTTYPE=image/jpeg:https://historico.ateneovalencia.es/wp-content/uploads/2024/02/20240422-Cine-James-Cameron-Jimmy.jpg
END:VEVENT
BEGIN:VEVENT
DTSTART;TZID=Europe/Madrid:20240423T190000
DTEND;TZID=Europe/Madrid:20240423T203000
DTSTAMP:20260421T181018
CREATED:20240215T125846Z
LAST-MODIFIED:20240405T104221Z
UID:76818-1713898800-1713904200@historico.ateneovalencia.es
SUMMARY:Las armas perdidas de los Guerreros de Riace
DESCRIPTION:En esta conferencia presentaremos de manera ágil dos de las principales obras de la escultura griega en bronce\, los Guerreros de Riace\, los avatares sobre su hallazgo\, y los problemas de conservación desprovistos de sus armas\, hoy perdidas. Esto ofrece el contexto para discutir las distintas opciones propuestas\, cada una con implicaciones históricas significativas. \nEnlace para el Online: https://youtu.be/U9uX8bBbibo\nPero es su reconstrucción reciente la que más ha acentuado este debate entre la comunidad científica. Con lo que\, además de hablar de arte clásico en palabras mayores\, presentaremos un problema actual de la investigación en el que se evalúan los riesgos de la reconstrucción y la manera cómo esta condiciona al público no especializado. \nTítulo: Las armas perdidas de los Guerreros de Riace \nConferenciante: Prof. Dr. Raimon Graells i Fabregat. Profesor e Investigador del Ramón y Cajal. Dpto. Prehistoria\, Arqueología e Historia Antigua. \nDía: Martes\, 23 de abril de 2024 \nHora: 19 horas \nLugar: Conferencia ONLINE \nCartel:\n \n 
URL:https://historico.ateneovalencia.es/evento/las-armas-perdidas-de-los-guerreros-de-riace/
LOCATION:On line
CATEGORIES:Ciclo de Conferencias
ATTACH;FMTTYPE=image/jpeg:https://historico.ateneovalencia.es/wp-content/uploads/2024/02/20240423-Guerreros-de-Riace.jpg
END:VEVENT
BEGIN:VEVENT
DTSTART;TZID=Europe/Madrid:20240424T190000
DTEND;TZID=Europe/Madrid:20240424T203000
DTSTAMP:20260421T181018
CREATED:20240415T080256Z
LAST-MODIFIED:20240416T091415Z
UID:77626-1713985200-1713990600@historico.ateneovalencia.es
SUMMARY:Mártires Femeninas del primer Cristianismo
DESCRIPTION:El martirio marcó de manera muy significativa la expansión del primer cristianismo y su literatura\, convirtiéndose en una experiencia traumática que contribuyó a la consolidación de un sentimiento identitario frente al agresor. \nEnlace para el Online: https://youtu.be/_xy2mN4D-7w\nEn los primeros siglos del cristianismo tanto hombres como mujeres sufrieron la persecución y el martirio y sus historias se convirtieron en base fundamental para su culto. Sin embargo\, si bien se sigue en la mayoría de casos una cierta imitación del modelo de Cristo\, en los relatos de mártires mujeres se percibe una presencia constante de ciertos elementos narrativos que los diferencia de los de sus compañeros hombres. \nTítulo: Mártires Femeninas del primer Cristianismo \nConferenciante: Prof. Dr. Ángel Narro Sánchez \nDía: Miércoles\, 24 de abril de 2024 \nHora: 19 horas \nLugar: Teatro Ateneo \nEntrada libre y gratuita hasta completar aforo. \nCurrículum abreviado de Ángel Narro:\nLicenciado en Filología Clásica (2008) y Filología Francesa (2012) por la Universitat de València. Doctor en Filología Griega por la Universitat de València (2013). Sus líneas de investigación fundamentales son tres: \n\nLa lengua y la literatura griega cristiana.\nLa hagiografía bizantina\nLa recepción de la literatura clásica en la literatura de la Baja Edad Media y el Renacimiento.\n\nLa primera y segunda línea de investigación confluyeron en el trabajo de tesis doctoral sobre los textos griegos acerca de Santa Tecla –Hechos de Pablo y Tecla del siglo II y Vida y Milagros de Santa Tecla del siglo V- y a posteriori se han ido concentrado en dos áreas bien diferenciadas. De un lado\, en el ámbito de la lengua y literatura griega cristiana\, los Hechos Apócrifos de los Apóstoles en su conjunto y en comparación con otros textos de la época han sido estudiados en diferentes trabajos\, de entre los que destaca el libro Tecla de Iconio. Una santa ideal\, un ideal de santa (2021). Además\, actualmente se está participando de manera activa en la elaboración de la edición crítica\, traducción y comentario de los Hechos de Tomás\, dentro del proyecto “Edition\, translation\, and commentary of Acta Thomae”\, financiado por el Ministerio de Ciencia e Innovación del Gorbierno de España (2020-2023). \nDe otro\, respecto de la hagiografía griega\, las recopilaciones de milagros de santos del primer período del Imperio Bizantino han centrado la mayor parte de trabajos ya publicados\, como la traducción española de la Vida y Milagros de Tecla publicada en la BAC o El culto a las santas y los santos en la Antigüedad tardía y la época bizantina en Síntesis\, donde también se aborda la relación de los Hechos apócrifos de los apóstoles como antecedente directo de la hagiografía posterior. En este ámbito\, ha sido el investigador principal del proyecto “Tópicos literarios en la hagiografía cristiana tardo-antigua en clave femenina” (GV/2020/013)\, financiado por el programa de I+D+i de la Conselleria d’Innovació\, Universitats\, Ciència i Societat Digital dentro del subprograma Subvencions per a la realització de projectes d’R+D+i desenvolupats per grups d’investigació emergents (2020-2021). Recientemente\, se ha obtenido financiación como investigador principal para otro proyecto financiado por la misma entidad y programa de becas para los años 2022 y 2023 con el título "Tópicos literarios y narradores en la literatura martirial femenina" (CIGE/2021/075). \nPor último\, en cuanto a la recepción de la literatura clásica en la literatura de la Baja Edad Media y el Renacimiento\, el objetivo principal ha sido el de analizar la presencia de elementos provenientes de la tradición y la literatura clásica en obras didácticas y morales dirigidas a mujeres de los siglos XV y XVI. \nCartel:
URL:https://historico.ateneovalencia.es/evento/martires-femeninas-del-primer-cristianismo/
LOCATION:Teatro Ateneo
CATEGORIES:Ciclo Grandes Enigmas de la Humanidad
ATTACH;FMTTYPE=image/jpeg:https://historico.ateneovalencia.es/wp-content/uploads/2024/04/20240424-Mujeres-Martires.jpg
END:VEVENT
BEGIN:VEVENT
DTSTART;TZID=Europe/Madrid:20240429T190000
DTEND;TZID=Europe/Madrid:20240429T203000
DTSTAMP:20260421T181018
CREATED:20240215T182557Z
LAST-MODIFIED:20240425T075412Z
UID:76831-1714417200-1714422600@historico.ateneovalencia.es
SUMMARY:La Operación Carne Picada
DESCRIPTION:El 30 de abril de 1943\, frente a la costa de Huelva\, un pescador saca del mar el cuerpo de un oficial británico que aparentemente había perecido ahogado; el análisis de la documentación que porta el mayor William Martin dará lugar a uno de los engaños militares más decisivos de la Segunda Guerra Mundial. \nEnlace para el Online: https://youtu.be/vh3ZPcqAalo\nEl MI5 diseñó la 'Operación Carne Picada' que tenía el objetivo de convencer a Hitler de que\, obviamente\, los ejércitos aliados entrarían por Grecia en vez de hacerlo a través de Sicilia\, como acabó ocurriendo. Finalmente\, el 9 de julio de 1943 los aliados comenzaron la Operación Husky\, la invasión de Sicilia que\, debido al éxito de la Operación Carne Picada\, encontró poca resistencia y tomó la isla en poco más de un mes. Hitler no se dio cuenta de que la invasión de Sicilia no era una maniobra de distracción\, sino la invasión en sí misma. \nTítulo: La 'Operación Carne Picada' \nConferenciante: Carlos-Alberto Precioso Estiguin. Licenciado en Derecho y en Geografía e Historia por la UV. Especialista en Historia Militar. \nDía: Lunes\, 29 de abril de 2024 \nHora: 19 horas \nLugar: Teatro Ateneo (3ª planta) \nEntrada libre y gratuita hasta completar aforo \nCartel:
URL:https://historico.ateneovalencia.es/evento/la-operacion-carne-picada-en-la-segunda-guerra-mundial/
LOCATION:Teatro Ateneo
CATEGORIES:Ciclo de Conferencias
ATTACH;FMTTYPE=image/jpeg:https://historico.ateneovalencia.es/wp-content/uploads/2024/02/20240424-Operacion-Carne-Picada-Carlos-Precioso.jpg
END:VEVENT
BEGIN:VEVENT
DTSTART;TZID=Europe/Madrid:20240430T173000
DTEND;TZID=Europe/Madrid:20240430T190000
DTSTAMP:20260421T181018
CREATED:20240206T085418Z
LAST-MODIFIED:20240430T071120Z
UID:76732-1714498200-1714503600@historico.ateneovalencia.es
SUMMARY:Grandes Maestros de la Pintura Universal: Siglo XVIII | Sesión 4
DESCRIPTION:El Ateneo Mercantil de Valencia prosigue con sus conferencias sobre arte y en esta ocasión se pone en marcha un ciclo sobre los grandes maestros de la Pintura Universal. En esta cuarta sesión nos centraremos en el siglo XVIII. De nuevo D. Amando García nos ilustrará desgranando los mejores pintores de la historia y lo hará con su magnífica forma de entender el arte. \nEnlace para el Online: https://youtu.be/1Y-_CV211gY\nUna conferencia en la que hablarán sobre algunos de los artistas más destacados\, a los que se les considera grandes maestros e incluso a algunos\, se les tratan como los padres de la pintura ya que\, con la maestría de sus trabajos y uso de la técnica\, influyeron en el estilo y obra de gran cantidad de pintores a lo largo de los siglos. \nBásicamente\, el arte de siglo XVIII es el resultado de las ideas de La Ilustración\, la cual afectaría todos los órdenes de la vida y\, además\, de la ruptura que se daría con el arte cortesano. Este complejo movimiento se inicia como una rebelión del espíritu contra toda forma de religión sobrenatural y contra la Iglesia y a favor de la religión de la naturaleza y de la moralidad práctica. Existe una gran división que escindió la forma de entender la pintura entre quienes defendían una pintura de “género” (que trata temas contemporáneos y representa a personajes anónimos y acciones cotidianas) y quienes abogaron por una pintura “histórica”. Hay grandes autores de este periodo como Boucher\, David y Francisco de Goya\, entre otros muchos. \nTítulo: Grandes Maestros de la Pintura Universal: Siglo XVIII \nConferenciante: D. Amando García \nDía: Martes\, 30 de abril de 2024 \nHora: 17.30 horas \nConferencia Online \nCartel:
URL:https://historico.ateneovalencia.es/evento/grandes-maestros-de-la-pintura-universal-siglo-xviii-sesion-4/
LOCATION:On line
CATEGORIES:Ciclo Grandes Maestros de la Pintura
ATTACH;FMTTYPE=image/jpeg:https://historico.ateneovalencia.es/wp-content/uploads/2024/02/20240430-Grandes-Maestros-sXVIII-Amando.jpg
END:VEVENT
END:VCALENDAR