BEGIN:VCALENDAR
VERSION:2.0
PRODID:-//Ateneo Mercantil de Valencia - ECPv6.0.4//NONSGML v1.0//EN
CALSCALE:GREGORIAN
METHOD:PUBLISH
X-ORIGINAL-URL:https://historico.ateneovalencia.es
X-WR-CALDESC:Eventos para Ateneo Mercantil de Valencia
REFRESH-INTERVAL;VALUE=DURATION:PT1H
X-Robots-Tag:noindex
X-PUBLISHED-TTL:PT1H
BEGIN:VTIMEZONE
TZID:Europe/Madrid
BEGIN:DAYLIGHT
TZOFFSETFROM:+0100
TZOFFSETTO:+0200
TZNAME:CEST
DTSTART:20240331T010000
END:DAYLIGHT
BEGIN:STANDARD
TZOFFSETFROM:+0200
TZOFFSETTO:+0100
TZNAME:CET
DTSTART:20241027T010000
END:STANDARD
END:VTIMEZONE
BEGIN:VEVENT
DTSTART;TZID=Europe/Madrid:20240304T190000
DTEND;TZID=Europe/Madrid:20240304T203000
DTSTAMP:20260421T182636
CREATED:20230720T101243Z
LAST-MODIFIED:20240222T091658Z
UID:75112-1709578800-1709584200@historico.ateneovalencia.es
SUMMARY:Templarios: Ídolo. In figuram baffometi
DESCRIPTION:La Orden del Temple -una orden militar y religiosa surgida en el siglo XII- ha sido objeto de numerosas especulaciones y controversias a lo largo de la historia. Reconocidos por su valentía en las Cruzadas y su poderío económico\, los templarios se convirtieron en una fuerza influyente en toda Europa. \nEnlace para el Online: https://youtu.be/8oCZUkEL8Oo\nSin embargo\, su ascenso meteórico también despertó sospechas y envidias. Una de las acusaciones más impactantes que enfrentaron fue la de adorar ídolos y en particular\, el misterioso símbolo llamado Baphomet. Esta figura\, a menudo representada como una criatura con cabeza de cabra o carnero\, se convirtió en el centro de las acusaciones de herejía y culto pagano dirigidas hacia los templarios. \nLa imagen del Baphomet se asociaba con rituales secretos y prácticas ocultas\, alimentando aún más las teorías conspirativas que rodeaban a esta orden. La leyenda creció hasta tal punto que algunos afirmaban que los templarios habían perdido su fe cristiana y se habían entregado por completo a la veneración de este enigmático ser. \nVamos pues a adentrarnos en las evidencias históricas y en los mitos que rodean estas acusaciones\, buscando desentrañar la verdad detrás de los templarios y su supuesta veneración de este enigmático ser. Exploraremos algunas fuentes primarias disponibles\, así como las interpretaciones modernas de estos eventos históricos\, con el objetivo de arrojar algo de luz sobre uno de los enigmas más fascinantes de de Edad Media. \nTítulo: Templarios: Ídolo. In figuram baffometi \nConferenciante: Santiago Soler Seguí \nDía: Lunes 4 de marzo de 2024 \nHora: 19 horas \nLugar: Teatro Ateneo. Ateneo Mercantil de Valencia \nEntrada libre y gratuita hasta completar aforo. \nCartel:
URL:https://historico.ateneovalencia.es/evento/templarios-idolo-in-figuram-baffometi/
LOCATION:Teatro Ateneo
CATEGORIES:Ciclo de Conferencias
ATTACH;FMTTYPE=image/jpeg:https://historico.ateneovalencia.es/wp-content/uploads/2023/07/20231023-Templarios-baffometi.jpg
END:VEVENT
BEGIN:VEVENT
DTSTART;TZID=Europe/Madrid:20240307T190000
DTEND;TZID=Europe/Madrid:20240307T203000
DTSTAMP:20260421T182636
CREATED:20230904T094033Z
LAST-MODIFIED:20240216T111953Z
UID:75206-1709838000-1709843400@historico.ateneovalencia.es
SUMMARY:Sumer y Sumerios. Donde empezó la historia
DESCRIPTION:Conferencia sobre Sumer y los sumerios\, la primera civilización\, con quien\, como leemos en la obra ya clásica de Samuel Noah Kramer\, "La historia empieza en Sumer"\, surgieron extraordinarias realidades sociales y culturales\, desde la escritura a las primeras ciudades estado\, y donde la ciencia y otras creaciones artísticas\, sociales y culturales recibieron un enorme impulso. \nEnlace para el Online: https://youtu.be/kzoHvl_cyFs\nA todo ello nos acerca Eva Tobalina\, profesora de Historia Antigua y excepcional comunicadora\, que permite a los espectadores y oyentes aprender y disfrutar muchísimo\, animando también a profundizar\, con libros como el referido de Samuel Noah. La primera gran civilización\, todas ellas nacieron en Mesopotamia\, desde Sumer a los Asirios y Babilonios. \nTítulo: Sumer y Sumerios. Donde empezó la historia \nConferenciante: Prof. Dra. Eva Tobalina Oraá. Doctora y Profesora de Historia Antigua y Medieval de España Grado de Humanidades en UNIR \nDía: Jueves 7 de marzo de 2024 \nHora: 19 horas \nSalón: Teatro Ateneo \nEntrada libre y gratuita hasta completar aforo. \nCurrículum abreviado de Eva Tobalina:\nDoctora en Historia Antigua (Universidad de Navarra). Estancias de investigación en las universidades de Heidelberg y de Bolonia. Acreditada como profesor ayudante doctor por la ANECA. Docente en las universidades de Navarra y Valencia. Docente en la UNIR desde 2010: grados de Humanidades y Turismo. Imparte clases en Grado de Humanidades y en Grado de Historia y Geografía. \nEva Tobalina lleva 15 años dedicada a la divulgación histórica. Ha impartido cursos de Historia en Vitoria y Pamplona. Ha publicado artículos de divulgación en Historia National Geographic\, y colabora con una agencia de viajes (Viajes Redondo\, Madrid) en la organización de visitas culturales. Ha participado en la elaboración de las audioguías Tutta Roma y Tout Paris. \nSus líneas de investigación se han basado en Historia Antigua de Roma: Prosopografía e historia del ordo senatorial. Y la Historia y Videojuegos. Didáctica de la Historia a través de la actividad lúdica. \nCartel:
URL:https://historico.ateneovalencia.es/evento/sumer-y-sumerios-donde-empezo-la-historia/
LOCATION:Teatro Ateneo
CATEGORIES:Ciclo de Conferencias
ATTACH;FMTTYPE=image/jpeg:https://historico.ateneovalencia.es/wp-content/uploads/2023/09/20240307-Sumer-y-Sumerios.jpg
END:VEVENT
BEGIN:VEVENT
DTSTART;TZID=Europe/Madrid:20240326T190000
DTEND;TZID=Europe/Madrid:20240326T203000
DTSTAMP:20260421T182636
CREATED:20240215T165647Z
LAST-MODIFIED:20240321T124805Z
UID:76823-1711479600-1711485000@historico.ateneovalencia.es
SUMMARY:Del Gólgota al Sepulcro
DESCRIPTION:¿Qué credibilidad tienen los relatos de la muerte de Cristo? ¿Si existieron los ladrones\, quién es eran? ¿Un diálogo subidos a una cruz? ¿Era Dimas teólogo? ¿Abandonó Dios a Jesús en su agonía? ¿Estaba realmente muerto cuando fue bajado de la Cruz? ¿Qué sabemos de José de Arimatea y Nicodemo? \nEnlace para el Online: https://youtu.be/Y5XqaVFqO60\n¿Cómo hay que entender los misteriosos símbolos y signos tras la muerte de Cristo? ¿Mujeres\, guardias y ángeles en el Sepulcro?… De éstos y otros enigmas en relación a la muerte y sepultura de Cristo nos hablará el doctor Jorge-Manuel Rodríguez\, con su conocido estilo divulgativo. \nTítulo: Del Gólgota al Sepulcro \nConferenciante: Prof. Dr. Jorge Manuel Rodríguez. Presidente del Centro Español de Sindonología. \nDía: Martes\, 26 de marzo de 2024 \nHora: 19 horas \nLugar: Teatro Ateneo (3ª planta) \nEntrada libre y gratuita hasta completar aforo. \nCartel:
URL:https://historico.ateneovalencia.es/evento/del-golgota-al-sepulcro-semana-santa/
LOCATION:Teatro Ateneo
CATEGORIES:Ciclo de Conferencias
ATTACH;FMTTYPE=image/jpeg:https://historico.ateneovalencia.es/wp-content/uploads/2024/02/20240325-Del-Golgota-al-Sepulcro-Jorge-Manuel-Rodriguez.jpg
END:VEVENT
BEGIN:VEVENT
DTSTART;TZID=Europe/Madrid:20240327T190000
DTEND;TZID=Europe/Madrid:20240327T203000
DTSTAMP:20260421T182636
CREATED:20240117T103311Z
LAST-MODIFIED:20240321T125503Z
UID:76328-1711566000-1711571400@historico.ateneovalencia.es
SUMMARY:Antigua Roma. Una historia de Novela: De Robert Graves a Colleen McCullough
DESCRIPTION:La historia de la Antigua Roma ha fascinado a algunos de los grandes autores del siglo XX\, desde el británico-mallorquín Robert Graves\, autor de la bilogía Yo\, Claudio y Claudio\, el dios\, y su esposa Mesalina (1934-35)\, hasta la australiana Colleen McCullough\, autora de la majestuosa saga "Señores de Roma" (1990-2007). La novela ambientada en la Antigua Roma ha devenido en un subgénero dentro de la Novela Histórica. En esta conferencia hablaremos de los grandes hitos que esta pasión por la antigüedad clásica ha legado a otra gran historia\, la de la Literatura. \nEnlace para el Online: https://youtu.be/pisjyPOHDBI\nTítulo: Antigua Roma. Una historia de Novela: De Robert Graves a Colleen McCullough \nConferenciante: Gregorio Muelas \nDía: Miércoles 27 de marzo de 2024 \nHora: 19 horas \nLugar: Teatro Ateneo \nEntrada libre y gratuita hasta completar aforo. \nBreve currículum de Gregorio Muelas:\nGregorio Muelas Bermúdez nace en Sagunto en 1977. Licenciado en Historia por la Universidad de Valencia. Ha realizado los cursos de Doctorado en el Departamento de Historia Contemporánea. Especialista en Enseñanza de la Lengua Española y Literatura por la Universidad Europea Miguel de Cervantes. \nEjerce la crítica literaria en diversas publicaciones digitales e impresas\, como Quimera\, Paraíso\, Achtung!\, Estación Poesía\, El coloquio de los perros\, Mundiario\, etc. Es codirector y editor de CRÁTERA Revista de crítica y poesía contemporánea\, miembro de la junta directiva de la Asociación Valenciana de Escritores y Críticos Literarios (CLAVE) y del consejo editorial de la web Todo Literatura. \nHa publicado trabajos de creación e investigación literaria en revistas culturales y universitarias de Argelia\, Estados Unidos\, Colombia\, México\, Puerto Rico y Rumanía\, y ha sido traducido al alemán\, inglés\, portugués y rumano. Ha publicado los poemarios Aunque me borre el tiempo (2010)\, Un fragmento de eternidad (2014) y Estado de Acedia (2019); el libro de guiones de cine Cuando la aurora le hable al tiempo (2011); los libros de haikus La soledad encendida (2015 y 2021) y A la luz de la flor del almendro (2017)\, y el libro de crítica y ensayo Polifonía de lo inmanente. Apuntes sobre poesía española contemporánea (2010-2017) (2017). Además\, ha sido incluido en diversas antologías internacionales\, como Cartografías de Orfeo. Antología de joven poesía valenciana (Isla Negra\, Puerto Rico\, 2014). \nCartel:
URL:https://historico.ateneovalencia.es/evento/antigua-roma-una-historia-de-novela-de-robert-graves-a-colleen-mccullough/
LOCATION:Teatro Ateneo
CATEGORIES:Ciclo de Conferencias
ATTACH;FMTTYPE=image/jpeg:https://historico.ateneovalencia.es/wp-content/uploads/2024/01/20240327-Antigua-Roma-Novelas-1.jpg
END:VEVENT
END:VCALENDAR