BEGIN:VCALENDAR
VERSION:2.0
PRODID:-//Ateneo Mercantil de Valencia - ECPv6.0.4//NONSGML v1.0//EN
CALSCALE:GREGORIAN
METHOD:PUBLISH
X-ORIGINAL-URL:https://historico.ateneovalencia.es
X-WR-CALDESC:Eventos para Ateneo Mercantil de Valencia
REFRESH-INTERVAL;VALUE=DURATION:PT1H
X-Robots-Tag:noindex
X-PUBLISHED-TTL:PT1H
BEGIN:VTIMEZONE
TZID:Europe/Madrid
BEGIN:DAYLIGHT
TZOFFSETFROM:+0100
TZOFFSETTO:+0200
TZNAME:CEST
DTSTART:20230326T010000
END:DAYLIGHT
BEGIN:STANDARD
TZOFFSETFROM:+0200
TZOFFSETTO:+0100
TZNAME:CET
DTSTART:20231029T010000
END:STANDARD
END:VTIMEZONE
BEGIN:VEVENT
DTSTART;TZID=Europe/Madrid:20231106T190000
DTEND;TZID=Europe/Madrid:20231106T203000
DTSTAMP:20260421T165545
CREATED:20230626T100015Z
LAST-MODIFIED:20230626T103102Z
UID:74663-1699297200-1699302600@historico.ateneovalencia.es
SUMMARY:Inmaculada Concepción retratada por Juan de Juanes. Estética e intelectualidad del Renacimiento Valenciano
DESCRIPTION:Esta ponencia pretende poner de manifiesto la estrecha relación que une la disciplina pictórica a los movimientos estéticos e intelectuales del siglo XVI. Destaca la escogida paleta cromática\, rasgo distintivo y característico de la obra. \nLa novedosa elección del color blanco para la vestidura de la Virgen\, constituye una declaración de fe ante el protestantismo y un alarde intelectual a la altura de los más destacados humanistas. La composición de la obra en forma de triángulo isósceles invertido\, es otra característica importante\, ya que conjuga los conceptos recogidos en la Theología Platónica\, con las teorías de la Metafísica de Aristóteles. El estudio del Corpus Aristotélicum y la detenida observación de la tabla\, hacen posible probar dicha teoría. \nTítulo: Inmaculada Concepción retratada por Juan de Juanes. Estética e intelectualidad del Renacimiento Valenciano \nConferenciante: Gloria Guillem Avivar. Programa de Doctorado en la Universidad Católica de Valencia San Vicente Mártir. \nDía: Lunes 6 de noviembre de 2023 \nHora: 19 horas \nLugar: Salón Sorolla del Ateneo Mercantil de Valencia \nEntrada libre y gratuita hasta completar aforo. \nCurrículum resumido de Gloria Guillem:\n\n"Programa de Doctorado en Los Retos de Las ciencias Sociales y Humanas en La Sociedad del Siglo XXI". Universidad Católica de Valencia San Vicente Mártir. Director\nD. Ginés Marco Perles. (2018-actualidad)\nMáster Universitario en Marketing Político y Comunicación Institucional. T.F.M. La Simbología del Arte como Marketing Político. Universidad Católica de Valencia San Vicente Mártir. (2018)\nTercer Ciclo – Doctorado: La Cultura Mediterránea en el Mundo Medieval y Moderno. Universidad Politécnica de Valencia. (2003-2004).\nLicenciatura en Historia del Arte. Universidad de Valencia. (2001)\n\nCartel:
URL:https://historico.ateneovalencia.es/evento/inmaculada-concepcion-retratada-por-juan-de-juanes-estetica-e-intelectualidad-del-renacimiento-valenciano/
LOCATION:Salón Sorolla - Ateneo Mercantil de Valencia\, Plaza del Ayuntamiento 18\, Valencia\, Valencia\, 46002\, España
CATEGORIES:Ciclo de Conferencias
ATTACH;FMTTYPE=image/jpeg:https://historico.ateneovalencia.es/wp-content/uploads/2023/06/20231106-Inmaculada-Juan-de-Juanes.jpg
END:VEVENT
BEGIN:VEVENT
DTSTART;TZID=Europe/Madrid:20231107T173000
DTEND;TZID=Europe/Madrid:20231107T190000
DTSTAMP:20260421T165545
CREATED:20230615T094050Z
LAST-MODIFIED:20231031T130123Z
UID:74596-1699378200-1699383600@historico.ateneovalencia.es
SUMMARY:Ciclo Las Claves de la Pintura: Luz - Sesión 4
DESCRIPTION:A través de estas breves notas se pretende proporcionar algunos datos e información relevante sobre el ciclo al que nos estamos refiriendo\, con un total de seis conferencias. Advertimos de entrada que todas estas conferencias se referirán exclusivamente a la pintura occidental\, sin entrar en el tema de las pinturas genuinamente orientales o africanas\, muy diferentes a las anteriores en todos los sentidos. Es evidente que el tema que estamos considerando aquí admite planteamientos y enfoques muy diversos. Confiamos en que los que expondremos en este ciclo resulten interesantes para quienes deseen escucharnos. En todo caso\, sus acuerdos o discrepancias con nuestras opiniones serán un buen acicate para seguir reflexionando sobre éstas u otras cuestiones. \nEnlace para el Online: https://youtu.be/LV0-arGSQ9s\nEn la cuarta conferencia nos referiremos al tema de la luz. Se trata de una cuestión vital siempre que se habla de pintura. Especialmente\, es un factor de enorme importancia cuando se analiza detenidamente su evolución temporal. \nTítulo: Sesión 4 - Luz \nConferenciante: Amando García \nDía: Martes 7 de noviembre de 2023 \nHora: 17.30 horas \nLugar: Online \nEntrada libre y gratuita hasta completar aforo. \nCartel:
URL:https://historico.ateneovalencia.es/evento/ciclo-las-claves-de-la-pintura-luz-sesion-4/
LOCATION:On line
CATEGORIES:Ciclo Las Claves de la Pintura
ATTACH;FMTTYPE=image/jpeg:https://historico.ateneovalencia.es/wp-content/uploads/2023/06/20231114-Claves-Pintura-Luz.jpg
END:VEVENT
BEGIN:VEVENT
DTSTART;TZID=Europe/Madrid:20231108T190000
DTEND;TZID=Europe/Madrid:20231108T203000
DTSTAMP:20260421T165545
CREATED:20230720T094116Z
LAST-MODIFIED:20231031T131420Z
UID:75108-1699470000-1699475400@historico.ateneovalencia.es
SUMMARY:Ciclo Grandes Enigmas de la Humanidad: Oficios mágicos y ocultos 
DESCRIPTION:Saludadores\, tempestarios\, adivinos\, meigas\, videntes\, cartomantes\, espantanublados\, campaneros\, ariolos\, augures\, arúspices\, curieles\, compoñedores\, feiticeiras\, genetlíacos\, fascinadores\, loberos\, nigromantes\, petriquilleros\, salisatres\, saludadores\, sortílegos\, resucitadores\, alquimistas\, zahoríes… ¿Sabías de la existencia de estos oficios? \nEnlace para el Online: https://youtu.be/3GKWuydyAqY\nSe trata de empleos atávicos\, arcaicos en ocasiones\, algunos ya disueltos en la neblina del tiempo y otros se han ido reconvirtiendo y se niegan a desaparecer\, especialmente\, aquellos que tenían y tienen una aureola de sagrado\, de mágico\, de poderoso y de creencia supersticiosa. Desde siempre han existido personajes dotados por la tradición popular de poderes para aminorar el sufrimiento de sus semejantes hasta el punto de que\, muchas de sus prácticas\, se convirtieron en verdaderos oficios gracias a la sabiduría ancestral. \nEl problema llegó cuando muchas de esas profesiones\, las más heterodoxas\, se vieron perseguidas por su confrontación con la Ciencia y\, sobre todo\, con la Iglesia. esta conferencia pretende acercarnos a aquellas prácticas que tienen una componente claramente arcana u oculta\, mágica\, mediante la participación de determinados agentes sociales\, provenientes de la tradición\, dispuestos y evolucionados especialmente para ese fin. \nBajo el prisma de una gran documentación sobre este asunto\, la finalidad de la conferencia pasa por dar una visión objetiva de todos aquellos oficios\, con sus luces y sus sombras\, haciendo un recorrido por la historia y describiendo cómo han evolucionado hasta nuestros días\, sabedores de que muchos fueron incomprendidos\, perseguidos temidos o venerados. \nTítulo: Oficios mágicos y ocultos \nConferenciantes: Raúl Ferrero y Ángel Beitia \nDía: Miércoles 8 de noviembre de 2023 \nHora: 19 horas \nLugar: Salón Sorolla del Ateneo Mercantil de Valencia \nEntrada libre y gratuita hasta completar aforo \nBreve currículum de los ponentes:\nÁngel Beitia es un inquieto buscador de la historia\, de la antropología y los misterios que rodean nuestro mundo. Se interesó por la historia de la Alhambra a través de la Universidad de Granada e historia de Venecia por la Universidad Ca Foscari (Venecia)\, además de otros estudios medievales por la Universitat de Barecelona. Se ha centrado también en el estudio crítico y coherente de la religiones afroamericanas. \nPresidente de la Asociación Valenciana de la Ciencia y el Misterio\, y organizador de diversos Congresos y Conferencias relacionadas con el misterio\, el folklore y la antropología. Ha publicado varios reportajes en diversos medios escritos y digitales como "Mundo misterioso" y "el templo del enigma"\,  así como unas obras centradas en el análisis del misterio: "Recónditos enigmas a la luna de Valencia" (2017) \, que reeditó de nuevo en 2020 ampliando su primer libro. "Hierofanías y encantamientos" (2019) y un fascinante recorrido por los enigmas de Venecia: "Recónditos enigmas entre canales - Venecia-" (2022) y recientemente "Oficios mágicos y ocultos"\, editado por Almuzara en febrero de 2023. \nRaúl Ferrero actualmente vive en Valencia. Licenciado en Derecho por la Universidad de Valencia y titulado como Corredor de Seguros\, compagina su trabajo con la afición por el mundo del misterio\, del folklore popular y la España mágica. \nEs autor del libro "Brujas\, sabias y malditas"\, ensayo histórico sobre el mundo de la brujería \, editado por Guante Blanco en abril de 2021\, así como de "Oficios mágicos y ocultos" editado por Almuzara en febrero de 2023. Colaborador en diferentes medios de comunicación y prensa escrita en la divulgación del misterio. \nCartel:
URL:https://historico.ateneovalencia.es/evento/ciclo-grandes-enigmas-de-la-humanidad-oficios-magicos-y-ocultos/
LOCATION:Salón Sorolla - Ateneo Mercantil de Valencia\, Plaza del Ayuntamiento 18\, Valencia\, Valencia\, 46002\, España
CATEGORIES:Ciclo Grandes Enigmas de la Humanidad
ATTACH;FMTTYPE=image/jpeg:https://historico.ateneovalencia.es/wp-content/uploads/2023/07/20231108-Oficios-Ocultos.jpg
END:VEVENT
BEGIN:VEVENT
DTSTART;TZID=Europe/Madrid:20231113T190000
DTEND;TZID=Europe/Madrid:20231113T203000
DTSTAMP:20260421T165545
CREATED:20230905T080737Z
LAST-MODIFIED:20231031T132901Z
UID:75252-1699902000-1699907400@historico.ateneovalencia.es
SUMMARY:Caos. El fin de la Tetrarquía
DESCRIPTION:En el siglo III d.C. el Imperio Romano atravesó una grave crisis que llegó incluso a fragmentarlo en tres partes. El emperador Diocleciano la resolvió temporalmente con la implantación de un sistema nuevo\, la tetrarquía\, pero esta fue la semilla de la desintegración definitiva del imperio. En el 310 Constantino\, en un enfrentamiento armado en Marsella\, derrotó a Maximiano\, desapareciendo este Augusto. Ese año representa una etapa decisiva\, pues eliminar a Maximiano suponía romper la tetrarquía\, lo que lleva a Constantino a la ruptura ideológica de ésta. \nEnlace para el Online: https://youtu.be/__fsC2KuLNY\nFinalmente\, el sistema tetrárquico duró hasta el año 324\, cuando las guerras civiles mutuamente destructivas eliminaron a la mayoría de los aspirantes al poder. Licinio renunció después de perder la batalla de Crisópolis\, lo que dejó a Constantino dueño de todo el Imperio. \nTítulo: Caos. El fin de la Tetrarquía \nConferenciante: Gregorio Muelas Bermúdez \nDía: Lunes 13 de noviembre de 2023 \nHora: 19 horas \nLugar: Teatro Ateneo \nEntrada libre y gratuita hasta completar aforo. \nCartel:\n \n  \n 
URL:https://historico.ateneovalencia.es/evento/caos-el-fin-de-la-tetrarquia/
LOCATION:Teatro Ateneo
CATEGORIES:Ciclo de Conferencias
ATTACH;FMTTYPE=image/jpeg:https://historico.ateneovalencia.es/wp-content/uploads/2023/09/20231113-Caos-Fin-Tetrarquia.jpg
END:VEVENT
BEGIN:VEVENT
DTSTART;TZID=Europe/Madrid:20231114T190000
DTEND;TZID=Europe/Madrid:20231114T203000
DTSTAMP:20260421T165545
CREATED:20230905T090422Z
LAST-MODIFIED:20231031T133634Z
UID:75268-1699988400-1699993800@historico.ateneovalencia.es
SUMMARY:El mercenario íbero: una realidad arqueológica
DESCRIPTION:La actividad mercenaria ha sido la gran baza\, de los íberos para ir construyendo y dejar su legado enterrado esperando ser descubierto para contar su historia. Los materiales que usaron los hispanos y que son fruto de influencias foráneas. El Dr. Raimon Graells i Fabregat nos hará un recorrido por el tiempo y el Mar Mediterráneo. Nos hablará de las vestiduras que llevaban\, los cascos y los trajes de protección. \nGraells dará a conocer los últimos avances en la investigación del armamento y panoplia militar de los mercenarios de procedencia hispana\, iberos o celtíberos\, que combatieron en las filas de los poderosos ejércitos de cartagineses y griegos por el dominio del Mediterráneo central a mediados del primer milenio a.C. \nEnlace para el Online: https://youtu.be/rO5EuQCgI-A\nMostrará cascos griegos y puntas de flecha de tipo Olimpia\, cascos etruscos\, y también todo lo que les permitía la sujección y el embellecimiento así como la identidad del traje de protección: Cinturones samnitas y corazas anatómicas suritálicas. Equites mercenarios\, fruto de las posibles influencias de Macedonia. También cascos de hierro celtoitálicos\, que son propios de los bastetanos. \nTítulo: El mercenario íbero: una realidad arqueológica \nConferenciante: Prof. Dr. Raimon Graells i Fabregat \nDía: Martes 14 de noviembre de 2023 \nHora: 19 horas \nLugar: Online \nEntrada libre y gratuita hasta completar aforo. \nCurrículum abreviado de Raimon Graells i Fabregat\nNace en Barcelona hace 41 años. Se formó en la Universitat de Lleida\, de la que obtuvo Premio extraordinario de doctorado. Entre 2010 y 2012 consiguió la beca de la Alexander von Humboldt Postdoctoral Fellow que desarrolló en Mainz. Desde este momento y hasta enero de 2020 desarrolla su carrera investigadora de forma ininterrumpida. Entre medias ha sido Visiting Profesor en la Université de Toulouse II y un año más tarde en la Universitá degli Studi di Salerno. \nLa Arqueología Griega ha sido la asignatura impartida en ambas universidades. Galardonado además vencedor del XVIII premio L’Erma di Bretschneider (Roma\, Italia) por su trabajo "Corazas helenísticas decoradas. Oπλα καλα’\, los ‘Siris Bronzes’ y su contexto". En 2019 obtuvo el primer puesto en la convocatoria de contratos de investigación Ramón y Cajal (2018). En la actualidad imparte clases en la Universitat D’Alacant. \nCartel:
URL:https://historico.ateneovalencia.es/evento/el-mercenario-ibero-una-realidad-arqueologica/
LOCATION:On line
CATEGORIES:Ciclo de Conferencias
ATTACH;FMTTYPE=image/jpeg:https://historico.ateneovalencia.es/wp-content/uploads/2023/09/20231114-MERCENARIO-IBERO-1.jpg
END:VEVENT
BEGIN:VEVENT
DTSTART;TZID=Europe/Madrid:20231120T190000
DTEND;TZID=Europe/Madrid:20231120T203000
DTSTAMP:20260421T165545
CREATED:20231113T123052Z
LAST-MODIFIED:20231113T130343Z
UID:75877-1700506800-1700512200@historico.ateneovalencia.es
SUMMARY:Qin Shiguang Di\, el primer emperador chino
DESCRIPTION:La figura de Qin Shiguang Di\, el Primer Emperador chino\, ha sido maltratada a lo largo de la historia\, ya que se le ha presentado como un soberano déspota y paranoico. Pero fue la primera persona que unificó China\, además\, realizó grandes reformas y construyó la Gran Muralla\, pero todo fue a costa de la población china (trabajos forzados y coste de miles de vidas por sus conquistas). Eso provocó que a su muerte\, estallara una rebelión que arrasó por completo su palacio y su capital de Xianyang. \nEnlace para el Online: https://youtu.be/eN7WodyVnaY\nVivió del 259 al 210 a.C.\, fue el primer emperador de la dinastía Qin (221-210 a.J.C.). De entre los siete estados que conformaron y protagonizaron el periodo de los Estados Combatientes en la época final de la dinastía Zhou del Este\, el reino de Qin fue el que alcanzó el poder sobre todos los demás\, gracias a su superior desarrollo de la tecnología militar y a su sólida organización política y social. \nTras someter a los otros seis reinos en que China estaba dividida\, Zheng\, señor del reino de Qin\, tomó el título de Shiguang di\, "primer emperador". De su enorme poder da una idea bastante exacta el ejército de terracota que le acompañó en su viaje al más allá. Fue el que protagonizó la mayor expansión militar y tras la unificación\, realizada en el año 221 a.C.\, se proclamó emperador. \nTítulo: Qin Shiguang Di\, el primer emperador chino \nConferenciante: Luisa Silla \nDía: Lunes\, 20 de noviembre de 2023 \nHora: 19 horas \nLugar: Teatro Ateneo \nEntrada libre y gratuita hasta completar aforo \nCartel:
URL:https://historico.ateneovalencia.es/evento/qin-shiguang-di-el-primer-emperador-chino/
LOCATION:Teatro Ateneo
CATEGORIES:Ciclo de Conferencias
ATTACH;FMTTYPE=image/jpeg:https://historico.ateneovalencia.es/wp-content/uploads/2023/11/20231120-Primer-Emperador-Chino.jpg
END:VEVENT
BEGIN:VEVENT
DTSTART;TZID=Europe/Madrid:20231121T173000
DTEND;TZID=Europe/Madrid:20231121T190000
DTSTAMP:20260421T165545
CREATED:20230615T094543Z
LAST-MODIFIED:20231113T130358Z
UID:74600-1700587800-1700593200@historico.ateneovalencia.es
SUMMARY:Ciclo Las Claves de la Pintura: Perspectiva - Sesión 5
DESCRIPTION:A través de estas breves notas se pretende proporcionar algunos datos e información relevante sobre el ciclo al que nos estamos refiriendo\, con un total de seis conferencias. Advertimos de entrada que todas estas conferencias se referirán exclusivamente a la pintura occidental\, sin entrar en el tema de las pinturas genuinamente orientales o africanas\, muy diferentes a las anteriores en todos los sentidos. Es evidente que el tema que estamos considerando aquí admite planteamientos y enfoques muy diversos. Confiamos en que los que expondremos en este ciclo resulten interesantes para quienes deseen escucharnos. En todo caso\, sus acuerdos o discrepancias con nuestras opiniones serán un buen acicate para seguir reflexionando sobre éstas u otras cuestiones. \nEnlace para el Online: https://youtu.be/EqpL8Ela0NE\nOtro elemento de enorme significación en el arte de la pintura es\, sin duda alguna\, la perspectiva\, una clave absoluta de nuestro tema. Muy conscientes de su relevancia\, hemos dedicado nuestra quinta conferencia a esta cuestión. \nTítulo: Sesión 5 - Perspectiva \nConferenciante: Amando García \nDía: Martes 21 de noviembre de 2023 \nHora: 17.30 horas \nLugar: Online \nEntrada libre y gratuita hasta completar aforo. \nCartel:
URL:https://historico.ateneovalencia.es/evento/ciclo-las-claves-de-la-pintura-perspectiva-sesion-5/
LOCATION:On line
CATEGORIES:Ciclo Las Claves de la Pintura
ATTACH;FMTTYPE=image/jpeg:https://historico.ateneovalencia.es/wp-content/uploads/2023/06/20231121-Claves-Pintura-Perspectiva.jpg
END:VEVENT
BEGIN:VEVENT
DTSTART;TZID=Europe/Madrid:20231121T190000
DTEND;TZID=Europe/Madrid:20231121T203000
DTSTAMP:20260421T165545
CREATED:20231025T000643Z
LAST-MODIFIED:20231025T075622Z
UID:75701-1700593200-1700598600@historico.ateneovalencia.es
SUMMARY:Españolas del siglo XVIII\,  grandes desconocidas
DESCRIPTION:El Ateneo Mercantil de Valencia trae a primer plano a todas aquellas mujeres que\, de una u otra forma\, fueron pioneras en España. Algunas de ellas más desconocidas que otras para el público\, pero todas marcaron un antes y un después en nuestro país. Una conferencia en la que trataremos de buscar tanto a esas mujeres del siglo XVIII tan desconocidas como los comienzos de la prensa femenina y su presencia en las instituciones españolas. \nBajo el título "Españolas del siglo XVIII\, grandes desconocidas"\, el ponente Alejandro Mohorte nos hablará de las pioneras en distintas materias\, mujeres que abrieron el camino a otras muchas y que cambiaron nuestro país hacia la modernidad y el aperturismo. Nos hablará de los antecedentes a todas esas mujeres que entre los siglo s. XVII y XVIII lograron hitos que hoy no muchos conocen pero que causaron una revolución social por entonces. \nTítulo: Españolas del siglo XVIII\, grandes desconocidas \nConferenciante: Alejandro Mohorte Medina \nDía: Martes 21 de noviembre de 2023 \nHora: 19 horas \nLugar: Salón Sorolla \nEntrada libre y gratuita hasta completar aforo. \nCartel:\n \n 
URL:https://historico.ateneovalencia.es/evento/espanolas-del-siglo-xviii-grandes-desconocidas/
LOCATION:Salón Sorolla - Ateneo Mercantil de Valencia\, Plaza del Ayuntamiento 18\, Valencia\, Valencia\, 46002\, España
CATEGORIES:Ciclo de Conferencias
ATTACH;FMTTYPE=image/jpeg:https://historico.ateneovalencia.es/wp-content/uploads/2023/10/20231121-Mujeres-espanolas-desconocidas.jpg
END:VEVENT
BEGIN:VEVENT
DTSTART;TZID=Europe/Madrid:20231127T190000
DTEND;TZID=Europe/Madrid:20231127T203000
DTSTAMP:20260421T165545
CREATED:20230905T112205Z
LAST-MODIFIED:20231113T131019Z
UID:75272-1701111600-1701117000@historico.ateneovalencia.es
SUMMARY:Oppenheimer: El cómo y el porqué de la Bomba 'Atómica'
DESCRIPTION:Robert Oppenheimer\, el hombre que contribuyó de un modo decisivo a poner fin a la Segunda Guerra Mundial con el arma más devastadora creada por el ser humano\, la bomba atómica\, tuvo un auténtico dilema moral tras los bombardeos de Hiroshima y Nagasaki. \nEnlace para el Online: https://youtu.be/BEnb4na-yBo\nEl físico se dedicó en cuerpo y alma al éxito del Proyecto Manhattan. Pero tras el estallido de las dos bombas atómicas en suelo japonés\, en Hiroshima y en Nagasaki\, el orgullo que había sentido Oppenheimer tras las pruebas de Nuevo México se convirtió en un terrible sentimiento de culpa. \nTítulo: Oppenheimer: El cómo y el porqué de la Bomba 'Atómica' \nConferenciante: Prof. Dr. José Adolfo de Azcárraga \nDía: Lunes 27 de noviembre de 2023 \nHora: 19 horas \nLugar: Teatro Ateneo \nEntrada libre y gratuita hasta completar aforo. \nCartel:
URL:https://historico.ateneovalencia.es/evento/oppenheimer-el-como-y-el-porque-de-la-bomba-atomica/
LOCATION:Teatro Ateneo
CATEGORIES:Ciclo de Conferencias
ATTACH;FMTTYPE=image/jpeg:https://historico.ateneovalencia.es/wp-content/uploads/2023/09/20231127-OPPENHEIMER-BOMBA-ATOMICA.jpg
END:VEVENT
BEGIN:VEVENT
DTSTART;TZID=Europe/Madrid:20231128T193000
DTEND;TZID=Europe/Madrid:20231128T210000
DTSTAMP:20260421T165545
CREATED:20230925T101823Z
LAST-MODIFIED:20231114T094254Z
UID:75481-1701199800-1701205200@historico.ateneovalencia.es
SUMMARY:Miguel Servet\, médico y hereje
DESCRIPTION:Miguel Servet (1511-1553) fue un médico aragonés pionero en el estudio de la anatomía\, cuyos descubrimientos abrieron muchas puertas en la medicina. Pero la época en la que le tocó vivir no fue la mejor\, ya que la Inquisición perseguía a todos aquellos que osaban rechazar o cuestionar los dictámenes de la Iglesia. \nEnlace para el Online: https://youtu.be/7-en4LINZGw\nUn tiempo de guerras de religión\, de ideas heréticas y un hombre perseguido\, un proceso inquisitorial\, un juicio injusto… Los avances del Renacimiento\, el descubrimiento de la circulación de la sangre\, la persecución de los herejes\, la caza de brujas\, las hogueras de la Inquisición… A mediados del siglo XVI\, en plena Reforma protestante\, este hombre retó a todos los poderes religiosos y laicos en defensa de la libertad de conciencia y de opinión. \nJosé Luis Corral nos trae la increíble historia de este médico hereje\, un relato cargado de intriga\, emoción\, pasiones\, traiciones y denuncias que relata el proceso y ejecución en la hoguera de Miguel Servet en 1553. \nTítulo: Miguel Servet\, médico y hereje \nConferenciante: José Luis Corral \nDía: Martes 28 de noviembre de 2023 \nHora: 19.30 horas \nLugar: Online \nBreve currículum de José Luis Corral:\nJosé Luis Corral (Daroca\, 1957). Premio de las Letras Aragonesas 2017 y medalla de Plata en el XXXIV Festival Internacional de Cine y TV de Nueva York\, ha dirigido programas de radio y TV y ha sido asesor histórico de Ridley Scott en la película 1492. La conquista del paraíso. Catedrático de Historia Medieval\, es autor de 35 ensayos como Historia universal de la pena de muerte (2005)\, Breve historia de la Orden del Temple (2006)\, Una historia de España (2008)\, El enigma de las catedrales (2012) o Misterios\, secretos y enigmas de la Edad Media (2017). Como escritor\, está considerado como el maestro de la novela histórica española contemporánea por obras como El salón dorado (1996)\, El amuleto de bronce (1998)\, El invierno de la corona (1999) El Cid (2000)\, Numancia (2003)\, El número de Dios (2004)\, El caballero del templo (2006)\, El amor y la muerte (2010)\, La prisionera de Roma (2011)\, El códice del peregrino (2012)\, El médico hereje (2013)\, El trono maldito (con Antonio Piñero\, Planeta 2014)\, la serie Los Austrias (2016 y 2017) o Batallador (con Alejandro Corral\, 2018). Los Austrias III. El dueño del mundo culmina la trilogía sobre los Austrias en la primera mitad del siglo XVI\, una dinastía y un tiempo que cambiaron la historia de España\, de Europa y del mundo. \nCartel:
URL:https://historico.ateneovalencia.es/evento/miguel-servet-medico-y-hereje/
LOCATION:On line
CATEGORIES:Ciclo de Conferencias
ATTACH;FMTTYPE=image/jpeg:https://historico.ateneovalencia.es/wp-content/uploads/2023/09/20231128-Miguel-Servet.jpg
END:VEVENT
END:VCALENDAR