BEGIN:VCALENDAR
VERSION:2.0
PRODID:-//Ateneo Mercantil de Valencia - ECPv6.0.4//NONSGML v1.0//EN
CALSCALE:GREGORIAN
METHOD:PUBLISH
X-ORIGINAL-URL:https://historico.ateneovalencia.es
X-WR-CALDESC:Eventos para Ateneo Mercantil de Valencia
REFRESH-INTERVAL;VALUE=DURATION:PT1H
X-Robots-Tag:noindex
X-PUBLISHED-TTL:PT1H
BEGIN:VTIMEZONE
TZID:Europe/Madrid
BEGIN:DAYLIGHT
TZOFFSETFROM:+0100
TZOFFSETTO:+0200
TZNAME:CEST
DTSTART:20230326T010000
END:DAYLIGHT
BEGIN:STANDARD
TZOFFSETFROM:+0200
TZOFFSETTO:+0100
TZNAME:CET
DTSTART:20231029T010000
END:STANDARD
END:VTIMEZONE
BEGIN:VEVENT
DTSTART;TZID=Europe/Madrid:20231003T193000
DTEND;TZID=Europe/Madrid:20231003T210000
DTSTAMP:20260422T002638
CREATED:20230607T095752Z
LAST-MODIFIED:20230928T114455Z
UID:74455-1696361400-1696366800@historico.ateneovalencia.es
SUMMARY:Ciclo Grandes Enigmas de la Humanidad: "Ooparts. Objetos fuera de tiempo y lugar"
DESCRIPTION:Nos sumergimos en el fascinante mundo de los objetos fuera de su tiempo. Desde artefactos arqueológicos desconcertantes hasta tecnología avanzada de civilizaciones pasadas\, la máquina de Anticitera\, la pila de Bagdad\, el pilar de Delhi y obras de arte imposibles serán algunos de los que hablaremos. Acompáñanos mientras desentrañamos enigmas\, cuestionamos la historia y ampliamos los límites de nuestro conocimiento. \nEnlace para el Online: https://youtu.be/qX8mlC4Ry7U\nLos ooparts u objetos fuera de tiempo son considerados todo un desafío para la ciencia\, estos objetos se han hallado en lugares que no deberían estar\, ya que\, por sus características\, no se ajustan a las posibilidades de la época. Sus hallazgos han dado material para que se construya toda una suerte de teorías para explicar cómo y por qué están donde no corresponde. \nTítulo: "Ooparts. Objetos fuera de tiempo y lugar" \nConferenciante: Luis Tobajas \nDía: Martes 3 de octubre de 2023 \nHora: 19.30 horas \nLugar: Salón de Actos / Teatro del Ateneo \nEntrada libre y gratuita hasta completar aforo. \nCartel:
URL:https://historico.ateneovalencia.es/evento/ciclo-grandes-enigmas-de-la-humanidad-ooparts-objetos-fuera-de-tiempo-y-lugar/
LOCATION:Teatro Ateneo
CATEGORIES:Ciclo Grandes Enigmas de la Humanidad
ATTACH;FMTTYPE=image/jpeg:https://historico.ateneovalencia.es/wp-content/uploads/2023/06/20231004-Ooparts-Tobajas.jpg
END:VEVENT
BEGIN:VEVENT
DTSTART;TZID=Europe/Madrid:20231005T190000
DTEND;TZID=Europe/Madrid:20231005T203000
DTSTAMP:20260422T002638
CREATED:20230628T122310Z
LAST-MODIFIED:20230928T080848Z
UID:74689-1696532400-1696537800@historico.ateneovalencia.es
SUMMARY:La historia emocional: Cómo han influido las emociones en la historia de la humanidad
DESCRIPTION:Somos seres emocionales\, lo hemos sido siempre. De hecho\, lo hemos sido desde que somos mamíferos\, y nuestro cerebro sufrió una evolución que nos permite amar y sufrir. Las emociones influyen en nuestro comportamiento\, en nuestras decisiones. También en las de los grupos de individuos\, en la formación de una cultura\, en declarar una guerra\, en conquistar un territorio\,  en querer descubrir un nuevo mundo\, sea América\, o la luna. \nEnlace para el online: https://youtu.be/Roc3BBhH3m0\nEn esta conferencia hablaremos de cómo las emociones han influido en acontecimientos clave en la historia de la Humanidad\, en cómo nos han llevado a dónde estamos hoy\, como personas\, y como especie. En este viaje a través del tiempo vas a conocer mejor la historia\, y el lugar dónde se fraguaron los acontecimientos que han cambiado la historia: el cerebro humano. \nTítulo: La historia emocional: Cómo han influido las emociones en la historia de la humanidad \nConferenciante: Javier Lacomba Tamarit. Escritor\, abogado especializado en derecho literario y crítico de cine \nDía: Jueves 5 de octubre de 2023 \nHora: 19 horas \nLugar: Salón de Actos del Ateneo Mercantil de Valencia \nEntrada libre y gratuita hasta completar aforo. \nBreve currículum de Javier Lacomba:\nJavier Lacomba Tamarit ejerce como abogado especializado en derecho literario y propiedad intelectual\, como mediador y como gerente de la PYME Glaspol Composites S.L.\, empresa distribuidora de productos químicos. También es crítico de cine en la web ElMulticine.com\, conferenciante y profesor de talleres de derecho literario en Fuentetaja y el Museo L´Iber. \nComo escritor ha publicado relatos en la revista Calabazas en el trastero\, editada por la editorial Saco de Huesos\, y en numerosos libros de la Generación Bibliocafé\, iniciativa literaria capitaneada por Mauro Guillén y nacida al calor de la librería Bibliocafé\, de José Luis Rodríguez Nuñez. También ha visto la luz su relato El Altar de Nieve\, publicado por la Editorial Evohé en la antología Niebla y Sangre; La aventura de la aldea lluviosa\, publicado por Pulpture ediciones como nº 25 de sus Historias Cortas de Intensa Ficción en su especial de Sherlock Holmes; La verdad prevalece\, publicado por Editorial Vinatea en la antología Treinta hombres fascinantes en la historia de Valencia\, y La última diosa\, incluido en la antología De amor y guerra\, publicada por Ediciones Babylon. El Cuarto Disparo es su primera novela extensa. \nCartel:
URL:https://historico.ateneovalencia.es/evento/la-historia-emocional-como-han-influido-las-emociones-en-la-historia-de-la-humanidad/
LOCATION:Teatro Ateneo
CATEGORIES:Ciclo de Conferencias
ATTACH;FMTTYPE=image/jpeg:https://historico.ateneovalencia.es/wp-content/uploads/2023/06/20231002-Historia-Emocional-Humanidad-Javier-Lacomba.jpg
END:VEVENT
BEGIN:VEVENT
DTSTART;TZID=Europe/Madrid:20231010T173000
DTEND;TZID=Europe/Madrid:20231010T190000
DTSTAMP:20260422T002638
CREATED:20230615T093017Z
LAST-MODIFIED:20230930T080458Z
UID:74588-1696959000-1696964400@historico.ateneovalencia.es
SUMMARY:Ciclo Las Claves de la Pintura: Técnicas - Sesión 2
DESCRIPTION:A través de estas breves notas se pretende proporcionar algunos datos e información relevante sobre el ciclo al que nos estamos refiriendo\, con un total de seis conferencias. Advertimos de entrada que todas estas conferencias se referirán exclusivamente a la pintura occidental\, sin entrar en el tema de las pinturas genuinamente orientales o africanas\, muy diferentes a las anteriores en todos los sentidos. Es evidente que el tema que estamos considerando aquí admite planteamientos y enfoques muy diversos. Confiamos en que los que expondremos en este ciclo resulten interesantes para quienes deseen escucharnos. En todo caso\, sus acuerdos o discrepancias con nuestras opiniones serán un buen acicate para seguir reflexionando sobre éstas u otras cuestiones. \nEnlace para el Online: https://youtu.be/jbBkKInS2Go\nLa segunda conferencia está dedicada a las técnicas. Es un tema crucial al hablar de la pintura\, aunque sea a título de introducción\, dada su significación y relevancia para conocer y valorar adecuadamente el arte de la pintura. \nTítulo: Sesión 2 - Técnicas \nConferenciante: Amando García \nDía: Martes 10 de octubre de 2023 \nHora: 17.30 horas \nLugar: Online \nEntrada libre y gratuita hasta completar aforo. \nCartel:
URL:https://historico.ateneovalencia.es/evento/ciclo-las-claves-de-la-pintura-tecnicas-sesion-2/
LOCATION:On line
CATEGORIES:Ciclo Las Claves de la Pintura
ATTACH;FMTTYPE=image/jpeg:https://historico.ateneovalencia.es/wp-content/uploads/2023/06/20231010-Claves-Pintura-Tecnicas.jpg
END:VEVENT
BEGIN:VEVENT
DTSTART;TZID=Europe/Madrid:20231011T190000
DTEND;TZID=Europe/Madrid:20231011T203000
DTSTAMP:20260422T002638
CREATED:20230628T093701Z
LAST-MODIFIED:20230928T084057Z
UID:74683-1697050800-1697056200@historico.ateneovalencia.es
SUMMARY:Stanley Kubrick: simetría\, intención y… ajedrez
DESCRIPTION:En la aproximación a la obra de algunos cineastas\, uno de los elementos que se toma en cuenta son las influencias no estrictamente cinematográficas procedentes de otras disciplinas creativas. Se suele dar validez a reminiscencias de origen pictórico\, literario\, teatral... que impregnan el discurso de algunos realizadores. No sucede así con otras prácticas intelectuales que\, pese a carecer de un parentesco obvio con la imagen o con la narración\, poseen también un carácter constitutivo en la construcción del film. \nEnlace para el Online: https://youtu.be/TZdxIqt-i00\nEl caso de Stanley Kubrick no es ajeno a esta realidad. Su cine parte de unos planteamientos cuya lógica está imbuida de elementos ajedrecísticos. No obstante\, en más de una ocasión\, el propio Kubrick ha minimizado las repercusiones que el tablero escaqueado ha generado en su peculiar concepción cinematográfica\, pero su influencia es innegable. \nTítulo: Stanley Kubrick: simetría\, intención y… ajedrez \nConferenciante: Jimmy Entraigües. Guionista\, escritor y crítico de cine. \nDía: Miércoles 11 de octubre de 2023 \nHora: 19 horas \nLugar: Salón de Actos del Ateneo Mercantil de Valencia \nEntrada libre y gratuita hasta completar aforo. \nBreve currículum de Jimmy Entraigües:\nEscritor\, guionista\, periodista de reconocido prestigio con amplia trayectoria en el ámbito cultural y miembro del equipo de libro\, vuela libre. Es autor de los libros "DesCuentos" y "El teatro en el cine o el Teacitrone". Participó como guionista en la serie "Vientos de agua" y en programas de entretenimiento para Canal 9. Ha impartido numerosas charlas\, conferencias y talleres sobre periodismo\, cine y televisión. Posee importantes premios literarios que son un referente de la narrativa breve\, como el Premio Unicaja de Relatos\, en colaboración con la Asociación de la Prensa de Málaga\, y el Certamen de Cuento Corto Laguna de Duero. \nCartel:
URL:https://historico.ateneovalencia.es/evento/stanley-kubrick-simetria-intencion-y-ajedrez/
LOCATION:Teatro Ateneo
CATEGORIES:Ciclo de Conferencias
ATTACH;FMTTYPE=image/jpeg:https://historico.ateneovalencia.es/wp-content/uploads/2023/06/20231011-Stanley-Kubrick-Cine.jpg
END:VEVENT
BEGIN:VEVENT
DTSTART;TZID=Europe/Madrid:20231016T190000
DTEND;TZID=Europe/Madrid:20231016T203000
DTSTAMP:20260422T002638
CREATED:20230623T110208Z
LAST-MODIFIED:20231005T100957Z
UID:74656-1697482800-1697488200@historico.ateneovalencia.es
SUMMARY:Ciclo Grandes Enigmas de la Humanidad: "Los enigmas del Jueves Santo"
DESCRIPTION:¿Quién era el dueño del cenáculo? ¿Cómo fue la última cena? ¿Fue realmente una Pascua? ¿Existió Judas? ¿Cómo murió? ¿Cuál fue el destino de las 30 monedas? ¿Fueron romanos o judíos los que aprendieron a Cristo? ¿Quién fue el joven que huyó desnudo de Getsemani? Éstos y otros interrogantes serán desvelados por el profesor Rodríguez Almenar. \nEnlace para el Online: https://youtu.be/gxWqmNw3R38\nEl Jueves Santo se celebra: La Última Cena; El Lavatorio de los pies; La institución de la Eucaristía y del Sacerdocio y la oración de Jesús en el Huerto de Getsemaní. Pero aún hoy nos generan algunas dudas ciertos pasajes que han trascendido hasta nuestros días. \nTítulo: Los enigmas del Jueves Santo \nConferenciante: Prof. Dr. Jorge Manuel Rodríguez Almenar \nDía: Lunes 16 de octubre de 2023 \nHora: 19 horas \nLugar: Salón de Actos del Ateneo Mercantil de Valencia \nEntrada libre y gratuita hasta completar aforo. \nCartel:
URL:https://historico.ateneovalencia.es/evento/ciclo-grandes-enigmas-de-la-humanidad-los-enigmas-del-jueves-santo/
LOCATION:Teatro Ateneo
CATEGORIES:Ciclo Grandes Enigmas de la Humanidad
ATTACH;FMTTYPE=image/jpeg:https://historico.ateneovalencia.es/wp-content/uploads/2023/06/20231016-ENIGMAS-JUEVES-SANTO.jpg
END:VEVENT
BEGIN:VEVENT
DTSTART;TZID=Europe/Madrid:20231018T190000
DTEND;TZID=Europe/Madrid:20231018T203000
DTSTAMP:20260422T002638
CREATED:20231011T080432Z
LAST-MODIFIED:20231011T114941Z
UID:75641-1697655600-1697661000@historico.ateneovalencia.es
SUMMARY:Adrianópolis\, 378: principio del fin del Imperio Romano de Occidente
DESCRIPTION:La batalla de Adrianópolis fue la gran derrota de Roma\, aquel 9 de agosto de 378\, un ejército romano al mando de Valente se enfrentó a un contingente godo cerca de Adrianópolis y el resultado es el por todos sabido\, fue el peor desastre militar de la historia de Roma\, en el que murió el propio emperador y en el que se tambaleó el Imperio Romano. \nEnlace para el Online: https://youtu.be/mbxXFeREtHU\nAquella contienda enfrentó a romanos frente a godos y alanos\, con un fatídico desenlace para los primeros. Aunque el Imperio Romano de Occidente todavía permaneció en pie casi un siglo más\, esta batalla significaría el comienzo de su decadencia... Roma sufrió la tormenta perfecta: bajo un contexto de crisis migratorias y continuas invasiones\, se produjeron enormes fallos estratégicos y éstos derivaron en muchas y enormes pérdidas militares\, la muerte del propio emperador\, lo que denostaba que el Imperio Romano ya no tenía tanto poder. \nTítulo: Adrianópolis\, 378: principio del fin del Imperio Romano de Occidente \nConferenciante: Carlos Precioso Estiguin \nDía: Miércoles 18 de octubre de 2023 \nHora: 19 horas \nLugar: Teatro Ateneo \nEntrada libre y gratuita hasta completar aforo. \nBreve currículum de Carlos Precioso:\nNacido en Valencia en 1964\, es licenciado en Derecho y en Geografía e Historia por la Universitat de València y especialista en Historia Militar. Ha desempeñado diferentes puestos de trabajo en los Ayuntamientos de Sagunto y Valencia\, y como Asesor Jurídico en la Diputación Provincial de Valencia. Ha sido Subsecretario en las Consellerias de Cultura\, Educación y Deporte; Conselleria de Turismo; y en la Conselleria de Cultura y Deporte. \nCartel:
URL:https://historico.ateneovalencia.es/evento/adrianopolis-378-principio-del-fin-del-imperio-romano-de-occidente/
LOCATION:Teatro Ateneo
CATEGORIES:Ciclo de Conferencias
ATTACH;FMTTYPE=image/jpeg:https://historico.ateneovalencia.es/wp-content/uploads/2023/10/20231018-Batalla-Adrianopolis-Carlos-Precioso.jpg
END:VEVENT
BEGIN:VEVENT
DTSTART;TZID=Europe/Madrid:20231024T173000
DTEND;TZID=Europe/Madrid:20231024T190000
DTSTAMP:20260422T002638
CREATED:20230615T093602Z
LAST-MODIFIED:20231013T085057Z
UID:74592-1698168600-1698174000@historico.ateneovalencia.es
SUMMARY:Ciclo Las Claves de la Pintura: Géneros - Sesión 3
DESCRIPTION:A través de estas breves notas se pretende proporcionar algunos datos e información relevante sobre el ciclo al que nos estamos refiriendo\, con un total de seis conferencias. Advertimos de entrada que todas estas conferencias se referirán exclusivamente a la pintura occidental\, sin entrar en el tema de las pinturas genuinamente orientales o africanas\, muy diferentes a las anteriores en todos los sentidos. Es evidente que el tema que estamos considerando aquí admite planteamientos y enfoques muy diversos. Confiamos en que los que expondremos en este ciclo resulten interesantes para quienes deseen escucharnos. En todo caso\, sus acuerdos o discrepancias con nuestras opiniones serán un buen acicate para seguir reflexionando sobre éstas u otras cuestiones. \nEnlace para el Online: https://youtu.be/w6kHU4wO9Rg\nEn la tercera conferencia hablaremos del tema de los géneros. La diversidad de éstos y su presencia temporal es también\, sin duda\, un aspecto de enorme importancia dentro del tema general al que dedicamos el presente ciclo. \nTítulo: Sesión 3 - Géneros \nConferenciante: Amando García \nDía: Martes 24 de octubre de 2023 \nHora: 17.30 horas \nLugar: Online \nEntrada libre y gratuita hasta completar aforo. \nCartel:
URL:https://historico.ateneovalencia.es/evento/ciclo-las-claves-de-la-pintura-generos-sesion-3/
LOCATION:On line
CATEGORIES:Ciclo Las Claves de la Pintura
ATTACH;FMTTYPE=image/jpeg:https://historico.ateneovalencia.es/wp-content/uploads/2023/06/20231024-Claves-Pintura-Generos.jpg
END:VEVENT
BEGIN:VEVENT
DTSTART;TZID=Europe/Madrid:20231025T190000
DTEND;TZID=Europe/Madrid:20231025T203000
DTSTAMP:20260422T002638
CREATED:20231013T085218Z
LAST-MODIFIED:20231017T110607Z
UID:75657-1698260400-1698265800@historico.ateneovalencia.es
SUMMARY:Tradiciones Apócrifas sobre los Apóstoles. Entre la prohibición\, la censura y la aceptación
DESCRIPTION:Los evangelios y Hechos apócrifos de los apóstoles son el mejor testimonio de ese cristianismo primitivo que comienza a cuestionarse algunos interrogantes\, como qué había pasado en la infancia de Jesús o cuál había sido la suerte de los apóstoles después de las misiones narradas por Lucas. Y la respuesta fue un conglomerado de textos en los que lo explicaban con diversos elementos legendarios que convivió con los textos canónicos sin una opinión contraria clara de la jerarquía eclesiástica hasta la delimitación del canon a principios del siglo III. \nEnlace para el Online: https://youtu.be/Dd8dYUaYE_I\nParalelamente\, las persecuciones cristianas se sucedieron desde Nerón hasta Diocleciano\, con Juliano el Apóstata como punto final a mediados del siglo iV. En estos momentos nació una rica literatura martirial que se fusionó con algunas de las tradiciones sobre los apóstoles y estas narraciones sobre los hechos de cada apóstol en solitario que recogían los Hechos apócrifos acababan normalmente en un martirio\, a menudo marcadamente sobrenatural. Las autoridades romanas eran el enemigo y el mártir cristiano el héroe que había sacrificado su vida. \nTítulo: Tradiciones Apócrifas sobre los Apóstoles. Entre la prohibición\, la censura y la aceptación \nConferenciante: Prof. Dr. Ángel Narro Sánchez \nDía: Miércoles 25 de octubre de 2023 \nHora: 19 horas \nLugar: Teatro Ateneo \nEntrada libre y gratuita hasta completar aforo. \nBreve currículum de Ángel Narro: \nLicenciado en Filología Clásica (2008) y Filología Francesa (2012) por la Universitat de València. Doctor en Filología Griega por la Universitat de València (2013) e investigador. Sus líneas de investigación fundamentales son tres: \n\nLa lengua y la literatura griega cristiana.\nLa hagiografía bizantina\nLa recepción de la literatura clásica en la literatura de la Baja Edad Media y el Renacimiento.\n\nLa primera y segunda línea de investigación confluyeron en el trabajo de tesis doctoral sobre los textos griegos acerca de Santa Tecla –Hechos de Pablo y Tecla del siglo II y Vida y Milagros de Santa Tecla del siglo V- y a posteriori se han ido concentrado en dos áreas bien diferenciadas. De un lado\, en el ámbito de la lengua y literatura griega cristiana\, los Hechos Apócrifos de los Apóstoles en su conjunto y en comparación con otros textos de la época han sido estudiados en diferentes trabajos. \nDesde septiembre de 2014 a septiembre de 2019 ocupó plaza de profesor Ayudante Doctor en la Universitat de València con cambio de perfil incluido en Septiembre de 2016 mediante concurso de Didáctica de la lengua y la literatura a Filología Clásica. Desde 2020 se ocupa plaza de Profesor Titular de Universidad. \nLas publicaciones superan en total las 70. Se ha tomado parte activa en más de 40 congresos\, algunos de ellos celebrados en Bélgica\, Cuba\, Francia\, Italia\, Portugal\, Reino Unido y República Checa. Se ha participado activamente en la organización de congresos\, la mayoría con carácter internacional\, entre los años 2009-2022. \nCartel:
URL:https://historico.ateneovalencia.es/evento/tradiciones-apocrifas-sobre-los-apostoles-entre-la-prohibicion-la-censura-y-la-aceptacion/
LOCATION:Teatro Ateneo
CATEGORIES:Ciclo Grandes Enigmas de la Humanidad
ATTACH;FMTTYPE=image/jpeg:https://historico.ateneovalencia.es/wp-content/uploads/2023/10/20231025-Evangelios-Apocrifos-Angel-Narro-1.jpg
END:VEVENT
BEGIN:VEVENT
DTSTART;TZID=Europe/Madrid:20231030T190000
DTEND;TZID=Europe/Madrid:20231030T203000
DTSTAMP:20260422T002638
CREATED:20230915T113319Z
LAST-MODIFIED:20231017T104717Z
UID:75409-1698692400-1698697800@historico.ateneovalencia.es
SUMMARY:El programa arquitectónico del Foro de Trajano en Roma
DESCRIPTION:El emperador Trajano\, primero del Alto Imperio en nacer en Hispania\, llevó al mismo a su máxima extensión geográfica\, destacando además como constructor\, tanto en Roma como en las provincias. Su mayor obra en la capital resultó ser su grandioso foro\, el mayor y más completo de todos\, pues comprendía plaza\, pórticos\, basílica\, la famosísima columna trajana\, así como los llamados mercados\, centro logístico de primer orden. \nEnlace para el Online: https://youtu.be/47t0dngZ-s0\nEl Foro de Trajano es la más importante de las ampliaciones del foro Romano realizadas entre el final de la República y el principio de la Roma Imperial\, concretamente entre los años 107 y 112.\nEste foro\, el más grande de los cuatro foros imperiales (Foro de César\, Foro de Nerva\, Foro de Augusto y Foro de Trajano) levantados junto al Foro Romano\, fue obra del arquitecto Apolodoro de Damasco\, el encargado de llevar a cabo el complejo ideado por el primer emperador nacido fuera de Italia\, el sevillano Marco Ulpio Trajano. \nTítulo: El programa arquitectónico del Foro de Trajano en Roma \nConferenciante: Prof. Dra. Cristina Aldana Nácher. Profesora Titular de Hª del Arte Antiguo (desde 1993) en el Departamento de Hª del Arte de la Universitat de València. Doctora en Historia por la Universitat de València (1986). Académica Correspondiente de la Real de Bellas Artes de San Carlos de Valencia (1984). Secretaria de la Facultat de Geografia i Història de la Universitat de València (de 1999 a 2002). \nDía: Lunes 30 de octubre de 2023 \nHora: 19 horas \nLugar: Teatro Ateneo \nEntrada libre y gratuita hasta completar aforo. \nCartel:
URL:https://historico.ateneovalencia.es/evento/el-programa-arquitectonico-del-foro-de-trajano-en-roma/
LOCATION:Teatro Ateneo
CATEGORIES:Ciclo de Conferencias
ATTACH;FMTTYPE=image/jpeg:https://historico.ateneovalencia.es/wp-content/uploads/2023/09/20231121-Foro-de-Trajano.jpg
END:VEVENT
END:VCALENDAR