BEGIN:VCALENDAR
VERSION:2.0
PRODID:-//Ateneo Mercantil de Valencia - ECPv6.0.4//NONSGML v1.0//EN
CALSCALE:GREGORIAN
METHOD:PUBLISH
X-ORIGINAL-URL:https://historico.ateneovalencia.es
X-WR-CALDESC:Eventos para Ateneo Mercantil de Valencia
REFRESH-INTERVAL;VALUE=DURATION:PT1H
X-Robots-Tag:noindex
X-PUBLISHED-TTL:PT1H
BEGIN:VTIMEZONE
TZID:Europe/Madrid
BEGIN:DAYLIGHT
TZOFFSETFROM:+0100
TZOFFSETTO:+0200
TZNAME:CEST
DTSTART:20230326T010000
END:DAYLIGHT
BEGIN:STANDARD
TZOFFSETFROM:+0200
TZOFFSETTO:+0100
TZNAME:CET
DTSTART:20231029T010000
END:STANDARD
END:VTIMEZONE
BEGIN:VEVENT
DTSTART;TZID=Europe/Madrid:20230911T190000
DTEND;TZID=Europe/Madrid:20230911T203000
DTSTAMP:20260421T174321
CREATED:20230724T113309Z
LAST-MODIFIED:20230907T082528Z
UID:75152-1694458800-1694464200@historico.ateneovalencia.es
SUMMARY:La joya de Monna Lisa
DESCRIPTION:La investigadora y escritora Dolores García documentó en su último ensayo\, Valencia y su arte de la seda en la Gioconda\, que el ropaje que viste Lisa Gherardini en el famoso cuadro de Leonardo da Vinci procedía del gremio de seda valenciano y sus tintes eran españoles\, importados de América. García\, autora de El secreto de Mona Lisa y La cara oculta de Da Vinci. Las claves de la Monna Lisa\, inició esta investigación tras plantearse el interrogante de por qué Gherardini\, esposa del mercader de textiles y seda Francesco del Giocondo\, uno de los más ricos e influyentes de Florencia\, había sido retratada sin ninguna joya\, que identificaba la clase social y a la élite de la época. \nEnlace para el Online: https://youtu.be/aS4YCN-mXgk\nHay algo que llamó la atención de la investigadora española al analizar el cuadro de la Monna Lisa\, las damas florentinas eran de familias adineradas y según su rango social lucían algún tipo de joyas\, Gherardini era la mujer del mercader más rico y famoso de la ciudad y uno de los 12 hombres que componían el gobierno de la república de Florencia\, con poder y un estatus importante\, por lo que era incomprensible que no luciera sus joyas. \nDurante su investigación\, García se percató de que sí que llevaba una joya\, su vestido de seda\, una verdadera joya de la familia y éste mostraba su rango social. El traje no era ostentoso\, ya que no tenía bordados de oro y plata\, pero su valor estaba en otra de sus composiciones: el tinte valenciano. \nTítulo: La joya de Monna Lisa \nConferenciantes: Dolores García Ruiz (escritora e investigadora)\, Jöel Feldman (secretario general The Monna Lisa Foundation de Zúrich) y Annick Thébia-Melsan (Curadora\, ex Diplomática y Representante de la UNESCO) \nDía: Lunes 11 de septiembre de 2023 \nHora: 19 horas \nLugar: Salón de Actos \nEntrada libre y gratuita hasta completar aforo. \nCartel:
URL:https://historico.ateneovalencia.es/evento/la-joya-de-monna-lisa/
LOCATION:Teatro Ateneo
CATEGORIES:Ciclo de Conferencias
ATTACH;FMTTYPE=image/jpeg:https://historico.ateneovalencia.es/wp-content/uploads/2023/07/20230911-Joya-Monna-Lisa-1.jpg
END:VEVENT
BEGIN:VEVENT
DTSTART;TZID=Europe/Madrid:20230920T190000
DTEND;TZID=Europe/Madrid:20230920T203000
DTSTAMP:20260421T174321
CREATED:20230904T111014Z
LAST-MODIFIED:20230907T084059Z
UID:75210-1695236400-1695241800@historico.ateneovalencia.es
SUMMARY:Nino Bravo. El hombre y el mito: la conferencia
DESCRIPTION:Darío Ledesma de Castro es el comisario de "Nino Bravo. La Exposición"\, muestra que se exhibe en el Ateneo Mercantil de Valencia del 28 de agosto al 29 de octubre de 2023. Es autor de la biografía autorizada "Nino Bravo. Voz y Corazón" (Ed. Milenio\, 2022)\, y desde 1999 administra la página web y redes oficiales del artista valenciano. Ha coordinado la realización del documental “Nino Bravo: Historia de un mito” y ha participado en la creación y diseño del Museo Nino Bravo de Aielo de Malferit (Valencia)\, así como en el lanzamiento de distintos discos de Nino Bravo en Universal Music Spain. Actualmente también forma parte de la comisión organizadora del Año Nino Bravo. \nEnlace para el Online: https://youtu.be/op1BPHkOOWM\n¿Sabías que la canción "América\, América" forma parte del Salón de la Fama de los Grammy? ¿Que la letra de "Libre" pasó la censura escondida entre una pila de villancicos? ¿Y que Nino Bravo es el único artista español que ha vendido un millón de copias de un disco\, más de 20 años después de su muerte? Estas son solo algunas de las curiosidades que se explicarán durante esta conferencia\, que repasará la vida y obra del cantante valenciano para conmemorar el 50 aniversario de su fallecimiento\, con los datos más desconocidos de su trayectoria. \nTítulo: Nino Bravo. El hombre y el mito \nConferenciantes: Darío Ledesma de Castro (Biógrafo de Nino Bravo)\, Miguel Ángel Orts (periodista de RNE)\, Amparo Ferri (Hija de Nino Bravo) y Alfredo Garrido (Compositor y productor musical). Modera el acto: Carlos D. Chardí. \nDía: Miércoles 20 de septiembre de 2023 \nHora: 19 horas \nLugar: Teatro Ateneo \nEntrada libre y gratuita hasta completar aforo. \nCartel:
URL:https://historico.ateneovalencia.es/evento/nino-bravo-el-hombre-y-el-mito-la-conferencia/
LOCATION:Teatro Ateneo
CATEGORIES:Ciclo de Conferencias
ATTACH;FMTTYPE=image/jpeg:https://historico.ateneovalencia.es/wp-content/uploads/2023/09/20230920-Nino-Bravo-Conferencia-1.jpg
END:VEVENT
BEGIN:VEVENT
DTSTART;TZID=Europe/Madrid:20230925T190000
DTEND;TZID=Europe/Madrid:20230925T203000
DTSTAMP:20260421T174321
CREATED:20230616T094338Z
LAST-MODIFIED:20230904T114054Z
UID:74609-1695668400-1695673800@historico.ateneovalencia.es
SUMMARY:Animales in Harena. Animales en espectáculos romanos
DESCRIPTION:Leones\, elefantes\, tigres\, hipopótamos\, rinocerontes\, cocodrilos... cientos de miles de animales exóticos fueron protagonistas de espectáculos romanos en celebraciones en las que eran cazados dentro de plazas\, circos\, anfiteatros en la ciudades del Imperio. \nEnlace para el Online: https://youtu.be/115ooCKSEB0\nPodemos imaginar estos animales muriendo masacrados por los romanos durante estas celebraciones pero la realidad era mucho más impresionante: su captura en zonas salvajes y recónditas del mundo conocido en la época\, transporte de toneladas de alimentos y agua junto a los animales para conseguir su superviviencia durante kilómetros de duro viaje. Este trabajo es una investigación en la que se da a conocer el asombroso viaje que estos animales hacían de desde su lugar de origen hasta el final de su vida en grandiosos espectáculos. \nTítulo: Animales in Harena. Animales en espectáculos romanos \nConferenciante: Dra. María Engracia Muñoz-Santos. Doctora en Arqueología clásica. Investigadora y divulgadora científica. Asesora histórica \nDía: Lunes 25 de septiembre de 2023 \nHora: 19 horas \nLugar: Salón de Actos del Ateneo Mercantil de Valencia \nEntrada libre y gratuita hasta completar aforo. \nCurrículum de María Engracia Muñoz-Santos\nMaría Engracia Muñoz-Santos es arqueóloga\, historiadora y divulgadora de historia antigua. Ha cursado el Máster en Mediterráneo Antiguo y es doctora en Arqueología Clásica en la Universidad de Valencia. Ha participado en diversas excavaciones arqueológicas e imparte clases en el Centro de Estudios del Próximo Oriente y la Antigüedad Tardía de la Universidad de Murcia y en el Centro de Estudios Artísticos Elba. \nEn 2017 publicó su primer libro\, Animales en la Harena (Editorial Confluencias)\, como parte de su investigación sobre el papel de los animales en la vida cotidiana de la Antigua Roma. \nA nivel de divulgación ha creado el blog Arqueología en mi jardín\, ha publicado diversos artículos en revistas como Historia National Geographic y Revista de Historia\, y forma parte del proyecto Arqueólogas e historiadoras. Mujeres que también hacen ciencia e hicieron historia. \nCartel:
URL:https://historico.ateneovalencia.es/evento/animales-in-harena-animales-en-espectaculos-romanos/
LOCATION:Teatro Ateneo
CATEGORIES:Ciclo de Conferencias
ATTACH;FMTTYPE=image/jpeg:https://historico.ateneovalencia.es/wp-content/uploads/2023/06/20230925-Animales-in-Harena.jpg
END:VEVENT
BEGIN:VEVENT
DTSTART;TZID=Europe/Madrid:20230926T190000
DTEND;TZID=Europe/Madrid:20230926T203000
DTSTAMP:20260421T174321
CREATED:20230525T113432Z
LAST-MODIFIED:20230907T094010Z
UID:74397-1695754800-1695760200@historico.ateneovalencia.es
SUMMARY:El Coliseo. Historias de sangre y arena
DESCRIPTION:El Coliseo fue el anfiteatro más grande del mundo\, en sus entrañas gladiadores luchaban hasta la muerte\, pero también hubo grandiosas cacerías de animales\, ejecuciones de mártires\, batallas navales e incluso exhibiciones acrobáticas. El escritor Fernando Lillo nos trae una secuencia de historias fundamentadas en fuentes literarias\, epigráficas y arqueológicas\, junto con las últimas investigaciones que han visto la luz\, para acercarnos fielmente lo que sucedía en el gran Coliseo romano. "Coliseo\, historias de sangre y arena" nos trae relatos de historia ficcionada que nos sumergen en un edificio que hasta el siglo XX fue el de mayor capacidad del mundo. \nEnlace para el Online: https://youtu.be/Cs_KOgIQHXE\nLa famosa expresión panem et circenses (pan y circo) resumía a la perfección lo que los gobernantes de la urbe requerían para manejar a la plebe y mantenerla entretenida. Hasta 50.000 espectadores podían participar de las sangrientas diversiones con que los emperadores cortejaban al pueblo. Son muchos los mitos en torno al Coliseo\, pero Fernando Lillo nos trae historias documentadas y que pondrán pinceladas de realidad a esas historias mitificadas. \nTítulo: "El Coliseo. Historias de sangre y arena" \nConferenciante: Prof. Dr. Fernando Lillo Redonet \nDía: Martes 26 de septiembre de 2023 \nHora: 19 horas \nLugar: Conferencia Online (no presencial) \nBreve curriculum de Fernando Lillo:\nFernando Lillo Redonet (Castellón de la Plana\, 1969) es doctor en Filología Clásica por la Universidad de Salamanca y catedrático de Latín en el IES San Tomé de Freixeiro (Vigo). Lleva treinta años investigando y divulgando el Mundo Clásico en multitud de cursos\, conferencias\, artículos y libros. Sus últimas publicaciones son Un día en Pompeya (2020) y Hotel Roma. Turismo en el Imperio romano (2022). Es\, además\, colaborador habitual de Historia National Geographic y Arqueología e Historia Desperta Ferro. \nCartel:
URL:https://historico.ateneovalencia.es/evento/el-coliseo-historias-de-sangre-y-arena/
LOCATION:On line
CATEGORIES:Ciclo de Conferencias
ATTACH;FMTTYPE=image/jpeg:https://historico.ateneovalencia.es/wp-content/uploads/2023/05/20230926-Coliseo-Historias-Sangre-y-Arena.jpg
END:VEVENT
BEGIN:VEVENT
DTSTART;TZID=Europe/Madrid:20230927T170000
DTEND;TZID=Europe/Madrid:20230927T183000
DTSTAMP:20260421T174321
CREATED:20230615T085931Z
LAST-MODIFIED:20230920T084302Z
UID:74584-1695834000-1695839400@historico.ateneovalencia.es
SUMMARY:Ciclo Las Claves de la Pintura: Historia - Sesión 1
DESCRIPTION:A través de estas breves notas se pretende proporcionar algunos datos e información relevante sobre el ciclo al que nos estamos refiriendo\, con un total de seis conferencias. Advertimos de entrada que todas estas conferencias se referirán exclusivamente a la pintura occidental\, sin entrar en el tema de las pinturas genuinamente orientales o africanas\, muy diferentes a las anteriores en todos los sentidos. Es evidente que el tema que estamos considerando aquí admite planteamientos y enfoques muy diversos. Confiamos en que los que expondremos en este ciclo resulten interesantes para quienes deseen escucharnos. En todo caso\, sus acuerdos o discrepancias con nuestras opiniones serán un buen acicate para seguir reflexionando sobre éstas u otras cuestiones. \nEnlace para el Online: https://youtu.be/0RJUEB8lad0\nEl ciclo se inicia con una primera conferencia sobre la historia de la pintura. Sin duda\, éste es un tema clave dentro de nuestra selección\, que ilustraremos revisando algunas de las obras maestras de la pintura producidas durante siglos. \nTítulo: Sesión 1 - Historia \nConferenciante: Amando García \nDía: Miércoles 27 de septiembre de 2023 \nHora: 17 horas \nLugar: Teatro Ateneo \nEntrada libre y gratuita hasta completar aforo. \nCartel:
URL:https://historico.ateneovalencia.es/evento/ciclo-las-claves-de-la-pintura-historia-sesion-1/
LOCATION:Teatro Ateneo
CATEGORIES:Ciclo Las Claves de la Pintura
ATTACH;FMTTYPE=image/jpeg:https://historico.ateneovalencia.es/wp-content/uploads/2023/06/20230926-Claves-Pintura-Historia.jpg
END:VEVENT
BEGIN:VEVENT
DTSTART;TZID=Europe/Madrid:20230927T190000
DTEND;TZID=Europe/Madrid:20230927T203000
DTSTAMP:20260421T174321
CREATED:20230627T110237Z
LAST-MODIFIED:20230907T095405Z
UID:74672-1695841200-1695846600@historico.ateneovalencia.es
SUMMARY:Los Ritos Masónicos. ¿Ceremoniales secretos o discretos?
DESCRIPTION:Una investigación que expone\, con elementos históricos probados\, ¿qué son o en qué consisten los ritos masónicos?\, ¿cuál es su finalidad?\, ¿cómo se han ido modificando los elementos simbólicos? o incluso\, ¿cómo se ejecutan los rituales de iniciación\, pase al grado de compañero o elevación al grado de maestro masón? En suma\, ahondar en la simbología de la Historia de la masonería para comprender como funcionan\, desde dentro\, las nuevas formas de sociabilidad sapienciales. \nEnlace para el Online: https://youtu.be/bc35av4lmgs\nEl rito consiste en el conjunto de reglas y ceremonias constituyendo un todo\, coherente y definido en diferentes grados. Aprendiz\, Compañero y Maestro. El conjunto de Ritos masónicos ha sido codificado y ha evolucionado con el tiempo para corresponder con la evolución misma de las sociedades y hombres que las componen. Los Ritos masónicos no tienen jerarquía y no se podría decir cual es mejor que otro. Cada uno de ellos corresponde a una sensibilidad y una aproximación particular a la historia de la espiritualidad. Pero sí tienen todos en común los principios fundamentales de la Francmasonería\, tales como la Tolerancia\, el amor de la Humanidad y la búsqueda de la verdad. \nTítulo: Los Ritos Masónicos. ¿Ceremoniales secretos o discretos? \nConferenciante: Prof. Dr. Fernando Gil González \nDía: Miércoles 27 de septiembre de 2023 \nHora: 19 horas \nLugar: Salón de Actos del Ateneo Mercantil de Valencia \nEntrada libre y gratuita hasta completar aforo. \nBreve currículum de Fernando Gil:\nDoctor\, con mención europea\, en Hª de las Instituciones por la UNED con sobresaliente cum laude y primer Premio Extraordinario de Doctorado. Ha sido postdoctoral fellowship en King's College of London y Fellow en London School of Economics. En la actualidad es escritor\, profesor de Historia Moderna en la U.R.J.C (Madrid) e investigador senior en prestigiosos G.I. en Argentina\, España\, Francia\, Italia\, Portugal y Reino Unido. \nAdemás\, ha publicado una docena de libros\, como autor\, destacando: "La represión de las nuevas formas de sociabilidad en Europa: Inquisición y masonería a través de los procesos judiciales del siglo XVIII"; "Los ritos masónicos en la Europa ilustrada: Inquisición y las nuevas formas de sociabilidad en el siglo XVIII"; "La Masonería en la Ilustración: ¿sociedad secreta o con secretos?"\, "La Inquisición: ¿decadencia\, abolición o reconversión?"\, "¿Masonas en la ilustración?" y su último libro: "Masonería y Sociedad de Naciones: (1919-1946)". \nHa escrito 40 artículos científicos y capítulos de libros e impartido más de 60 conferencias\, cursos\, seminarios\, ponencias etc. en varios continentes. También\, ha realizado estancias de investigación en U. of Reading\, U. College of London\, Panthéon-Assas (París)\, Centro de Estudios Políticos y Constitucionales\, U. de Oviedo\, L.M.U. Múnchen o La Sapienza (Roma) y como profesor-visitante en U. Santa Bárbara\, Columbia University (New York)\, FlU\, Pompeu Fabra de Barcelona o la U. de Salamanca. \nPor último\, es Académico en The Royal Historical Society (London\, U.K.) y Miembro de la Sociedad de Estudios del Siglo XVIII (Universidad de Oviedo). \nCartel:
URL:https://historico.ateneovalencia.es/evento/los-ritos-masonicos-ceremoniales-secretos-o-discretos/
LOCATION:Teatro Ateneo
CATEGORIES:Ciclo de Conferencias
ATTACH;FMTTYPE=image/jpeg:https://historico.ateneovalencia.es/wp-content/uploads/2023/06/20230927-Ritos-Masonicos-Fernando-Gil.jpg
END:VEVENT
END:VCALENDAR