BEGIN:VCALENDAR
VERSION:2.0
PRODID:-//Ateneo Mercantil de Valencia - ECPv6.0.4//NONSGML v1.0//EN
CALSCALE:GREGORIAN
METHOD:PUBLISH
X-ORIGINAL-URL:https://historico.ateneovalencia.es
X-WR-CALDESC:Eventos para Ateneo Mercantil de Valencia
REFRESH-INTERVAL;VALUE=DURATION:PT1H
X-Robots-Tag:noindex
X-PUBLISHED-TTL:PT1H
BEGIN:VTIMEZONE
TZID:Europe/Madrid
BEGIN:DAYLIGHT
TZOFFSETFROM:+0100
TZOFFSETTO:+0200
TZNAME:CEST
DTSTART:20230326T010000
END:DAYLIGHT
BEGIN:STANDARD
TZOFFSETFROM:+0200
TZOFFSETTO:+0100
TZNAME:CET
DTSTART:20231029T010000
END:STANDARD
END:VTIMEZONE
BEGIN:VEVENT
DTSTART;TZID=Europe/Madrid:20230403T190000
DTEND;TZID=Europe/Madrid:20230403T203000
DTSTAMP:20260423T201235
CREATED:20230201T104349Z
LAST-MODIFIED:20230403T103611Z
UID:72862-1680548400-1680553800@historico.ateneovalencia.es
SUMMARY:El destino final de los Apóstoles
DESCRIPTION:La vida de Jesús es conocida por todos\, pero ¿qué fue de los apóstoles una vez que éste murió y resucitó a los tres días? Los apóstoles permanecieron en Jerusalén hasta el día de pentecostés. Es decir\, 50 días después de la Pascua\, lo que marca el inicio de las actividades de la Iglesia y la predicación apostólica. A partir de ese día\, poco se sabe de lo que ocurrió con cada uno de ellos. Los Evangelios no dan datos sobre el paradero de los discípulos. Solo en el libro de los Hechos de los Apóstoles en el 12:1-4\, nos narran la muerte de Santiago y la encarcelación de Pedro. \nEnlace para el Online: https://youtu.be/R537X1l0LgI\nCasi todo lo relacionado con la predicación apostólica de los discípulos directos de Jesús son relatos de la Iglesia primitiva. Hoy conoceremos qué sucedió con Santiago (el mayor)\, Andrés\, Bartolomé\, Santiago (el menor)\, Juan\, Judas Tadeo\, Mateo\, Pedro (Simón Pedro)\, Felipe\, Simón (el Zelote) y Tomás. También conoceremos la vida de Pablo de Tarso y Matías\, dos personalidades vinculadas con los 12 apóstoles. \nTítulo: "El destino final de los Apóstoles" \nConferenciante: D. Javier Font Gisbert \nDía: Lunes 3 de abril de 2023 \nHora: 19 horas \nSalón: Salón de Actos \nEntrada libre y gratuita hasta completar aforo \nCartel:\n \n 
URL:https://historico.ateneovalencia.es/evento/el-destino-final-de-los-apostoles/
LOCATION:Teatro Ateneo
CATEGORIES:Ciclo de Conferencias
ATTACH;FMTTYPE=image/jpeg:https://historico.ateneovalencia.es/wp-content/uploads/2023/02/20230403-Destino-Final-Apostoles.jpg
END:VEVENT
BEGIN:VEVENT
DTSTART;TZID=Europe/Madrid:20230404T173000
DTEND;TZID=Europe/Madrid:20230404T190000
DTSTAMP:20260423T201235
CREATED:20230126T134418Z
LAST-MODIFIED:20230216T114823Z
UID:72779-1680629400-1680634800@historico.ateneovalencia.es
SUMMARY:Grandes obras de la Pintura Universal del siglo XVII
DESCRIPTION:Sin duda el siglo XVII el Siglo de Oro de las artes en España como consecuencia de un momento dulce cultural. En el campo de la pintura\, este siglo va a dar algunas de las más importantes artistas de todos los tiempos\, no sólo de España\, sino del arte occidental. La pintura barroca del Siglo de Oro en España tiene una serie de características más o menos comunes: Predominan los temas religiosos porque es el momento de la Contrarreforma\, los pintores españoles reciben la influencia del tenebrismo de Caravaggio en el tratamiento de la luz\, aunque luego lo abandonan\, existe una deliberada ausencia de sensualidad en la pintura\, el principal cliente de los pintores es la Iglesia de la época\, excepto en el caso de Diego Velázquez y otros pocos pintores de la Corte. \nEnlace para el Online: https://youtu.be/S-CNXi6cYNI\nDentro de la pintura barroca española también podemos destacar la Escuela Valenciana con dos grandes pintores como fueron Ribalta y José de Ribera\, pero en ese Siglo de Oro destacaron pintores de la escuela andaluza y madrileña como Zurbarán\, Murillo\, Valdés Leal\, Carreño y Claudio Coello\, aunque Diego Velázquez\, es el máximo representante con su característica perspectiva aérea y la profundidad. \nNo hay unanimidad entre los historiadores sobre el origen del Barroco; para unos se trata de un estilo autónomo e independiente\, mientras que para otros es una evolución formal del Renacimiento manierista. Dejando a un lado estas disquisiciones académicas\, lo cierto es que aparece a continuación del Manierismo\, que se extiende a lo largo del siglo XVII y\, prácticamente\, todo el XVIII\, y que cuenta con características propias. \nTítulo: "Grandes obras de la Pintura Universal del siglo XVII" \nConferenciante: Amando García \nDía: Martes 4 de abril de 2023 \nHora: 17.30 horas \nConferencia Online \nCartel:\n \n 
URL:https://historico.ateneovalencia.es/evento/grandes-obras-de-la-pintura-universal-del-siglo-xvii/
LOCATION:On line
CATEGORIES:Ciclo de Conferencias
ATTACH;FMTTYPE=image/jpeg:https://historico.ateneovalencia.es/wp-content/uploads/2023/01/20230228-Pintura-Universal-s.XVII_.jpg
END:VEVENT
BEGIN:VEVENT
DTSTART;TZID=Europe/Madrid:20230411T190000
DTEND;TZID=Europe/Madrid:20230411T203000
DTSTAMP:20260423T201235
CREATED:20230319T093311Z
LAST-MODIFIED:20230403T103206Z
UID:73486-1681239600-1681245000@historico.ateneovalencia.es
SUMMARY:La Arquitectura Valenciana en tiempos de Sorolla
DESCRIPTION:Valencia tuvo un gran auge arquitectónico en tiempos del maestro Joaquín Sorolla (1863-1923). De hecho\, la arquitectura valenciana tuvo una gran importancia gracias al estilo modernista: La Estación del Norte\, el Mercado Central o el de Colón... Valencia es la ciudad española que acoge mayor volumen de obras modernistas debido al importante crecimiento de la ciudad a fines del XIX que propició la construcción del ensanche y la destrucción de las murallas medievales. \nEnlace para el Online: https://youtu.be/vIeVL-4Qyj4\nLa aparición del Modernismo fue un movimiento de ruptura con los estilos que habían llegado hasta esa época con la intención de encontrar otro más moderno\, juvenil y funcional basándose en la utilización de nuevos materiales como el hierro\, el cristal y los azulejos derivados de la evolución industrial. Este movimiento fue impulsado por una nueva clase: la burguesía\, que quiso reivindicarse a través del arte. Se huye de la tradición\, de los edificios robustos\, se busca el movimiento…y el detalle fundamental es la ornamentación y la naturaleza. El Modernismo Valenciano se caracterizó por la exaltación de lo propio: la huerta\, las falleras\, las naranjas y los pescadores... esto se vio en las obras arquitectónicas con mosaicos de colores\, esculturas y adornos florales. \nTítulo: La Arquitectura Valenciana en tiempos de Sorolla \nPonente: Prof. Dr. Francisco Taberner Pastor \nDía: Martes 11 de abril de 2023 \nHora: 19 horas \nSalón: Salón de Actos \nEntrada libre y gratuita hasta completar aforo \nBreve Curriculum de Francisco Taberner\n\n\nIlmo. Sr. D. Francisco Taberner Pastor. Valencia 1947. Arquitecto por la ETSAV\, obtiene el doctorado en 1982. Profesor Titular\, del Departamento de Urbanismo de la Universidad Politécnica de Valencia. (1987-2015). \nSu investigación se ha orientado a los temas de patrimonio cultural tanto en el área del urbanismo como en la de restauración de monumentos\, habiendo obtenido dos sexenios de investigación\, 2010 y 2014. \n\n\n\n\nEs coautor de los Planes Directores de San Juan del Hospital\, y de la Lonja de Mercaderes\, en Valencia. Entre su obra construida cabe destacar la Casa de la Cultura de Rocafort\, una vivienda unifamiliar en la Cañada\, premio COAV 1987\, o la Biblioteca Municipal de Carcaixent. \nObras de restauración sobre edificios declarados Bien de Interés Cultural: Convento de San Francisco de Benicarló. Iglesia del Salvador de Burriana. Muralla de Mascarell. Capilla del Cristo de Requena. \nRehabilitaciones: Museo de la fiesta de la vendimia de Requena. Palacio de la Plaza del Correo Viejo\, para la EMT\, en Valencia. Alcoholera Antich (no realizado)\, de Requena. Ha dirigido los Planes Especiales de Protección de Bocairent\, Mascarell Burriana y Alzira \nHa sido presidente del Colegio Territorial del Colegio de Arquitectos de Valencia 2002-2006. Es Académico de número de la Real Academia de Bellas Artes de San Carlos desde 2003. \n\n\nCartel:
URL:https://historico.ateneovalencia.es/evento/la-arquitectura-valenciana-en-tiempos-de-sorolla/
LOCATION:Teatro Ateneo
CATEGORIES:Ciclo de Conferencias
ATTACH;FMTTYPE=image/jpeg:https://historico.ateneovalencia.es/wp-content/uploads/2023/03/20230411-Arquitectura-Valenciana-tiempos-Sorolla.jpg
END:VEVENT
BEGIN:VEVENT
DTSTART;TZID=Europe/Madrid:20230412T190000
DTEND;TZID=Europe/Madrid:20230412T203000
DTSTAMP:20260423T201235
CREATED:20230223T124108Z
LAST-MODIFIED:20230403T105743Z
UID:73170-1681326000-1681331400@historico.ateneovalencia.es
SUMMARY:"Presencia judía en la actual economía mundial"
DESCRIPTION:La especialización económica que caracterizaba a las comunidades judías medievales y de la Edad Moderna ha dado paso\, en los últimos siglos\, a una gran diversidad. Si bien en algunos lugares la fuerza de la tradición y la propia dinámica de las comunidades ha hecho que las actividades económicas tradicionales sigan siendo el comercio\, la banca y la industria\, en el mundo judío actual pueden encontrarse representada todas las ocupaciones. \nEnlace para el Online: https://youtu.be/IfN6yEHjaB0\nTítulo: Presencia judía en la actual economía mundial \nConferenciante: José Barta Juárez \nDía: Miércoles 12 de abril de 2023 \nHora: 19 horas \nLugar: Salón de Actos del Ateneo Mercantil \nEntrada libre hasta completar aforo \nCartel:
URL:https://historico.ateneovalencia.es/evento/presencia-judia-en-la-actual-economia-mundial/
LOCATION:Teatro Ateneo
CATEGORIES:Ciclo de Conferencias
ATTACH;FMTTYPE=image/jpeg:https://historico.ateneovalencia.es/wp-content/uploads/2023/02/20230412-Israel-Economia-Mundial.jpg
END:VEVENT
BEGIN:VEVENT
DTSTART;TZID=Europe/Madrid:20230418T190000
DTEND;TZID=Europe/Madrid:20230418T203000
DTSTAMP:20260423T201235
CREATED:20230322T105201Z
LAST-MODIFIED:20230322T122500Z
UID:73511-1681844400-1681849800@historico.ateneovalencia.es
SUMMARY:Apuntes de espiritualidad Mariana y curiosidades históricas
DESCRIPTION:La Fundación del Ateneo Mercantil de la CV ha programado la última conferencia del Ciclo del Centenario de la Coronación de la Virgen de los Desamparados para el martes 18 de abril a las 19 horas en el Salón de Actos del Ateneo Mercantil de Valencia. Llega bajo el título: "Apuntes de espiritualidad Mariana y curiosidades históricas" y los ponentes serán D. Juan Melchor Seguí\, Rector de la Basílica\, y D. Álvaro Almenar Picallo\, Vicerrector de la Basílica. \nEl origen de la actual devoción por la Patrona de València\, fue el sermón que Fray Juan Gilabert Jofré pronunció en la Catedral el 24 de febrero de 1409. Pero más curiosa es la leyenda de los autores de la imagen que hoy se venera. En 1414 llegaron tres jóvenes\, vestidos de peregrinos\, a la cofradía que mantenía el hospital. El cofrade que vivía en la casa\, tenía una mujer tullida y ciega. Al recibirles\, le dijeron que en 4 días le podían construir una imagen de la Virgen si les daban un lugar dónde hacerlo y comida. \nPasados los cuatro días\, y no oyéndose ningún ruido\, forzaron la puerta y encontraron la imagen de la Virgen María. Los peregrinos no estaban por ningún lado\, así que pensaron que se trataban de ángeles. Además la mujer del cofrade recuperó la vista. Dicha imagen jamás pudieron copiarla con perfección los Ribaltas\, Orrente\, Zariñena y Espinosa\, quienes reconocieron en Ella\, "alguna cosa sobrenatural". \nNo se pueden entender la advocación a la patrona de los valencianos sin conocer el espíritu que animó la constitución de lo que hoy es la Archicofradía de la Mare de Déu\, hace ya más de seis siglos. La fe\, la devoción a la Virgen y la orientación religioso-asistencial de los cofrades dieron origen a la imagen de Santa María de los Santos Inocentes Mártires y Desamparados. Sus fines\, desde entonces\, han sido amparar\, proteger y servir a los enfermos. \nTítulo: "Apuntes de espiritualidad Mariana y curiosidades históricas" \nPonentes: D. Juan Melchor Seguí y D. Álvaro Almenar Picallo \nDía: Martes 18 de abril de 2023 \nHora: 19 horas \nSalón: Salón de Actos \nEntrada libre y gratuita hasta completar aforo \nCartel:
URL:https://historico.ateneovalencia.es/evento/curiosidades-historicas-y-apuntes-espirituales-sobre-la-virgen/
LOCATION:Teatro Ateneo
CATEGORIES:Ciclo Centenario de la Coronación de la Virgen de los Desamparados
ATTACH;FMTTYPE=image/jpeg:https://historico.ateneovalencia.es/wp-content/uploads/2023/03/20230418-Coronacion-Virgen-Curiosidades-Historia-y-Espiritual.jpg
END:VEVENT
BEGIN:VEVENT
DTSTART;TZID=Europe/Madrid:20230425T190000
DTEND;TZID=Europe/Madrid:20230425T203000
DTSTAMP:20260423T201235
CREATED:20230327T122449Z
LAST-MODIFIED:20230403T111321Z
UID:73547-1682449200-1682454600@historico.ateneovalencia.es
SUMMARY:El Ara Pacis en Roma y la ideología política de Augusto
DESCRIPTION:En el año 9 a.C.\, el emperador Augusto inauguró un espléndido monumento dedicado a la paz y la prosperidad que su reinado había traído a Roma. El altar se alza hoy junto al Tíber\, en Roma\, protegido por la estructura del moderno museo que lo alberga y que fue inaugurado en el año 2006. \nEl Ara Pacis está hecho en mármol de Carrara y destaca por la impresionante decoración constituida por varios relieves que muestran a la familia de Augusto en procesión\, además de diferentes alegorías relacionadas con la mítica fundación de Roma. \nEnlace para el Online: https://youtu.be/faCt9C3nZNk\nEl altar fue erigido en el Campo de Marte\, estaba dedicado a la diosa de la Paz\, en honor a la cual cada año se realizaban en él los sacrificios de un carnero y dos bueyes. Estaba situado de tal forma que la sombra del gran obelisco situado en el Campo de Marte se proyectaba sobre el Ara Pacis el día del cumpleaños de Augusto. Pero debido a la crecida del río\, el altar quedó sumergido en el lodo\, donde permaneció durante más de un milenio. No fue hasta el siglo XVI cuando se encontraron parte de los restos y en 1938 se llevó a cabo la reconstrucción que se conserva hasta nuestros días. En la actualidad es uno de los monumentos más significativos de la Antigua Roma\, además\, es el único elemento que se expone en el interior del museo. \nTítulo: "El Ara Pacis en Roma y la ideología política de Augusto" \nConferenciante: Prof. Dra. Cristina Aldana Nácher.  \nProfesora Titular de Hª del Arte Antiguo (desde 1993) en el Departamento de Hª del Arte de la Universitat de València\, a cuya Institución pertenece desde el año 1981. Doctora en Historia por la Universitat de València (1986). Académica Correspondiente de la Real de Bellas Artes de San Carlos de Valencia (1984). Secretaria de la Facultat de Geografia i Història de la Universitat de València (de 1999 a 2002). \nDía: Martes 25 de abril de 2023 \nHora: 19 horas \nLugar: Salón de Actos del Ateneo Mercantil \nEntrada libre y gratuita hasta completar aforo \nCartel:
URL:https://historico.ateneovalencia.es/evento/el-ara-pacis-en-roma-y-la-ideologia-politica-de-augusto/
LOCATION:Teatro Ateneo
CATEGORIES:Ciclo de Conferencias
ATTACH;FMTTYPE=image/jpeg:https://historico.ateneovalencia.es/wp-content/uploads/2023/03/20230425-Ara-Pacis.jpg
END:VEVENT
BEGIN:VEVENT
DTSTART;TZID=Europe/Madrid:20230427T190000
DTEND;TZID=Europe/Madrid:20230427T203000
DTSTAMP:20260423T201235
CREATED:20230404T095412Z
LAST-MODIFIED:20230421T105942Z
UID:73664-1682622000-1682627400@historico.ateneovalencia.es
SUMMARY:Ciclo Valencianos Ilustres: Homenaje a Manuel Borrás\, Manuel Ramírez y Silvia Pratdesaba de Editorial Pre-Textos
DESCRIPTION:El Ateneo Mercantil de Valencia ha organizado un nuevo encuentro literario dentro del Ciclo Valencianos Relevantes en el que se homenajeará a los editores Manuel Borrás\, Manuel Ramírez y Silvia Pratdesaba de la Editorial Pre-Textos. Un acto que tendrá lugar el próximo jueves 27 de abril de 2023 a las 19 horas en el Salón Sorolla del Ateneo Mercantil y en el que contará con la presencia de la presidenta del Ateneo\, Carmen de Rosa Torner\, del editor y director de OléLibros\, Toni Alcolea\, y la escritora Ana Luisa Ramírez. \nConoce de cerca a la Editorial Pre-Textos\nUna editorial que edita sin interrupción\, de manera independiente y con una clara vocación en las líneas de la literatura y del pensamiento internacionales. Ha sido premiada con diversos galardones\, entre ellos\, el Premio Nacional a la Mejor Labor Editorial (1997) y su director editorial\, Manuel Borrás\, ha recibido entre otros\, la Medalla de Oro al Mérito en las Bellas Artes por parte del Ministerio de Educación\, Cultura y Deporte de España (2016). \nDispone en la actualidad de más de 1800 títulos publicados en sus distintas colecciones: Narrativa\, Narrativa Contemporánea y Narrativa Clásicos para el género narrativo. En el ámbito filosófico están las colecciones de Ensayo\, dedicada a las principales traducciones de pensamiento y filosofía contemporánea\, así como a las aportaciones más interesantes y heterodoxas del panorama nacional; Filosofías\, en colaboración con el Departamento de Metafísica de la Universidad de Valencia; y Filosofía Clásicos. Hispánicas\, que integra ensayos acerca de autores y temas de la literatura española; Textos y Pretextos\, colección de carácter misceláneo acerca de la literatura\, la estética y el ensayo literario; La Huella Sonora\, de análisis de las tradiciones musicales. \nAdemás\, Pre-Textos publica cinco colecciones de poesía: La Cruz del Sur\, que representa una de las propuestas más personales de la editorial; Antologías de la Cruz del Sur\, complementaria de la anterior; Poesía; Poéticas\, colección de reflexiones acerca de las diversas formas de expresión poética\, y El Pájaro Solitario\, en torno a las aves en la lírica universal. Todos los libros de estas colecciones de poesía que incluyan traducciones se ofrecen en versión bilingüe. \nAsimismo\, Pre-Textos cuenta con colecciones más recientes como Cosmópolis\, dedicadas a la reflexión artística y filosófica en torno a las ciudades; Biblioteca de Clásicos Contemporáneos\, que reúne las obras completas de autores clásicos contemporáneos; e Índika\, cuyos títulos tratan de ofrecer un acercamiento al pensamiento y las artes de la civilización india a través de los libros más significativos del campo a nivel mundial. \nCartel:
URL:https://historico.ateneovalencia.es/evento/ciclo-valencianos-ilustres-homenaje-a-la-editorial-pre-textos/
LOCATION:Salón Sorolla - Ateneo Mercantil de Valencia\, Plaza del Ayuntamiento 18\, Valencia\, Valencia\, 46002\, España
CATEGORIES:Ciclo Valencianos Relevantes
ATTACH;FMTTYPE=image/jpeg:https://historico.ateneovalencia.es/wp-content/uploads/2023/04/20230427-Editorial-PreTextos-1.jpg
END:VEVENT
END:VCALENDAR