BEGIN:VCALENDAR
VERSION:2.0
PRODID:-//Ateneo Mercantil de Valencia - ECPv6.0.4//NONSGML v1.0//EN
CALSCALE:GREGORIAN
METHOD:PUBLISH
X-ORIGINAL-URL:https://historico.ateneovalencia.es
X-WR-CALDESC:Eventos para Ateneo Mercantil de Valencia
REFRESH-INTERVAL;VALUE=DURATION:PT1H
X-Robots-Tag:noindex
X-PUBLISHED-TTL:PT1H
BEGIN:VTIMEZONE
TZID:Europe/Madrid
BEGIN:DAYLIGHT
TZOFFSETFROM:+0100
TZOFFSETTO:+0200
TZNAME:CEST
DTSTART:20220327T010000
END:DAYLIGHT
BEGIN:STANDARD
TZOFFSETFROM:+0200
TZOFFSETTO:+0100
TZNAME:CET
DTSTART:20221030T010000
END:STANDARD
END:VTIMEZONE
BEGIN:VEVENT
DTSTART;TZID=Europe/Madrid:20221103T183000
DTEND;TZID=Europe/Madrid:20221103T200000
DTSTAMP:20260424T215301
CREATED:20221025T163021Z
LAST-MODIFIED:20221028T080740Z
UID:71549-1667500200-1667505600@historico.ateneovalencia.es
SUMMARY:Ciclo de Conferencias: "La revolución política hacia el pacto educativo"
DESCRIPTION:Uno de los desafíos a los que actualmente se enfrenta el sistema educativo español es buscar a través de un pacto entre los diferentes agentes educativos las claves necesarias que le permita alcanzar mejores resultados. \nUna de las razones principales que no debemos olvidar es que España es un Estado miembro de la Unión Europea y que esta pertenencia le exige estar a la altura de los resultados que se esperan de él como miembro\, es decir\, pactar un sistema educativo con un carácter nacional pero también supranacional europeo.  Ciertamente las preguntas que podemos hacernos sobre por qué no hay un pacto educativo en España después de tantos intentos son numerosas. \nEnlace para el Online: https://fb.me/e/2eU7sYrOy\nEl último intento de pacto educativo se produjo en España en el año 2016 pero en el 2018 el llamado Pacto social y político por la educación se rompió después de tres años de deliberaciones\, debates\, presentaciones y reflexiones en el Congreso. Este fracaso no se produjo entre asociaciones\, intelectuales ni entidades de tejido asociativo sino entre partidos políticos. \nTítulo: La revolución política hacia el pacto educativo \nPonente: Prof. Dr. Carlos Novella García \nFecha: Jueves\, 3 de noviembre de 2022 \nHora: 18.30h.  \nLugar: Salón de Actos del Ateneo Mercantil\n \nPresentador: Vicente Gomar Escrivá \nCurriculum abreviado de Carlos Novella García:\nDoctor en Pedagogía por la Universidad Católica de Valencia y Doctor en Filosofía Política por la Universitat de València. Máster Universitario en Ética y Democracia por la Universitat de València. En la actualidad trabaja como profesor de la Facultad de Magisterio y Ciencias de la Educación de la Universidad Católica de Valencia San Vicente Mártir. Área de investigación y publicaciones en torno a política y legislación educativa\, ética y democracia y educación comparada. Miembro de la Sociedad Española de Educación Comparada (SEEC). \nProfesore Honorario de la Universidad Nacional de Villarrica del Espíritu Santo (Paraguay) \nFue asesor técnico pedagógico de la inspección educativa del Ministerio de Educación (Guairá - Paraguay) \nCartel:
URL:https://historico.ateneovalencia.es/evento/ciclo-de-conferencias-la-revolucion-politica-hacia-el-pacto-educativo/
LOCATION:Teatro Ateneo
CATEGORIES:Ciclo de Conferencias
ATTACH;FMTTYPE=image/jpeg:https://historico.ateneovalencia.es/wp-content/uploads/2022/10/20221103-Pacto-Educativo-Conferencia-Gomar.jpg
END:VEVENT
BEGIN:VEVENT
DTSTART;TZID=Europe/Madrid:20221103T190000
DTEND;TZID=Europe/Madrid:20221103T203000
DTSTAMP:20260424T215301
CREATED:20221031T130939Z
LAST-MODIFIED:20221102T093039Z
UID:71602-1667502000-1667507400@historico.ateneovalencia.es
SUMMARY:Ciclo de Conferencias: "El carro de combate en el cine"
DESCRIPTION:El cine en sus casi 100 años de existencia ha creado un género denominado "bélico"\, con centenares de películas en torno al fenómeno de la guerra. En muchas de estas películas el carro de combate juega un papel importante de su argumento o de la historia. \nEl Coronel José Manuel Fernández López\, experto en este género\, crítico de cine y articulista\, autor del libro "Con las Botas Puestas" que dio origen a un programa de televisión del mismo título\, y en conmemoración de la efeméride "El centenario de la creación de las Unidades Acorazadas  españolas"\, ilustrará al público asistente con esta original e interesante conferencia\, a través de la historia y de su reflejo cinematográfico. \nTítulo: "El carro de combate en el cine" \nConferenciante: Ilmo. Sr. José Manuel Fernández López \nDía: 3 de noviembre de 2022 \nHora: 19 horas \nLugar: Salón Sorolla del Ateneo Mercantil de Valencia \nConfirmar asistencia en direccionchcmcentro@et.mde.es \nEntrada Libre y gratuita hasta completar el aforo de la sala. \nCurriculum abreviado de José Manuel Fernández López\nJosé Manuel Fernández López\, 'Flopez'\, es coronel del Ejército de Tierra español. Comenzó sus trabajos periodísticos con la publicación del artículo "El uniforme moteado" en el Diario de Guadalajara \, en 1988. \nEn 2002 publicó en la Revista del Estado Mayor del Ejército el artículo "Síntesis del cine bélico"\, que fue inmediatamente reproducido por el Ejército de los Estados Unidos en Military Review de ese mismo año. Desde entonces es colaborador permanente de la citada revista\, con una columna dedicada al cine bélico y más de 200 artículos publicados. Imparte conferencias en academias\, centros y organismos sobre la evolución del cine bélico y la comunicación. \nEn 2009 publicó "Diccionario de películas bélicas"\, considerada la obra más extensa y exhaustiva publicada sobre el tema a nivel nacional e internacional. Dedicada exclusivamente a este género cinematográfico\, incluye\, además de películas\, documentales\, cortometrajes\, reportajes de guerra y series de televisión. Ha dirigido y presentado el programa de carácter divulgativo "Soldados: conoce a tus Fuerzas Armadas" y\, comenzó la dirección del programa de televisión "Con las botas puestas"\, inspirado en los contenidos recogidos en esta obra. \nCartel:
URL:https://historico.ateneovalencia.es/evento/ciclo-de-conferencias-el-carro-de-combate-en-el-cine/
LOCATION:Salón Sorolla - Ateneo Mercantil de Valencia\, Plaza del Ayuntamiento 18\, Valencia\, Valencia\, 46002\, España
CATEGORIES:Ciclo de Conferencias
ATTACH;FMTTYPE=image/jpeg:https://historico.ateneovalencia.es/wp-content/uploads/2022/10/20221103-Conferencia-Carros-de-Combate-1.jpg
END:VEVENT
BEGIN:VEVENT
DTSTART;TZID=Europe/Madrid:20221107T190000
DTEND;TZID=Europe/Madrid:20221107T203000
DTSTAMP:20260424T215301
CREATED:20220721T081726Z
LAST-MODIFIED:20221014T083634Z
UID:70848-1667847600-1667853000@historico.ateneovalencia.es
SUMMARY:Ciclo Grandes Enigmas de la Humanidad: "Las tumbas de Dios"
DESCRIPTION:Las Sagradas Escrituras han narrado que Jesús murió en la cruz\, fue sepultado y\, tres días después\, su tumba se encontró vacía porque resucitó. A lo largo de la historia se ha buscado esa tumba en la que descansó el cuerpo de Cristo\, durante dos siglos han sido muchas las posibles localizaciones de ésta\, ya que el Santo Sepulcro tiene la 'oficialidad' del cristianismo\, pero existen otras posibles tumbas que se posicionaron como las que resguardaron el cuerpo de Dios. \nEnlace para ver Online: https://youtu.be/MXrYRA5Xzq0\n\nLa conferencia está encuadrada dentro del Ciclo Grandes Enigmas de la Humanidad y será el próximo lunes 7 de noviembre a las 19 horas en el Salón de Actos del Ateneo Mercantil y el ponente será el aventurero y viajero Luis Tobajas de Desafío Viajero. \nSe habla de varias ubicaciones de la tumba de Jesús\, ya que las creencias\, las tradiciones populares y algunos textos religiosos aseguran que reposó en una tumba\, pero a lo largo de la historia han sido varias las tumbas adoradas por numerosos fieles y devotos que discrepan de la verdad oficial de la Iglesia Católica\, que destaca que ésta se encuentra en Jerusalen. \nCartel:
URL:https://historico.ateneovalencia.es/evento/ciclo-grandes-enigmas-de-la-humanidad-las-tumbas-de-dios/
LOCATION:Teatro Ateneo
CATEGORIES:Ciclo Grandes Enigmas de la Humanidad
ATTACH;FMTTYPE=image/jpeg:https://historico.ateneovalencia.es/wp-content/uploads/2022/07/20221107-Tumbas-de-Dios-Tobajas.jpg
END:VEVENT
BEGIN:VEVENT
DTSTART;TZID=Europe/Madrid:20221107T191500
DTEND;TZID=Europe/Madrid:20221107T210000
DTSTAMP:20260424T215301
CREATED:20221104T084002Z
LAST-MODIFIED:20221104T084006Z
UID:71681-1667848500-1667854800@historico.ateneovalencia.es
SUMMARY:500 Aniversario de la Germania de Valencia - Primera Jornada de Conferencias
DESCRIPTION:El Ateneo Mercantil de Valencia va a acoger las jornadas de conferencias de la Associació d'Escritors en Llengua Valenciana en el Salón Sorolla los próximos días 7\, 8 y 9 de noviembre a las 19.15 horas\, dentro del marco de la conmemoración del 500 aniversario de la Germania de Valencia. En esta primera jornada se realizarán dos ponencias: \n\n"La societat valenciana en els inicis del sigle XVI" cuyo ponente será Francisco Cardells.\n"Les grans figures de la Germania: Sorolla\, Llorens\, Peris i els Encoberts" por Fernando Millan.\n\nCartel:
URL:https://historico.ateneovalencia.es/evento/500-aniversario-de-la-germania-de-valencia-primera-jornada-de-conferencias/
LOCATION:Salón Sorolla - Ateneo Mercantil de Valencia\, Plaza del Ayuntamiento 18\, Valencia\, Valencia\, 46002\, España
CATEGORIES:Ciclo de Conferencias
ATTACH;FMTTYPE=image/jpeg:https://historico.ateneovalencia.es/wp-content/uploads/2022/11/20221107-Conferencia-Dia-1-500-Anos-Germanias.jpg
END:VEVENT
BEGIN:VEVENT
DTSTART;TZID=Europe/Madrid:20221108T190000
DTEND;TZID=Europe/Madrid:20221108T203000
DTSTAMP:20260424T215301
CREATED:20221007T103406Z
LAST-MODIFIED:20221104T120453Z
UID:71385-1667934000-1667939400@historico.ateneovalencia.es
SUMMARY:Ciclo de Conferencias: "El Tesoro Real de Alfonso V el Magnánimo y su llegada a la Catedral de Valencia"
DESCRIPTION:El monarca Alfonso el Magnánimo (1416-1458) contribuyó notablemente al desarrollo institucional y cultural del Reino de Valencia. En el siglo XV la ciudad de Valencia se erigirá en la más importante de las poblaciones del territorio peninsular de la Corona de Aragón. La predilección que tuvo el monarca por el reino de Valencia no fue más que el tributo de gratitud pagado a la lealtad de este pueblo\, que a costa de grandes sacrificios había puesto a disposición del rey una armada formidable para operar en las guerras de Italia. Este reino le proporcionó apoyoeconómico para realizar sus proyectos\, en un período de años de prosperidad  y vitalidad sociocultural. \nEnlace para el Online: https://fb.me/e/209c4ovlK\n\nEn el siglo XV\, concretamente el año 1437\, el Rey Alfonso V el Magnánimo entregó a la catedral de Valencia el relicario de la Corona de Aragón\, entre cuyos tesoros destaca el Santo Cáliz de la última Cena del Señor\, que había sido conservado en el monasterio de San Juan de la Peña (Huesca) hasta 1399. La Catedral de Valencia tenía un verdadero tesoro de relicarios\, muchos de ellos representando a los Santos de cuerpo entero o sólo el busto\, pero la mayor parte de ellos fueron fundidos en el año 1812\, en Mallorca\, a donde se habían trasladado\, junto con el retablo de plata y la custodia procesional gótica\, con el fin de salvarlos de la rapacidad del ejército francés; todo ello se convirtió en monedas para pagar a las tropas que luchaban contra Napoleón. Lo que quedó del relicario de la Corona de aragón se encuentra en la Catedral de Valencia y posee un gran valor histórico. \nTítulo: "El Tesoro Real de Alfonso V el Magnánimo y su llegada a la Catedral de Valencia" \nConferenciante: Inmaculada Traver Badenes\n \nDía: Martes 8 de noviembre de 2022 \nHora: 19 horas \nLugar: Salón de Actos - Ateneo Mercantil de Valencia \nEntrada libre hasta completar aforo | Gratuita \nCartel:
URL:https://historico.ateneovalencia.es/evento/ciclo-de-conferencias-el-tesoro-real-de-alfonso-v-el-magnanimo-y-su-llegada-a-la-catedral-de-valencia/
LOCATION:Teatro Ateneo
CATEGORIES:Ciclo de Música M.I.
ATTACH;FMTTYPE=image/jpeg:https://historico.ateneovalencia.es/wp-content/uploads/2022/10/20221108-Tesoro-Alfonso-Magnanimo.jpg
END:VEVENT
BEGIN:VEVENT
DTSTART;TZID=Europe/Madrid:20221108T191500
DTEND;TZID=Europe/Madrid:20221108T210000
DTSTAMP:20260424T215301
CREATED:20221104T085308Z
LAST-MODIFIED:20221104T085308Z
UID:71686-1667934900-1667941200@historico.ateneovalencia.es
SUMMARY:500 Aniversario de la Germania de Valencia - Segunda Jornada de Conferencias
DESCRIPTION:El Ateneo Mercantil de Valencia va a acoger las jornadas de conferencias de la Associació d'Escritors en Llengua Valenciana en el Salón Sorolla los próximos días 7\, 8 y 9 de noviembre a las 19.15 horas\, dentro del marco de la conmemoración del 500 aniversario de la Germania de Valencia. En esta segunda jornada se realizarán dos ponencias: \n\n"L'organisació militar del Regne de Valéncia en el sigle XVI" por Òscar Rueda.\n\n"La guerra en la Germania" por Fernando Sastre. \n\n\nCartel:
URL:https://historico.ateneovalencia.es/evento/500-aniversario-de-la-germania-de-valencia-segunda-jornada-de-conferencias/
LOCATION:Salón Sorolla - Ateneo Mercantil de Valencia\, Plaza del Ayuntamiento 18\, Valencia\, Valencia\, 46002\, España
CATEGORIES:Ciclo de Conferencias
ATTACH;FMTTYPE=image/jpeg:https://historico.ateneovalencia.es/wp-content/uploads/2022/11/20221108-500-Anos-Germania-Jornada-2.jpg
END:VEVENT
BEGIN:VEVENT
DTSTART;TZID=Europe/Madrid:20221109T191500
DTEND;TZID=Europe/Madrid:20221109T210000
DTSTAMP:20260424T215301
CREATED:20221104T091733Z
LAST-MODIFIED:20221104T091751Z
UID:71689-1668021300-1668027600@historico.ateneovalencia.es
SUMMARY:500 Aniversario de la Germania de Valencia - Tercera Jornada de Conferencias
DESCRIPTION:El Ateneo Mercantil de Valencia va a acoger las jornadas de conferencias de la Associació d'Escritors en Llengua Valenciana en el Salón Sorolla los próximos días 7\, 8 y 9 de noviembre a las 19.15 horas\, dentro del marco de la conmemoración del 500 aniversario de la Germania de Valencia. En esta tercera jornada se realizarán dos ponencias: \n\n"La Germania recreada" por Manuel Rochina.\n"Les conseqüencies de la Germania de Valéncia" por Pablo Pérez.\n\nCartel:
URL:https://historico.ateneovalencia.es/evento/500-aniversario-de-la-germania-de-valencia-tercera-jornada-de-conferencias/
LOCATION:Salón Sorolla - Ateneo Mercantil de Valencia\, Plaza del Ayuntamiento 18\, Valencia\, Valencia\, 46002\, España
CATEGORIES:Ciclo de Conferencias
ATTACH;FMTTYPE=image/jpeg:https://historico.ateneovalencia.es/wp-content/uploads/2022/11/20221109-500-Anos-Germania-Jornada-3.jpg
END:VEVENT
BEGIN:VEVENT
DTSTART;TZID=Europe/Madrid:20221114T190000
DTEND;TZID=Europe/Madrid:20221114T203000
DTSTAMP:20260424T215301
CREATED:20220928T123802Z
LAST-MODIFIED:20221018T072158Z
UID:71269-1668452400-1668457800@historico.ateneovalencia.es
SUMMARY:Ciclo de Conferencias: "Constantino y el Imperio Cristiano"
DESCRIPTION:Constantino el Grande fue el primer emperador cristiano pero ¿qué le llevó a abrazar la fe de Cristo en vísperas de la decisiva batalla de Puente Milvio en el año 312? Décadas después\, el hispano Teodosio\, también apodado el Grande\, será quien\, mediante el Edicto de Tesalónica (380)\, haga del cristianismo niceno la religión del estado en la totalidad del Imperio romano. En esta conferencia haremos un recorrido por este apasionante periodo\, haciendo hincapié en la política religiosa de Constantino y la de sus sucesores\, incluido el resurgir pagano durante el breve reinado\, del 361 al 363\, de Juliano "el Apóstata". \nAquella conversión al cristianismo fue el pistoletazo de salida a un Imperio romano cristiano que conformaría la sociedad occidental actual. \nEnlace para el Online: https://youtu.be/c1gx2fIun_I\n\nTítulo: "Constantino y el Imperio Cristiano" \nConferenciante: D. Gregorio Muelas Bermúdez \nDía: Lunes 14 de noviembre de 2022 \nHora: 19 horas \nLugar: Salón de Actos - Ateneo Mercantil de Valencia \nEntrada libre hasta completar aforo | Gratuita \nCartel:
URL:https://historico.ateneovalencia.es/evento/ciclo-de-conferencias-constantino-y-el-imperio-cristiano/
LOCATION:Teatro Ateneo
CATEGORIES:Ciclo de Conferencias
ATTACH;FMTTYPE=image/jpeg:https://historico.ateneovalencia.es/wp-content/uploads/2022/09/20221114-Constantino-Imperio-Cristiano-2.jpg
END:VEVENT
BEGIN:VEVENT
DTSTART;TZID=Europe/Madrid:20221115T173000
DTEND;TZID=Europe/Madrid:20221115T190000
DTSTAMP:20260424T215301
CREATED:20220726T114417Z
LAST-MODIFIED:20221031T110005Z
UID:70910-1668533400-1668538800@historico.ateneovalencia.es
SUMMARY:"El Modernismo en Europa"
DESCRIPTION:El modernismo floreció en toda Europa desde la década de 1880 hasta la Primera Guerra Mundial. Unas décadas donde la intención fue unificar las bellas artes y las artes aplicadas. Desde los muebles hasta las ilustraciones de los libros\, todo se dejó influencias por estas formas orgánicas y elegantes. \nEl modernismo estaba en todas partes en Europa\, en las estaciones de tren\, salones de té y grandes almacenes. El modernismo floreció durante un periodo de cambio social y tecnológico en Europa\, en un momento en el que se aceleraban la industrialización\, la producción en masa y la urbanización. Hoy en día\, reconocemos el modernismo por sus características líneas fluidas\, ornamentos florales\, formas geométricas y uso de figuras simbólicas. \nEnlace para ver online: https://youtu.be/iry4vqghLco\n\nLa conferencia será el próximo martes 15 de noviembre a las 17.30 horas en el Salón Sorolla del Ateneo Mercantil y llega bajo el título "El Modernismo en Europa". El ponente será Amando García\, nuestro especialista en Historia del Arte. \nCartel:
URL:https://historico.ateneovalencia.es/evento/el-modernismo-en-europa/
LOCATION:Salón Sorolla - Ateneo Mercantil de Valencia\, Plaza del Ayuntamiento 18\, Valencia\, Valencia\, 46002\, España
CATEGORIES:Ciclo de Conferencias
ATTACH;FMTTYPE=image/jpeg:https://historico.ateneovalencia.es/wp-content/uploads/2022/07/20221115-Modernismo-Europa.jpg
END:VEVENT
BEGIN:VEVENT
DTSTART;TZID=Europe/Madrid:20221116T190000
DTEND;TZID=Europe/Madrid:20221116T203000
DTSTAMP:20260424T215301
CREATED:20221004T104953Z
LAST-MODIFIED:20221031T115536Z
UID:71314-1668625200-1668630600@historico.ateneovalencia.es
SUMMARY:Ciclo de Conferencias: "Pioneras de la exploración espacial"
DESCRIPTION:Históricamente\, las mujeres han sufrido una escandalosa falta de oportunidades en muchos campos relacionados con la ciencia y la tecnología\, y la exploración espacial no ha sido una excepción. En esta charla reviviremos los sueños\, fracasos y logros de las mujeres que\, desde el principio de los viajes tripulados al espacio\, han luchado por llegar a él. Sus historias de inconformismo\, superación y tenacidad son un ejemplo apasionante para todos nosotros y una gran fuente de inspiración para las nuevas generaciones de científicos\, ingenieros y\, por supuesto\, astronautas de cualquier sexo. \nEnlace para el Online: https://youtu.be/xiI8VGGVElw\n\nEn junio de 1963\, la URSS puso en órbita a la primera mujer cosmonauta. El camino no fue fácil para Tereshkova y sus compañeras\, pero\, para las mujeres de los Estados Unidos\, se convertiría en una misión imposible hasta 20 años más tarde. Desde entonces\, el número de exploradoras espaciales todavía está lejos de igualar al de sus compañeros masculinos. \nDesde Tereshkova hasta las astronautas actualmente en activo\, como la italiana Samantha Cristoforetti\, el camino al espacio para las mujeres ha estado plagado de problemas\, encuentros afortunados y divertidas anécdotas. \nTítulo: "Pioneras de la exploración espacial" \nConferenciante: Dra. Amelia Ortiz-Gil \nDía: Miércoles 16 de noviembre de 2022\n \nHora: 19 horas \nLugar: Salón de Actos - Ateneo Mercantil de Valencia \nEntrada libre hasta completar aforo | Gratuita \nCurriculum abreviado de Amelia Ortiz-Gil\nAmelia Ortiz-Gil es doctora en Ciencias Físicas. Tras dedicar varios años a la investigación en diversos campos de la astronomía\, actualmente su trabajo se centra en la divulgación de esta ciencia\, que lleva a cabo como astrónoma en el Observatorio Astronómico de la Universitat de València. Se le ha otorgado el Premio Jaume I de Ciencia e Investigación del Ayuntamiento de Alberic (València) en 2018 por su trayectoria profesional y su brillante carrera académica. La sociedad planetaria europea Europlanet le otorgó en 2019 el premio Public Engagement por sus contribuciones al diseño de recursos accesibles para comunicar la astronomía a públicos con diversas capacidades\, en particular a personas con problemas de visión. \nCartel:\n \n 
URL:https://historico.ateneovalencia.es/evento/ciclo-de-conferencias-pioneras-de-la-exploracion-espacial/
LOCATION:Teatro Ateneo
CATEGORIES:Ciclo de Conferencias
ATTACH;FMTTYPE=image/jpeg:https://historico.ateneovalencia.es/wp-content/uploads/2022/10/20221116-Pioneras-Astronautas.jpg
END:VEVENT
BEGIN:VEVENT
DTSTART;TZID=Europe/Madrid:20221122T190000
DTEND;TZID=Europe/Madrid:20221122T203000
DTSTAMP:20260424T215301
CREATED:20220722T121728Z
LAST-MODIFIED:20220722T122100Z
UID:70885-1669143600-1669149000@historico.ateneovalencia.es
SUMMARY:"Padre Jofré: Datos del Maristán de Granada y cómo funcionaba el hospital de Valencia"
DESCRIPTION:Arranca un nuevo ciclo de conferencias en el Ateneo Mercantil de Valencia con el que se pretende conmemorar el Centenario de la Coronación de la Virgen de los Desamparados (1923-2023). La segunda de las ponencias llega el próximo martes 22 de noviembre a las 19 horas en el Salón de Actos y llega bajo el título: "Padre Jofré: Datos del Maristán de Granada y cómo funcionaba el hospital de Valencia".  \nEl ponente será el licenciado en Historia del Arte\, Juan José Sanz Maseres. Organiza el ciclo la Fundación Ateneo Mercantil CV\, mientras que el coordinador es Vicente de Castro. \nConoce de cerca la increíble historia del Padre Jofré\, quien tuvo una dedicación absoluta a los desfavorecidos. En el mundo cristiano de la época\, los enfermos mentales eran considerados por la gente ignorante como endemoniados y poseídos lo que daba lugar a infanticidios\, tratamientos exorcistas y abandonos. Los enfermos permanecían atados o encadenados. Pero el Padre Jofre mejoró el trato a los enfermos\, ofreciéndoles trabajos manuales\, o dedicados a labores de la huerta\, las mujeres hacían hilados\, bordados y bolillos\, juegos y distracciones\, ejercicios\, dietas adecuadas higiene tratamiento médico y terapia rehabilitadora y atendiéndoles con amor. \nCartel:
URL:https://historico.ateneovalencia.es/evento/padre-jofre-datos-del-maristan-de-granada-y-como-funcionaba-el-hospital-de-valencia/
LOCATION:Teatro Ateneo
CATEGORIES:Ciclo Centenario de la Coronación de la Virgen de los Desamparados
ATTACH;FMTTYPE=image/jpeg:https://historico.ateneovalencia.es/wp-content/uploads/2022/07/20221129-CENT-CORONA-Padre-Jofre.jpg
END:VEVENT
BEGIN:VEVENT
DTSTART;TZID=Europe/Madrid:20221128T190000
DTEND;TZID=Europe/Madrid:20221128T203000
DTSTAMP:20260424T215301
CREATED:20220921T114326Z
LAST-MODIFIED:20221108T122447Z
UID:71190-1669662000-1669667400@historico.ateneovalencia.es
SUMMARY:Ciclo de Conferencias: "Los rascacielos. Competencia por la altura"
DESCRIPTION:La construcción de los rascacielos más altos es un símbolo de poder\, pero también de atracción turística allá donde se erigen. Estamos viviendo una auténtica fiebre por competir por la altura. La conferencia será el próximo lunes 28 de noviembre a las 19 horas en el Salón de Actos del Ateneo Mercantil y llega bajo el título "Los rascacielos. Competencia por la altura" y el ponente será el Doctor Arquitecto y Profesor Titular de Cálculo de Estructuras en la Universitat Politècnica de València\, el Prof. Dr. Adolfo Alonso Durá. La conferencia se dará también en Online por el Canal de Youtube del Ateneo. \nEnlace para el Online: https://youtu.be/WfbbIFrZgaI\n\nA lo largo del último siglo y medio de la historia se han construido los rascacielos que dominaron el mundo durante ciertos años. Entre el que se considera el primer rascacielos de la historia\, el Home Insurance Building de Chicago (1885) de William Le Baron Jenney\, con 42 metros de altura\, y la torre más alta del mundo\, la torre Jalifa de Dubái (2010)\, con 828 metros de altura\, se han levantado edificios de una altura enorme que\, hoy en día\, dominan las siluetas de las grandes ciudades del mundo. \nLas técnicas de construcción\, los materiales y el diseño\, en definitiva el avance tecnológico han permitido esta gran evolución en los rascacielos\, tanto que incluso se están superando los límites que se imaginaban los propios arquitectos y constructores. En la conferencia veremos esta espectacular evolución de los edificios que en algún momento de la historia dominaron el mundo desde las alturas. \nCurriulum breve de Adolfo Alonso Durá\nAdolfo Alonso es Doctor Arquitecto en Mecánica de los Medios Continuos y Teoría de Estructuras por la Universitat Politècnica de València (UPV). Además\, es Profesor Titular de Cálculo de Estructuras en la UPV y Director del Máster Universitario en Conservación del Patrimonio Arquitectónico en la UPV. \nCartel:\n \n  \n 
URL:https://historico.ateneovalencia.es/evento/ciclo-de-conferencias-los-rascacielos-competencia-por-la-altura/
LOCATION:Teatro Ateneo
CATEGORIES:Ciclo de Conferencias
ATTACH;FMTTYPE=image/jpeg:https://historico.ateneovalencia.es/wp-content/uploads/2022/09/20221128-Rascacielos-1.jpg
END:VEVENT
BEGIN:VEVENT
DTSTART;TZID=Europe/Madrid:20221129T190000
DTEND;TZID=Europe/Madrid:20221129T203000
DTSTAMP:20260424T215301
CREATED:20221030T102746Z
LAST-MODIFIED:20221108T125311Z
UID:71588-1669748400-1669753800@historico.ateneovalencia.es
SUMMARY:"El Amor Platónico: un regreso a la Antigua Grecia a través del pensamiento de la maestra de Sócrates"
DESCRIPTION:El Ciclo de Conferencias nos trae una nueva sesión sobre historia clásica el próximo martes 29 de noviembre a las 19 horas en el Ateneo Mercantil de Valencia. Una conferencia que será Online y que nos traerá la historia de una figura relevante como es Diotima de Mantinea\, la maestra de Sócrates. Una mujer valiente y adelantada a su tiempo cuyas ideas son el origen del concepto de amor platónico. De ella\, Sócrates aprendió todas las virtudes del verdadero amor gracias a los diálogos entre ambos y su fascinación con la sabiduría de esta mujer. \nEnlace para el Online: https://youtu.be/8w0CBS9J9kc\n\nEn una época en la que las mujeres debían renunciar a todo\, la condición de sacerdotisa sin voto de celibato de Diotima le dará la libertad de estar a solas con el pensador más relevante de su tiempo\, al que instruirá secretamente\, así como de participar de la vida política y filosófica de Atenas. Sin embargo\, pronto se extenderán rumores acerca de una relación íntima entre maestra y alumno debido a sus frecuentes encuentros. En plena Edad de Oro\, asistiremos al esplendor de una ciudad que acabará conformando los cimientos de la cultura occidental\, a la vez que seremos testigos de una relación entre Sócrates y Diotima cada vez más estrecha\, y de las lecciones que le dio la que pudo ser la inspiradora de la filosofía occidental. \nTítulo: "El Amor Platónico: un regreso a la Antigua Grecia a través del pensamiento de la maestra de Sócrates" \nConferenciante: Laura Mas \nDía: Martes 29 de noviembre de 2022 \nHora: 19 horas \nConferencia Online | Gratuita \nCurriculum abreviado de Laura Mas\nLaura Mas (Las Palmas de Gran Canaria\, 1989) es licenciada en Periodismo por la Universidad Autónoma de Barcelona (UAB). Lleva una década ejerciendo el periodismo cultural y ha colaborado en medios como Onda Cero o RNE\, además de escribir para las revistas Vanity Fair\, Clarín y Qué Leer. Desde hace cinco años es gestora cultural\, actividad que compagina con su verdadera pasión\, la escritura. \nEn 2020 publicó su primera novela\, La maestra de Sócrates (ed. Espasa)\, por la que estuvo nominada en la categoría 'Mejor autor novel' de los XI Premios de Literatura Histórica Hislibris. Actualmente colabora en Historia National Geographic como articulista. \nCartel:
URL:https://historico.ateneovalencia.es/evento/el-amor-platonico-un-regreso-a-la-antigua-grecia-a-traves-del-pensamiento-de-la-maestra-de-socrates/
LOCATION:On line
CATEGORIES:Ciclo de Conferencias
ATTACH;FMTTYPE=image/jpeg:https://historico.ateneovalencia.es/wp-content/uploads/2022/10/20221129-Maestra-de-Socrates-Laura-Mas.jpg
END:VEVENT
END:VCALENDAR