BEGIN:VCALENDAR
VERSION:2.0
PRODID:-//Ateneo Mercantil de Valencia - ECPv6.0.4//NONSGML v1.0//EN
CALSCALE:GREGORIAN
METHOD:PUBLISH
X-WR-CALNAME:Ateneo Mercantil de Valencia
X-ORIGINAL-URL:https://historico.ateneovalencia.es
X-WR-CALDESC:Eventos para Ateneo Mercantil de Valencia
REFRESH-INTERVAL;VALUE=DURATION:PT1H
X-Robots-Tag:noindex
X-PUBLISHED-TTL:PT1H
BEGIN:VTIMEZONE
TZID:Europe/Madrid
BEGIN:DAYLIGHT
TZOFFSETFROM:+0100
TZOFFSETTO:+0200
TZNAME:CEST
DTSTART:20220327T010000
END:DAYLIGHT
BEGIN:STANDARD
TZOFFSETFROM:+0200
TZOFFSETTO:+0100
TZNAME:CET
DTSTART:20221030T010000
END:STANDARD
END:VTIMEZONE
BEGIN:VEVENT
DTSTART;TZID=Europe/Madrid:20220301T173000
DTEND;TZID=Europe/Madrid:20220301T190000
DTSTAMP:20260425T152922
CREATED:20211213T161331Z
LAST-MODIFIED:20220114T131600Z
UID:66147-1646155800-1646161200@historico.ateneovalencia.es
SUMMARY:"La arquitectura musulmana en España"
DESCRIPTION:El Ateneo Mercantil de Valencia ha programado un serial de conferencias con D. Amando García en la que se tocarán diversos temas en los que es especialista. Serán conferencias que sólo se podrán seguir de manera online tanto por el Canal de YouTube del Ateneo\, por FacebookLive como por Zoom. En esta ocasión\, el próximo martes 1 de marzo a las 17.30 horas\, hablará largo y tendido de "La arquitectura musulmana en España". \nEnlace de YouTube para Online: https://youtu.be/ZadcAw1eqqY\n\nAunque la arquitectura andalusí se asentó sobre la tradición romano-visigoda\, aportó los elementos más típicos del mundo islámico: arcos\, cubiertas y la rica ornamentación basada en motivos geométricos\, vegetales y epigráficos. España es un país con una notable influencia musulmana\, y es que el largo dominio musulmán en la Península Ibérica dejó inigualables obras arquitectónicas\, muchas de ellas Patrimonio de la Humanidad. Alcazabas\, baños árabes\, mezquitas\, fortalezas\, castillos o alcázares…  \nCartel:
URL:https://historico.ateneovalencia.es/evento/la-arquitectura-musulmana-en-espana/
LOCATION:On line
CATEGORIES:Ciclo de Conferencias
ATTACH;FMTTYPE=image/jpeg:https://historico.ateneovalencia.es/wp-content/uploads/2021/12/20220301-Arquitectura-Musulmana.jpg
END:VEVENT
BEGIN:VEVENT
DTSTART;TZID=Europe/Madrid:20220301T190000
DTEND;TZID=Europe/Madrid:20220301T203000
DTSTAMP:20260425T152922
CREATED:20211221T135017Z
LAST-MODIFIED:20220224T181011Z
UID:66338-1646161200-1646166600@historico.ateneovalencia.es
SUMMARY:Ciclo Grandes Conquistadores de la Historia: "Gengis Kan. El dueño del mundo"
DESCRIPTION:El Ciclo Grandes Conquistadores de la Historia llega al Ateneo Mercantil de Valencia el próximo martes 1 de marzo a las 19 horas con una conferencia que será online y que nos trae la figura el soberano mongol\, "Gengis Kan. El dueño del mundo" y que ofrecerá el historiador\, profesor universitario y escritor español\, José Luis Corral. \nEnlace de Youtube para Online: https://youtu.be/F5_O8skcaBY\n\nQuien estaba llamado a forjar el más vasto imperio que ha conocido la humanidad\, Gengis Kan\, nació en las desoladas estepas de Mongolia\, allí donde el frío y el viento hacen a los hombres duros como el diamante\, insensibles como las piedras y tenaces como la hierba áspera que crece bajo la nieve helada. En apenas veinte años\, el caudillo mongol levantó un imperio colosal\, encadenando victorias que descansaron en su carisma personal\, la elección de generales en razón de sus méritos (y no de su linaje) y el empleo sistemático del terror. \nJosé Luis Corral\nJosé Luis Corral es profesor titular de Historia de Aragón y de Historia del Islam en la Universidad de Zaragoza. Como medievalista\, ha centrado su labor investigadora en la España musulmana y en la Historia de Aragón. Es también autor de novelas históricas. \nHa dirigido diversos programas de radio y televisión de divulgación histórica. Es colaborador regular en prensa y en programas de radio y televisión. Fue asesor histórico de la película 1492: La conquista del paraíso de Ridley Scott. Fue presidente de la Asociación Aragonesa de Escritores (AAE) desde su fundación hasta noviembre de 2016. \nEntre los premios y reconocimientos que ha obtenido destacan la medalla de plata en el XXXIV Festival Internacional de Vídeo y Televisión de Nueva York (1192) como director histórico de la serie Historia de Aragón en vídeo. En 2015 fue elegido "Aragonés del año" por los lectores de El Periódico de Aragón en la sección de Cultura y en 2017 obtuvo el Premio de las Letras Aragonesas. \nCartel:
URL:https://historico.ateneovalencia.es/evento/ciclo-grandes-conquistadores-de-la-historia-gengis-kan-el-dueno-del-mundo/
LOCATION:On line
CATEGORIES:Ciclo de Conferencias,Ciclo Grandes Conquistadores de la Historia
ATTACH;FMTTYPE=image/jpeg:https://historico.ateneovalencia.es/wp-content/uploads/2021/12/20220228-Gengis-Kan.jpg
END:VEVENT
BEGIN:VEVENT
DTSTART;TZID=Europe/Madrid:20220303T190000
DTEND;TZID=Europe/Madrid:20220303T203000
DTSTAMP:20260425T152922
CREATED:20220215T091755Z
LAST-MODIFIED:20220216T132055Z
UID:67111-1646334000-1646339400@historico.ateneovalencia.es
SUMMARY:Ciclo Lecciones Magistrales: "Memoria Vs Olvido" por Paco Roca
DESCRIPTION:El Ciclo Lecciones Magistrales nos trae el próximo jueves 3 de marzo al Salón de Actos del Atenero Mercantil de Valencia al reconocido autor de novela gráfica e ilustrador\, Paco Roca\, quien desarrollará en la conferencia "Memoria Vs Olvido" una disertación acerca de sus procesos de trabajo\, sirviéndose de varias de sus obras. A partir de una de ellas\, "Los surcos del azar"\, planteará una reflexión sobre la representación de la memoria histórica en el ámbito de la narrativa gráfica\, sobre sus posibilidades y sobre el muy particular contexto español al respecto. Asimismo\, trasladará la cuestión de la memoria\, íntima o pública\, como "continuum" de su obra\, a otros de sus libros\, "Arrugas" o "La casa". \nEnlace para la conferencia Online: https://youtu.be/WQ1eGjVcnfo\n\nCurriculum:\nPaco Roca (Valencia\, 1969) estudió en la Escuela de Arte y Superior de Diseño de Valencia. Aunque su trabajo se centra en los cómics\, compagina su tiempo con la ilustración y las charlas y talleres. \nEn el terreno de los cómics\, su obra se ha traducido a una docena de países. Entre su bibliografía destaca El juego lúgubre (2001); El Faro (2004) Premio Diario de avisos al mejor guion realista; Arrugas (2007)\, Premio Nacional de Cómic 2008\, Premio del Salón del Cómic de Barcelona\, Premio Dolmen de la crítica\, Premio Madrid Expocómic\, Gran Premio Romics de Roma\, Premio Gran Guinigi de Lucca\, Excellence Award del Japan Media Art Festival\, nominado a los premios Eisner; Las calles de arena (2008); El invierno del dibujante (2010)\, Premio del Saló del Cómic de Barcelona\, Premio Madrid Expocómic\, Premio Treviso Comic Book Festival; la trilogía Un hombre en pijama\, (Memorias de un hombre en pijama (2011)\, Andanzas de un hombre en pijama (2014) y Confesiones de un hombre en pijama (2017)\, recopilación de las páginas aparecidas en el periódico Las Provincias y El País Semanal; Los surcos del azar (2013)\, Premio del Salón del Cómic de Barcelona\, Premio Zona Cómic\, Premio de la crítica\, Premio del Salón del cómic de Zaragoza\, Premio Mandarache de Cartagena\, Finalista al Premio Libro del Año\, Gran Premio Romics; La casa (2015)\, Premio Zona Cómic\, Gran Premio Romics\, Premio Comic Con Portugal\, Estrella al cómic más destacado por el periódico de la capital francesa Le Parisien; La encrucijada (2017)\, colaboración con el músico José Manuel Casañ (Seguridad Social)\, El tesoro del Cisne Negro (2018) con guion de Guillermo Corral\, Premio Splash Sagunt\, Premio Heroes Comic de Madrid; El Dibuixat (2019) creado para las paredes del Instituto Valenciano de Arte Moderno\, IVAM y editado en 2021; Regreso al edén (2020) premio de ACDCómic (Asociación de críticos y divulgadores de cómic de España) a la mejor obra nacional de 2020\, premio al Cómic del año El Corte Inglés\, Mejor obra de autoría internacional en el Salón Internacional del Cómic de Zaragoza. \nEn 2019 recibió el Inkpot Award en la Comic Con de San Diego. También el mismo año el premio Gráffica de Valencia. En 2020 La casa\, editada en Estados Unidos por Fantagraphics en castellano e inglés\, ganó el premio Eisner en la categoría de "mejor edición de material internacional". En 2021 El invierno del dibujante fue nominada al premio Eisner a Mejor edición norteamericana de material internacional y al premio Harvey a Mejor Obra Internacional. \nAlgunos de sus cómics han sido llevados al ámbito audiovisual como es el caso de Arrugas (Ignacio Ferreras\, 2011) que obtuvo el Goya a la mejor película de animación y al mejor guion adaptado; Memorias de un hombre en pijama o El tesoro del Cisne Negro\, serie de televisión dirigida por Alejandro Amenabar. \nEn el ámbito de la ilustración\, ha realizado carteles\, portadas de libros\, murales y campañas sociales\, para todo tipo de eventos\, publicaciones o clientes\, en especial organizaciones no gubernamentales como Oxfam Intermón\, Greenpeace\, Amnistía Internacional\, Cruz Roja\, Farmamundi y en 2021 realizó junto a Martín Forés el mural que homenajea el histórico barrio de Natzaret de la ciudad de València \nImparte charlas y Talleres por toda España y fuera de nuestro país\, ha colaborado con la Fundación Germán Ruipérez\, El placer de leer\, de la Diputación de Sevilla\, la Fundación La Caixa\, El Instituto Cervantes… \nHa sido tertuliano de radio junto a Pepa Fernández en RNE y colaborador del programa Abierto a mediodía de Ramón Palomar en la emisora de Valencia 99.0 \nSe han realizado numerosas muestras e instituciones que incluyen el MuVim de Valencia\, la Fundación Telefónica de Madrid\, Las Naves de Valencia\, el Centro de Historias de Zaragoza\, el Salón Internacional del Cómic de Barcelona o el Festival Internacional de Bande Dessinée de Angoulême\, el IVAM de Valencia… \nEn 2016 fue nombrado hijo predilecto de su ciudad\, Valencia y en 2021 recibió una distinción por parte de la Generalitat Valenciana. \nCartel:
URL:https://historico.ateneovalencia.es/evento/ciclo-lecciones-magistrales-memoria-vs-olvido-por-paco-roca/
LOCATION:Teatro Ateneo
CATEGORIES:Ciclo Lecciones Magistrales
ATTACH;FMTTYPE=image/jpeg:https://historico.ateneovalencia.es/wp-content/uploads/2022/02/20220303-Lecciones-Magistrales-Paco-Roca.jpg
END:VEVENT
BEGIN:VEVENT
DTSTART;TZID=Europe/Madrid:20220322T173000
DTEND;TZID=Europe/Madrid:20220322T190000
DTSTAMP:20260425T152922
CREATED:20211213T162236Z
LAST-MODIFIED:20220215T135719Z
UID:66151-1647970200-1647975600@historico.ateneovalencia.es
SUMMARY:"Arte prehistórico en España"
DESCRIPTION:El Ateneo Mercantil de Valencia ha programado un serial de conferencias con D. Amando García en la que se tocarán diversos temas en los que es especialista. Serán conferencias que sólo se podrán seguir de manera online tanto por el Canal de YouTube del Ateneo\, por FacebookLive como por Zoom. En esta ocasión\, el próximo martes 22 de marzo a las 17.30 horas\, hablará largo y tendido del "Arte prehistórico en España". \nEnlace de YouTube para Online: https://youtu.be/7hh4qhif3Ns\n\nEl arte prehistórico en sus distintas acepciones fue consecuencia de la expansión y diversificación de la especie humana a lo largo del planeta\, dando origen así a culturas y civilizaciones muy distintas. Cada una de ellas tenía una visión propia\, aunque primitiva todavía\, del mundo y de sí mismas. Se sabe que el Homo neanderthalensis recogía materiales de formas y colores llamativos\, con los que decorar sus cuevas y despedir a sus difuntos. A este homínido pertenecieron las primeras formas de arte prehistórico\, con más de 67.000 años de antigüedad. Pero los cromañones fueron los que dejaron más y mejores rastros artísticos detrás\, ya sea en forma de pinturas\, grabados y esculturas pequeñas. Algunas de ellas datan de hace 35.000 años. \nEn España encontramos dos grandes zonas de pintura rupestre\, la del Norte Peninsular\, con la Cueva de Altamira y la pintura rupestre en el Levante Peninsular\, con la llegada del Antropocentrismo. \nCartel:
URL:https://historico.ateneovalencia.es/evento/arte-prehistorico-en-espana/
LOCATION:On line
CATEGORIES:Ciclo de Conferencias
ATTACH;FMTTYPE=image/jpeg:https://historico.ateneovalencia.es/wp-content/uploads/2021/12/20220322-Arte-Prehistorico.jpg
END:VEVENT
BEGIN:VEVENT
DTSTART;TZID=Europe/Madrid:20220324T190000
DTEND;TZID=Europe/Madrid:20220324T203000
DTSTAMP:20260425T152922
CREATED:20220316T194152Z
LAST-MODIFIED:20220322T105856Z
UID:68790-1648148400-1648153800@historico.ateneovalencia.es
SUMMARY:Ciclo Entidades Históricas: "Gremio Artesano de Artistas Falleros de Valencia"
DESCRIPTION:Tras las Fallas de 2022\, el Ciclo Entidades Históricas Valencianas trae al Ateneo Mercantil el próximo jueves 24 de marzo a las 19 horas en el Salón Sorolla la conferencia "Gremio Artesano de Artistas Falleros de Valencia"\, que contará con la ponencia de Paco Pellicer\, Maestro Mayor del Gremio. \nLos fines del gremio son la representación\, defensa y promoción de los intereses económicos\, sociales\, profesionales y culturales de sus agremiados. Fomentar la solidaridad de los agremiados\, proporcionando y creando servicios comunes de naturaleza asistencial. Programar las acciones necesarias para conseguir mejoras sociales y económicas de los agremiados y organizar una constante labor formativa y de promoción cultural. \nEl Gremio aporta a sus agremiados una Sede Social sita en la Ciudad del Artista Fallero\, compuesta por el Museo del Artista Fallero\, escaparate del trabajo que realizan los agremiados en el terreno profesional de las fallas\, así como de otros trabajos a los que se dedican. Asimismo en el mismo Museo existe una Sala de Conferencias donde se proyectan vídeos informativos de nuestras actividades\, así como actos culturales. \nCartel:
URL:https://historico.ateneovalencia.es/evento/ciclo-entidades-historicas-gremio-artesano-de-artistas-falleros-de-valencia/
LOCATION:Salón Sorolla - Ateneo Mercantil de Valencia\, Plaza del Ayuntamiento 18\, Valencia\, Valencia\, 46002\, España
CATEGORIES:Ciclo Entidades Históricas Valencianas
ATTACH;FMTTYPE=image/jpeg:https://historico.ateneovalencia.es/wp-content/uploads/2022/03/20220324-Gremio-Artista-Fllero.jpg
END:VEVENT
BEGIN:VEVENT
DTSTART;TZID=Europe/Madrid:20220329T190000
DTEND;TZID=Europe/Madrid:20220329T203000
DTSTAMP:20260425T152922
CREATED:20211214T141707Z
LAST-MODIFIED:20220127T085657Z
UID:66190-1648580400-1648585800@historico.ateneovalencia.es
SUMMARY:"La Pirámide de Chichén-Itzá: El corazón del Imperio Maya"
DESCRIPTION:El Ciclo Maravillas del Mundo Antiguo y Moderno regresa al Ateneo Mercantil con una conferencia muy esperada por todos\, ya que el próximo martes 29 de marzo a las 19 horas llega el Prof. Dr. Adolfo Alonso Durá\, Doctor Arquitecto\, Mecánica de los Medios Continuos y Teoría de Estructuras y Profesor Titular de Cálculo de Estructuras en UPV con la ponencia sobre la "Pirámide de Chichén-Itzá: El corazón del Imperio Maya". Una conferencia que podrá seguirse manera presencial en nuestro Salón de Actos y también por nuestro canal de YouTube en directo\, además de por FacebookLive y Zoom. \nEnlace para la Conferencia en Directo: https://youtu.be/sK6615mywQs\n\nLa pirámide de Chichén-Itzá\, también conocida como la de Kukulcán\, se eleva con precisión geométrica en medio de una explanada que hace mil años fue el centro político\, religioso y cultural del imperio maya. Chichén Itzá significa "boca del pozo de los itzaes"\, en alusión al cenote situado al norte de la pirámide y que era considerado un enclave sagrado\, además de una fuente de agua dulce esencial para aquella ciudad de templos y sabios astrónomos. \nEl recinto arqueológico ocupa 15 km2\, es Patrimonio de la Humanidad desde 1998 y constituye uno de los testimonios mejor preservados de la civilización maya. \nCartel:
URL:https://historico.ateneovalencia.es/evento/la-piramide-de-chichen-itza-el-corazon-del-imperio-maya/
LOCATION:Teatro Ateneo
CATEGORIES:Ciclo Maravillas del Mundo Antiguo y Moderno
ATTACH;FMTTYPE=image/jpeg:https://historico.ateneovalencia.es/wp-content/uploads/2021/12/20220113-Piramide-Chichen-Itza-1.jpg
END:VEVENT
END:VCALENDAR