BEGIN:VCALENDAR
VERSION:2.0
PRODID:-//Ateneo Mercantil de Valencia - ECPv6.0.4//NONSGML v1.0//EN
CALSCALE:GREGORIAN
METHOD:PUBLISH
X-ORIGINAL-URL:https://historico.ateneovalencia.es
X-WR-CALDESC:Eventos para Ateneo Mercantil de Valencia
REFRESH-INTERVAL;VALUE=DURATION:PT1H
X-Robots-Tag:noindex
X-PUBLISHED-TTL:PT1H
BEGIN:VTIMEZONE
TZID:Europe/Madrid
BEGIN:DAYLIGHT
TZOFFSETFROM:+0100
TZOFFSETTO:+0200
TZNAME:CEST
DTSTART:20210328T010000
END:DAYLIGHT
BEGIN:STANDARD
TZOFFSETFROM:+0200
TZOFFSETTO:+0100
TZNAME:CET
DTSTART:20211031T010000
END:STANDARD
END:VTIMEZONE
BEGIN:VEVENT
DTSTART;TZID=Europe/Madrid:20211102T173000
DTEND;TZID=Europe/Madrid:20211102T190000
DTSTAMP:20260426T050453
CREATED:20211029T090119Z
LAST-MODIFIED:20211102T134108Z
UID:65470-1635874200-1635879600@historico.ateneovalencia.es
SUMMARY:Ciclo Paseos por la Historia y el Arte de las Catedrales: "La Catedral de Sevilla"
DESCRIPTION:Cuarta conferencia de este nuevo ciclo que llega al Ateneo Mercantil. Una ponencia que correrá a cargo del profesor e historiador de arte\, D. Amando García y que está englobada en el Ciclo Paseos por la Historia y el Arte de las Catedrales de España. En esta ocasión se desarrollará "La Catedral de Sevilla"\, que es la catedral gótica más grande del mundo. Declarada en 1987 Patrimonio de la Humanidad por la Unesco. \nEnlace para la conferencia Online: https://us06web.zoom.us/j/86833055942\nSu construcción se inició en 1401\, aunque no existe constancia documental del comienzo de los trabajos hasta 1433. La edificación se realizó en el solar que quedó tras la demolición de la antigua mezquita aljama de Sevilla\,​ cuyos alminar (la Giralda) y patio (patio de los Naranjos) aún se conservan.​ \nUno de los primeros maestros de obras fue el maestre Carlín (Charles Galter)\, procedente de Normandía\, que había trabajado previamente en otras grandes catedrales góticas europeas. En 1506 se procedió a la colocación de la piedra postrera en la parte más alta del cimborio\, con lo que simbólicamente la catedral quedó finalizada\, aunque en realidad siguieron efectuándose trabajos de forma ininterrumpida a lo largo de los siglos\, tanto para la decoración interior\, como para añadir nuevas dependencias o consolidar y restaurar los desperfectos ocasionados por el paso del tiempo\, o circunstancias extraordinarias\, entre las que cabe destacar el terremoto de Lisboa de 1755 que produjo únicamente daños menores a pesar de su intensidad. El templo acoge los restos mortales de Cristóbal Colón y de varios reyes de Castilla: Pedro I el Cruel\, Fernando III el Santo y el hijo de este\, Alfonso X el Sabio. \nCartel
URL:https://historico.ateneovalencia.es/evento/ciclo-paseos-por-la-historia-y-el-arte-de-las-catedrales-la-catedral-de-sevilla/
LOCATION:Salón Sorolla - Ateneo Mercantil de Valencia\, Plaza del Ayuntamiento 18\, Valencia\, Valencia\, 46002\, España
CATEGORIES:Ciclo Paseo por la Historia y el Arte de la Catedrales
ATTACH;FMTTYPE=image/jpeg:https://historico.ateneovalencia.es/wp-content/uploads/2021/10/20211102-Catedral-de-Sevilla.jpg
END:VEVENT
BEGIN:VEVENT
DTSTART;TZID=Europe/Madrid:20211103T180000
DTEND;TZID=Europe/Madrid:20211103T193000
DTSTAMP:20260426T050453
CREATED:20211026T103551Z
LAST-MODIFIED:20211026T104319Z
UID:65451-1635962400-1635967800@historico.ateneovalencia.es
SUMMARY:"Luis Vives y Suiza. Un puente entre dos culturas"
DESCRIPTION:El próximo miércoles 3 de noviembre en el Salón Sorolla del Ateneo Mercantil (5ª planta) se celebrará a las 18 horas la conferencia "Luis Vives y Suiza. Un puente entre dos culturas" que organiza Alece Casa Cultura\, plataforma cultural para el desarrollo de la lengua\, arte y cultura española\, con la participación de Dª. María Dolores Capilla Aledón\, Cónsul Honoraria de España en el Cantón Tesino (Suiza) y fundadora de Casa Cultura. \n"No hay espejo que mejor refleje la imagen del hombre que sus palabras". Luis Vives fue uno de los escritores del humanismo hispano que podemos encuadrar en el llamado segundo Renacimiento. La ciudad suiza de Basilea fue un foco de atracción a lo largo de los siglos XV y XVI de impresores\, artistas y humanistas. Gracias a ese maravilloso invento llamado libro y al ahínco y tesón de un gran pensador se trazó una red de conexión entre dos culturas. Dos países\, España y Suiza\, a través de dos ciudades\, Valencia y Basilea\, entablarán un puente cultural en el siglo XVI a través de este gran humanista valenciano. \nCartel
URL:https://historico.ateneovalencia.es/evento/luis-vives-y-suiza-un-puente-entre-dos-culturas/
LOCATION:Salón Sorolla - Ateneo Mercantil de Valencia\, Plaza del Ayuntamiento 18\, Valencia\, Valencia\, 46002\, España
CATEGORIES:Ciclo de Conferencias
ATTACH;FMTTYPE=image/jpeg:https://historico.ateneovalencia.es/wp-content/uploads/2021/10/20211103-Luis-Vives-Casa-Cultura-1.jpg
END:VEVENT
BEGIN:VEVENT
DTSTART;TZID=Europe/Madrid:20211108T190000
DTEND;TZID=Europe/Madrid:20211108T203000
DTSTAMP:20260426T050453
CREATED:20211102T125621Z
LAST-MODIFIED:20211102T125621Z
UID:65515-1636398000-1636403400@historico.ateneovalencia.es
SUMMARY:Ciclo Antiguo Egipto: "Arte y Eternidad: entender el arte del Antiguo Egipto y aprender a ver"
DESCRIPTION:Una nueva conferencia online del Ciclo El Antiguo Egipto llega al Ateneo Mercantil el próximo lunes 8 de noviembre a las 19 horas. La presidenta de la Asociación Española de Egiptología\, Rosa Pujol\, nos trae "Arte y Eternidad: entender el arte del Antiguo Egipto y aprender a ver". \nEnlace para la conferencia online: https://us06web.zoom.us/j/84410920635\nTodos nos hemos sentido atraídos por las principales manifestaciones plásticas egipcias desde la época predinástica hasta el Período copto cristiano. Hoy podemos encontrar infinidad de libros de historia sobre la producción figurativa del Antiguo Egipto\, llegando a entender las obras de arte a partir del momento político en el que se produce. Pero\, ésta es una disciplina que requiere también una lectura desde dentro de la propia obra\, que ayude a entender e identificar las leyes que determinaron aquellas manifestaciones. Las decoraciones murales\, las esculturas... desde el canon al que debían ceñirse los artistas hasta las técnicas empleadas. El arte egipcio es un hecho histórico y estético. \nCartel\n \n 
URL:https://historico.ateneovalencia.es/evento/ciclo-antiguo-egipto-arte-y-eternidad-entender-el-arte-del-antiguo-egipto-y-aprender-a-ver/
LOCATION:On line
CATEGORIES:Ciclo Antiguo Egipto
ATTACH;FMTTYPE=image/jpeg:https://historico.ateneovalencia.es/wp-content/uploads/2021/11/20211108-Arte-Egipcio.jpg
END:VEVENT
BEGIN:VEVENT
DTSTART;TZID=Europe/Madrid:20211115T190000
DTEND;TZID=Europe/Madrid:20211115T203000
DTSTAMP:20260426T050453
CREATED:20210727T085052Z
LAST-MODIFIED:20210727T085052Z
UID:64702-1637002800-1637008200@historico.ateneovalencia.es
SUMMARY:"Helena Sorolla\, escultora"
DESCRIPTION:El Ciclo de Conferencias regresa con la segunda de las dos ponencias que ofrecerá el historiador del arte y museógrafo español\, D. Felipe Garín Lombart\, en el Ateneo Mercantil. El próximo lunes 15 de noviembre a las 19 horas en el Salón de Actos nuestra entidad se celebrará la conferencia "Helena Sorolla\, Escultora"\, una charla en la que el Catedrático de Historia del Arte de la UPV\, el ex director gerente del Consorcio de Museos de la Comunitat Valenciana y ex director del Museo del Prado (1991-1993)\, nos acercará la figura de la hija menor de Joaquín Sorolla y Clotilde García\, Helena Sorolla García\, y su relación con el arte\, con el mundo de la escultura. \nEnlace para la conferencia Online: https://us06web.zoom.us/j/82703296060\nHelena se diferenció de sus hermanos María y Joaquín\, que sólo pintaban\, y desarrolló el gusto por la escultura\, de hecho\, la familia tan solo cuenta con dos cuadros al óleo de Helena\, de época temprana. Comenzó a modelar en el estudio de su padre\, ante esas modelos femeninas cuando tan sólo contaba con 16 años\, en 1911. Continuó sus estudios de escultura con el ilustre escultor valenciano\, José Capuz con el que Helena aprendió las distintas técnicas de modelado\, dejándonos obras en mármol\, madera y yeso que muestran un claro dominio del proceso de vaciado. \nDejó una producción escultórica escasa pero de gran calidad técnica. Muchas de estas piezas están sin firmar como ocurre con la obra de otras mujeres escultoras de su época. Entre sus trabajos destacan figuras femeninas de cuerpo entero y pequeño tamaño\, así como los bustos. \nCartel:\n \n 
URL:https://historico.ateneovalencia.es/evento/helena-sorolla-escultora/
LOCATION:Teatro Ateneo
CATEGORIES:Ciclo de Conferencias
ATTACH;FMTTYPE=image/jpeg:https://historico.ateneovalencia.es/wp-content/uploads/2021/07/20211115-Helena-Sorolla-Escultora.jpg
END:VEVENT
BEGIN:VEVENT
DTSTART;TZID=Europe/Madrid:20211116T173000
DTEND;TZID=Europe/Madrid:20211116T190000
DTSTAMP:20260426T050453
CREATED:20211102T080852Z
LAST-MODIFIED:20211102T084053Z
UID:65484-1637083800-1637089200@historico.ateneovalencia.es
SUMMARY:Ciclo Paseos por la Historia y el Arte de las Catedrales: "La Catedral de Barcelona"
DESCRIPTION:Quinta conferencia de este nuevo ciclo que llega al Ateneo Mercantil. Una ponencia que correrá a cargo del profesor e historiador de arte\, D. Amando García y que está englobada en el Ciclo Paseos por la Historia y el Arte de las Catedrales de España. En esta ocasión se desarrollará "La Catedral de Barcelona". Su nombre completo es el de Santa Iglesia Catedral Basílica Metropolitana de la Santa Cruz y Santa Eulalia. \nEnlace para la conferencia Online: https://us06web.zoom.us/j/81990843719\nEsta catedral gótica de Barcelona es sede del Arzobispado de Barcelona. La catedral actual se construyó durante los siglos XIII a XV sobre la antigua catedral románica\, construida a su vez sobre una iglesia de la época visigoda a la que precedió una basílica paleocristiana\, cuyos restos pueden verse en el subsuelo\, en el Museo de Historia de la Ciudad. La finalización de la imponente fachada en el mismo estilo\, sin embargo\, es mucho más moderna (siglo XIX). El edificio es Bien de Interés Cultural y\, desde el 2 de noviembre de 1929\, Monumento Histórico-Artístico Nacional. La catedral cuenta con un claustro gótico en el que viven 13 ocas blancas. \nCartel
URL:https://historico.ateneovalencia.es/evento/ciclo-paseos-por-la-historia-y-el-arte-de-las-catedrales-la-catedral-de-barcelona/
LOCATION:Salón Sorolla - Ateneo Mercantil de Valencia\, Plaza del Ayuntamiento 18\, Valencia\, Valencia\, 46002\, España
CATEGORIES:Ciclo Paseo por la Historia y el Arte de la Catedrales
ATTACH;FMTTYPE=image/jpeg:https://historico.ateneovalencia.es/wp-content/uploads/2021/11/20211116-Catedral-de-Barcelona.jpg
END:VEVENT
BEGIN:VEVENT
DTSTART;TZID=Europe/Madrid:20211118T180000
DTEND;TZID=Europe/Madrid:20211118T193000
DTSTAMP:20260426T050454
CREATED:20211020T100057Z
LAST-MODIFIED:20211117T132136Z
UID:65417-1637258400-1637263800@historico.ateneovalencia.es
SUMMARY:"Cuatro formas de entender el Impresionismo: Berthe Morisot\, Monet\, Pissarro y Sisley"
DESCRIPTION:Aprovechando que en el Ateneo Mercantil se puede disfrutar de la Exposición Impresionistas hasta el 10 de enero de 2022\, el Ciclo de Conferencias ha preparado el próximo jueves 18 de noviembre a las 18 horas en el Salón de Actos una conferencia sobre la pintura modernista: "Cuatro formas de entender el Impresionismo: Berthe Morisot\, Monet\, Pissarro y Sisley" y que ofrecerá la especialista en Historia del Arte en la Nau Gran de la Universitat de València y Guía en el Museo de Bellas Artes San Pío V de Valencia\, Dª. Manuela García. \nEnlace para la conferencia online: https://youtu.be/geZtvldQR1E\nEl 15 de Abril de 1874\, tras haber sido rechazados por los cánones oficiales imperantes en los salones oficiales de Paris\, un grupo de artistas decidió unirse y bajo la Fundación "Société anonyme des artistas\, peintres\, sculpteurs\, graveurs\, etc" crearon su primera exposición en el taller del fotógrafo Nadar en París. Como era de esperar algunos críticos del momento realizaron comentarios peyorativos\, sin embargo hubo otros que alabaron la nueva forma de entender la pintura y sus críticas les fueron favorables. \nNacía así\, sin ni siquiera tener conciencia de ello\, uno de los movimientos más celebrados y admirados del Arte. No sería hasta la tercera de sus exposiciones\, en 1877\, que el grupo de artistas adoptaría el nombre de Impresionistas por el que ya eran conocidos y empezaban a ser admirados. \nExisten diferencias a la hora de entender el Impresionismo por parte de Claude Monet\, Pierre-Auguste Renoir\, Camille Pisarro o Aldred Sisley... pero en todos ellos existía el espíritu de la renovación\, del cambio\, y en alguna medida también el intento de acaparar la atención de los observadores más rupturistas. Era el espíritu del Impresionismo. \nCartel:
URL:https://historico.ateneovalencia.es/evento/cuatro-formas-de-entender-el-impresionismo-berthe-morisot-monet-pissarro-y-sisley/
LOCATION:Teatro Ateneo
CATEGORIES:Ciclo de Conferencias
ATTACH;FMTTYPE=image/jpeg:https://historico.ateneovalencia.es/wp-content/uploads/2021/10/20211118-Pintura-Impresionismo.jpg
END:VEVENT
BEGIN:VEVENT
DTSTART;TZID=Europe/Madrid:20211118T190000
DTEND;TZID=Europe/Madrid:20211118T203000
DTSTAMP:20260426T050454
CREATED:20211026T143513Z
LAST-MODIFIED:20211102T165538Z
UID:65463-1637262000-1637267400@historico.ateneovalencia.es
SUMMARY:"Andrés Piquer\, el médico de los Borbones en el s. XVIII: el origen del trastorno bipolar"
DESCRIPTION:El Ciclo de Conferencias llega el próximo jueves 18 de noviembre a las 19 horas en el Salón Sorolla con la ponencia "Andrés Piquer\, el médico de los Borbones en el s. XVIII: el origen del trastorno bipolar" y que ofrecerá el médico e historiador D. Carlos De Paredes Cencillo\, que es Doctor en Medicina y en Historia Moderna. \nEnlace para la conferencia Online: https://us02web.zoom.us/j/84446009913\n\nAndrés Piquer es un personaje complejo sobre el que carecemos de una monografía que ofrezca una visión integral. En la conferencia se pretende llenar ese vacío historiográfico mediante una revisión que incorpore los diferentes aspectos que conformaron la trayectoria personal\, profesional y científica de tan destacado médico ilustrado. \nSe ofrecerá una visión actualizada de la vida\, la obra y la trayectoria profesional de este destacado médico ilustrado que desde la Universidad de Valencia sería elevado a la condición de médico de cámara del Palacio Real. Se atenderá también al influjo de su relación con el ilustrado valenciano Gregorio Mayans\, a la dimensión del eclecticismo en su doctrina médica\, a la repercusión del pensamiento de Syndenham y a los modelos de su particular hipocratismo. \nSe profundizará y se investigará en la vida y obra de Andrés Piquer\, médico y filósofo y máximo representante de la actitud científica que arraigó en el siglo XVIII y heredero de los primeros novatores valencianos. \nCartel
URL:https://historico.ateneovalencia.es/evento/andres-piquer-el-medico-de-los-borbones-en-el-s-xviii-el-origen-del-trastorno-bipolar/
LOCATION:Salón Sorolla - Ateneo Mercantil de Valencia\, Plaza del Ayuntamiento 18\, Valencia\, Valencia\, 46002\, España
CATEGORIES:Ciclo de Conferencias
ATTACH;FMTTYPE=image/jpeg:https://historico.ateneovalencia.es/wp-content/uploads/2021/10/20211118-MEDICO-BORBONES-BIPOLAR-1.jpg
END:VEVENT
BEGIN:VEVENT
DTSTART;TZID=Europe/Madrid:20211124T190000
DTEND;TZID=Europe/Madrid:20211124T203000
DTSTAMP:20260426T050454
CREATED:20211102T110152Z
LAST-MODIFIED:20211113T121016Z
UID:65508-1637780400-1637785800@historico.ateneovalencia.es
SUMMARY:Ciclo Entidades Históricas Valencianas: "La Fiesta de los Niños de la calle San Vicente"
DESCRIPTION:El Ciclo Entidades Históricas Valencianas realiza una nueva conferencia en el Ateneo Mercantil el próximo miércoles 24 de noviembre a las 19 horas en el Salón de Actos que llega bajo el título "La Fiesta de los Niños de la calle San Vicente" y cuyos ponentes serán D. José Crespo Iranzo\, vocal de la Asociación Fiesta de los Niños de la calle San Vicente y Delegado en Junta Central Vicentina\, y D. José Martínez Polit\, vicepresidente 2º y al frente de las áreas de protocolo y relaciones externas de la Asociación Fiesta de los Niños de la calle San Vicente. \nLa Asociación de Niños de la Calle de San Vicente celebra su fiesta de forma ininterrumpida desde el año 1625 con el fin de recordar la labor de la institución\, que adoptó el nombre de Colegio Imperial de Niños Huérfanos de San Vicente Ferrer en 1624\, cuando los niños que vivían en un hospicio frente a la iglesia de San Agustín se trasladaron a una nueva sede\, conocida como la 'Casa del Emperador'\, ubicada entonces en la actual calle Colón. En la actualidad\, la asociación cuenta con más de 5.000 integrantes. \nCorría el año 1.624 cuando el Colegio de Huérfanos de San Vicente Ferrer\, fundado en 1.410 por este santo valenciano\, trasladó su sede desde las inmediaciones de la Iglesia de San Agustín  a la entonces denominada Calle Sagasta. \nEn los últimos tiempos de su estancia en su antigua sede\, venía siendo tradicional que los niños realizasen procesiones en la zona con una imagen de San Vicente\, vistiendo el hábito de los dominicos y cantando los gozos del santo\, mientras solicitaban limosna a los vecinos. \nTras el traslado\, los vecinos continuaron recordando cada año esas procesiones\, en memoria de los niños de la calle de San Vicente\, dando con ello origen a la desde entonces tradicional Fiesta\, que anualmente se celebra organizada por la Asociación Fiesta de los Niños de la Calle San Vicente. \nCartel
URL:https://historico.ateneovalencia.es/evento/ciclo-entidades-historicas-valencianas-la-fiesta-de-los-ninos-de-la-calle-san-vicente/
LOCATION:Teatro Ateneo
CATEGORIES:Ciclo Entidades Históricas Valencianas
ATTACH;FMTTYPE=image/jpeg:https://historico.ateneovalencia.es/wp-content/uploads/2021/11/20211124-Niños-de-an-Vicente.jpg
END:VEVENT
BEGIN:VEVENT
DTSTART;TZID=Europe/Madrid:20211130T173000
DTEND;TZID=Europe/Madrid:20211130T190000
DTSTAMP:20260426T050454
CREATED:20211102T084846Z
LAST-MODIFIED:20211130T143035Z
UID:65493-1638293400-1638298800@historico.ateneovalencia.es
SUMMARY:Ciclo Paseos por la Historia y el Arte de las Catedrales: "La Catedral de Toledo"
DESCRIPTION:Sexta conferencia de este nuevo ciclo que llega al Ateneo Mercantil. Una ponencia que correrá a cargo del profesor e historiador de arte\, D. Amando García y que está englobada en el Ciclo Paseos por la Historia y el Arte de las Catedrales de España. En esta ocasión se desarrollará "La Catedral de Toledo". Su nombre completo es el de Santa Iglesia Catedral Primada de Toledo. \nEnlace del directo de Youtube: https://youtu.be/jgyh1OShAEQ\nEnlace Zoom: https://us06web.zoom.us/j/83057701953\nLa Santa Iglesia Catedral\, Consagrada a la Virgen María en su Asunción a los cielos\, comienza a construirse en el año 1226\, bajo el mandato del Arzobispo D. Rodrigo Jiménez de Rada\, sobre los cimientos de la Catedral visigoda del S. VI\, que fue utilizada como mezquita. La construcción es de estilo gótico con una clara influencia francesa. Mide 120 metros de largo por 60 metros de ancho. Está compuesta por 5 naves\, sostenida por 88 columnas y 72 bóvedas. Las naves laterales se prolongan por detrás de la Capilla Mayor rodeando el presbiterio y creando una girola con un doble pasillo semicircular. Su primer arquitecto es el maestro Martín\, de origen francés\, a quien se deben las trazas de la planta y los comienzos de la obra en la cabecera del templo. \nCartel
URL:https://historico.ateneovalencia.es/evento/ciclo-paseos-por-la-historia-y-el-arte-de-las-catedrales-la-catedral-de-toledo/
LOCATION:Salón Sorolla - Ateneo Mercantil de Valencia\, Plaza del Ayuntamiento 18\, Valencia\, Valencia\, 46002\, España
CATEGORIES:Ciclo Paseo por la Historia y el Arte de la Catedrales
ATTACH;FMTTYPE=image/jpeg:https://historico.ateneovalencia.es/wp-content/uploads/2021/11/20211130-Catedral-de-Toledo.jpg
END:VEVENT
END:VCALENDAR