BEGIN:VCALENDAR
VERSION:2.0
PRODID:-//Ateneo Mercantil de Valencia - ECPv6.0.4//NONSGML v1.0//EN
CALSCALE:GREGORIAN
METHOD:PUBLISH
X-ORIGINAL-URL:https://historico.ateneovalencia.es
X-WR-CALDESC:Eventos para Ateneo Mercantil de Valencia
REFRESH-INTERVAL;VALUE=DURATION:PT1H
X-Robots-Tag:noindex
X-PUBLISHED-TTL:PT1H
BEGIN:VTIMEZONE
TZID:Europe/Madrid
BEGIN:DAYLIGHT
TZOFFSETFROM:+0100
TZOFFSETTO:+0200
TZNAME:CEST
DTSTART:20210328T010000
END:DAYLIGHT
BEGIN:STANDARD
TZOFFSETFROM:+0200
TZOFFSETTO:+0100
TZNAME:CET
DTSTART:20211031T010000
END:STANDARD
END:VTIMEZONE
BEGIN:VEVENT
DTSTART;TZID=Europe/Madrid:20211004T190000
DTEND;TZID=Europe/Madrid:20211004T203000
DTSTAMP:20260426T050349
CREATED:20210621T112026Z
LAST-MODIFIED:20210923T110923Z
UID:64403-1633374000-1633379400@historico.ateneovalencia.es
SUMMARY:Ciclo de Conferencias: "20 Leonardos a debate: verdaderos o falsos"
DESCRIPTION:El próximo lunes 4 de octubre a las 19 horas llega al Ateneo Mercantil de Valencia una conferencia de arte con mucho tirón\, ya que se trae un tema que está generando mucho debate en la actualidad como son las obras que han sido asociadas a Leonardo Da Vinci y que no tienen una adjudicación oficial o generan ciertas dudas de que sean del genio polímata florentino. La escritora y especialista en Leonardo Da Vinci\, Dolores García Ruiz\, nos trae "20 Leonardos a debate: verdaderos o falsos". \nEnlace para la conferencia Online: https://zoom.us/j/98392732803\nEl mundo del arte se encuentra dividido en reconocer ciertas obras de Leonardo\, que llegó a pintar una veintena de cuadros. Algunas obras están siendo comentadas y analizadas\, pero que tienen un indudable valor. Algunos historiadores del arte\, entre ellos grandes expertos\, opinan que en algunos cuadros la imagen fue pintada\, a partir de un dibujo de Leonardo\, como ocurre con un Leonardo ruso\, la Madonna Litta. Esta discusión no parece tener un final prontío\, ni siquiera 500 años después de la muerte del gran pintor. \nCartel:
URL:https://historico.ateneovalencia.es/evento/ciclo-de-conferencias-20-leonardos-a-debate-verdaderos-o-falsos/
LOCATION:Teatro Ateneo
CATEGORIES:Ciclo de Conferencias
ATTACH;FMTTYPE=image/jpeg:https://historico.ateneovalencia.es/wp-content/uploads/2021/06/20211004-20-Leonardo-a-Debate.jpg
END:VEVENT
BEGIN:VEVENT
DTSTART;TZID=Europe/Madrid:20211005T173000
DTEND;TZID=Europe/Madrid:20211005T190000
DTSTAMP:20260426T050349
CREATED:20210923T161511Z
LAST-MODIFIED:20210923T161511Z
UID:65032-1633455000-1633460400@historico.ateneovalencia.es
SUMMARY:Ciclo Paseos Virtuales por la Historia y el Arte de las Grandes Catedrales: "La Almudena" de Madrid
DESCRIPTION:Segunda conferencia del nuevo Ciclo Paseo por la Historia y el Arte de las Catedrales que se celebrará el martes 5 de octubre a las 17.30 horas en el Salón de Actos del Ateneo Mercantil de Valencia de la mano del especialista en Historia del Arte\, D. Amando García\, que nos relatará con suma precisión "La Catedral de la Almudena" de Madrid. \nEnlace para la conferencia online: https://us06web.zoom.us/j/81273954626\n\n\n\n\nEn el Madrid de los Austrias\, la Catedral de la Almudena tiene una corta pero intensa historia. Los primeros planos de la iglesia fueron trazados en 1879 por Francisco de Cubas con la idea de que sirviese de panteón para la fallecida reina María de la Mercedes. La primera piedra se puso en 1883 pero cuando el Papa León XIII otorgó en 1885 la bula por la que se creaba el Obispado de Madrid-Alcalá se transformó el proyecto de la iglesia en catedral. \nCubas realizó entonces un nuevo proyecto\, más ambicioso que el anterior\, inspirado esta vez en el gótico francés del siglo XIII\, sumando elementos de las catedrales de Reims\, Chartres y León. Ese proyecto\, que incluía por primera vez una gran cripta neorrománica\, es el que sirvió de base para la construcción definitiva. La catedral se concibió como un templo votivo\, erigido por el pueblo\, pero los donativos resultaban insuficientes y las obras se dilataron en el tiempo. En 1899 falleció el marqués de Cubas y se sucedieron en la dirección de las obras Miguel Olabarría\, Enrique Mª Repullés y Juan Moya. \nLa cripta se inauguró en 1911\, pero las obras se suspendieron durante la Guerra Civil y se reanudaron\, con escasos recursos\, en 1939. A partir de entonces cambian los criterios estéticos y no se considera adecuada una catedral gótica por el contraste que producía en el entorno. En 1944 la Dirección General de Bellas Artes convocó un concurso nacional para dar una nueva solución arquitectónica\, que fue ganado por Fernando Chueca Goitia y Carlos Sidro. En 1950 se reiniciaron las obras\, terminándose el claustro en 1955 y la fachada principal en 1960. La catedral pudo considerarse terminada en 1993. Fue consagrada por el papa Juan Pablo II en su cuarto viaje a España\, el 15 de junio de 1993. \nTambién cuenta con un museo que alberga diversas ofrendas y donaciones a los Patronos de la ciudad: La Virgen de la Almudena y San Isidro Labrador. En él se muestra un recorrido por la vida de la Iglesia a través de los siete sacramentos. \nCartel:
URL:https://historico.ateneovalencia.es/evento/ciclo-paseos-virtuales-por-la-historia-y-el-arte-de-las-grandes-catedrales-la-almudena-de-madrid/
LOCATION:Teatro Ateneo
CATEGORIES:Ciclo Paseo por la Historia y el Arte de la Catedrales
ATTACH;FMTTYPE=image/jpeg:https://historico.ateneovalencia.es/wp-content/uploads/2021/09/20211005-Catedral-de-la-Almudena.jpg
END:VEVENT
BEGIN:VEVENT
DTSTART;TZID=Europe/Madrid:20211006T190000
DTEND;TZID=Europe/Madrid:20211006T203000
DTSTAMP:20260426T050349
CREATED:20210630T103103Z
LAST-MODIFIED:20210915T095752Z
UID:64483-1633546800-1633552200@historico.ateneovalencia.es
SUMMARY:Ciclo El Antiguo Egipto: "Tanis\, el oro de los faraones"
DESCRIPTION:Una nueva conferencia del Ciclo El Antiguo Egipto llega al Ateneo Mercantil el próximo miércoles 6 de octubre a las 19 horas en Salón de Actos. La presidenta de la Asociación Española de Egiptología\, Rosa Pujol\, nos trae "Tanis\, el oro de los faraones"\, el otro gran tesoro de Egipto. \nEnlace para la Conferencia Online: https://zoom.us/j/94024376924\n\nDescubierta en el siglo XVIII por ex­ploradores fran­ceses\, durante mucho tiempo Tanis no fue vista más que como un grupo de colinas arenosas perdidas en medio de un paraje inhóspito. Más adelante\, en la segunda mitad del siglo XIX\, se empren­dió la excava­ción del yacimiento\, pero no fue hasta 1939 que el arqueólogo francés Pierre Montet desve­ló el gran valor artístico de esta antigua ciudad egipcia\, situada en el delta oriental del Nilo. Montet halló una necrópolis real que contenía las tum­bas de varios faraones de las dinastías XXI y XXII. Tres de ellas\, acompaña­das de fastuosos ajuares funerarios y joyas\, estaban intactas. \nCartel:
URL:https://historico.ateneovalencia.es/evento/ciclo-el-antiguo-egipto-tanis-el-oro-de-los-faraones/
LOCATION:Teatro Ateneo
CATEGORIES:Ciclo Antiguo Egipto
ATTACH;FMTTYPE=image/jpeg:https://historico.ateneovalencia.es/wp-content/uploads/2021/06/20211006-Taris-Oro-Faraones.jpg
END:VEVENT
BEGIN:VEVENT
DTSTART;TZID=Europe/Madrid:20211013T190000
DTEND;TZID=Europe/Madrid:20211013T203000
DTSTAMP:20260426T050349
CREATED:20210621T114533Z
LAST-MODIFIED:20210923T112147Z
UID:64408-1634151600-1634157000@historico.ateneovalencia.es
SUMMARY:Ciclo Siete Maravillas del Mundo Moderno: "El Taj Mahal: una lágrima en la mejilla del tiempo"
DESCRIPTION:El próximo miércoles 13 de octubre a las 19 horas llega la segunda conferencia del Ciclo de las Siete Maravilas del Mundo Moderno con una conferencia que nos llevará a Agra para desgranar la construcción del Taj Mahal\, uno de los más bellos edificios del mundo\, que es el resultado de una bella y trágica historia de amor. Esta ponencia la ofrecerá la Historiadora del Arte e Investigadora\, Gloria Guillem Avivar y llega bajo el título "El Taj Mahal: una lágrima en la mejilla del tiempo". \nEnlace para la conferencia Online: https://zoom.us/j/92863224044\nNos contará todo lo que necesitas saber acerca del Taj Mahal\, quién lo construyó y todas las curiosidades sobre esta maravilla. El Taj Mahal ha vuelto a reabrir sus puertas a principios del mes de julio de 2021. El Taj Mahal está ubicado en las cercanías de la ciudad de Agra\, en el estado de Uttar Pradesh\, en la India\, y fue construido en el siglo XVII. Increíble proeza arquitectónica\, su inmortal belleza se nutre del antiguo amor entre un emperador y su esposa. \nEl Taj Mahal podría definirse como la exaltación máxima de la belleza y un lugar único que se debe visitar al menos una vez en la vida. La palabra Taj Mahal significa "La joya del Palacio"\, un lugar capaz de transmitir fuertes emociones y que no defrauda a nadie. \nCartel:
URL:https://historico.ateneovalencia.es/evento/ciclo-siete-maravillas-del-mundo-moderno-el-taj-mahal-una-lagrima-en-la-mejilla-del-tiempo/
LOCATION:Teatro Ateneo
CATEGORIES:Ciclo Las Siete Maravillas del Mundo Moderno
ATTACH;FMTTYPE=image/jpeg:https://historico.ateneovalencia.es/wp-content/uploads/2021/06/20211015-Taj-Mahal.jpg
END:VEVENT
BEGIN:VEVENT
DTSTART;TZID=Europe/Madrid:20211014T190000
DTEND;TZID=Europe/Madrid:20211014T203000
DTSTAMP:20260426T050349
CREATED:20210727T081405Z
LAST-MODIFIED:20211006T121047Z
UID:64698-1634238000-1634243400@historico.ateneovalencia.es
SUMMARY:"Joaquín Sorolla y la Medicina"
DESCRIPTION:El Ciclo de Conferencias regresa con la primera de las dos ponencias que ofrecerá el historiador del arte y museógrafo español\, D. Felipe Garín Lombart\, en el Ateneo Mercantil. El próximo jueves 14 de octubre a las 19 horas en el Salón de Actos nuestra entidad se celebrará la conferencia "Joaquín Sorolla y la Medicina"\, una charla en la que el Catedrático de Historia del Arte de la UPV\, el ex director gerente del Consorcio de Museos de la Comunitat Valenciana y ex director del Museo del Prado (1991-1993)\, nos acercará la visión magnífica que tuvo el célebre pintor valenciano sobre los conociemientos en Medicina. \nEnlace para la conferencia Online: https://us06web.zoom.us/j/86272203141\nEn la obra de Joaquín Sorolla hay un número notable de piezas maestras dedicadas a la enfermedad y sus paliativos\, junto a algo más de una docena de retratos de profesionales de la medicina. Este interés no se explica sólo como algo propio de una época en la que todavía no se contaba con los beneficios de los derivados de la penicilina y otros antibióticos. Hay que tener en cuenta las enfermedades que aquejaron a los miembros de la familia Sorolla\, especialmente a la hija mayor\, María\, que sufrió de tuberculosis\, por lo que estuvo rodeada frecuentemente de profesionales de la medicina. \nCartel:
URL:https://historico.ateneovalencia.es/evento/joaquin-sorolla-y-la-medicina/
LOCATION:Teatro Ateneo
CATEGORIES:Ciclo de Conferencias
ATTACH;FMTTYPE=image/jpeg:https://historico.ateneovalencia.es/wp-content/uploads/2021/07/20211007-Joaquin-Sorolla-y-la-Medicina.jpg
END:VEVENT
BEGIN:VEVENT
DTSTART;TZID=Europe/Madrid:20211014T190000
DTEND;TZID=Europe/Madrid:20211014T203000
DTSTAMP:20260426T050349
CREATED:20210922T100217Z
LAST-MODIFIED:20210922T100444Z
UID:64963-1634238000-1634243400@historico.ateneovalencia.es
SUMMARY:Conferencia: "Carlos V\, Rey y Emperador"
DESCRIPTION:El próximo jueves 14 de octubre\, a las 19 horas en el Salón Sorollla del Ateneo Mercantil de Valencia se llevará acabo la conferencia"Carlos V\, Rey y Emperador" y contará como ponente a la Ilma. Sra. Dª. María Bernal Sanz\, abogado y asesor Jurídico del Patrimonio Histórico y Cultural. Una conferencia que organiza la Asociación Valenciana de Historia Militar General Navarro Sangrán. \nLa herencia recibida de Carlos I de España formó parte de uno de los Imperios más extensos de todos los tiempos. El 7 de febrero de 1518 juró los privilegios del reino castellano en Valladolid\, y en el mismo lugar\, apenas transcurrido un mes\, el Rey Carlos aprobó costear la propuesta de "un viaje para descubrir tierras desconocidas"\, sobre un proyecto que facilitaba el paso al otro lado del océano\, asignando al marino portugués Hernando de Magallanes el mando de la expedición. \nUna vez juradas las cortes de la Corona de Aragón\, tomó posesión del reino de España. Dos años más tarde hubo de asumir la herencia paterna de la Corte de los Habsburgo como Emperador del Sacro Imperio Romano Germánico\, lo que le convirtió en el Rey más poderoso de su tiempo. \nCurriculum de María Bernal Sanz\nAbogado del Ilustre Colegio de Abogados de Madrid\, es natural de Valladolid\, Licenciada en Derecho por la Universidad Complutense y Diplomada en Historia por la Universidad Literaria de Valencia. \nHa desarrollado su vida laboral en la Compañía IBERIA\, a lo largo de treinta y dos años\, como Jefe del Departamento de Incidencias en los Aeropuertos de Madrid\, Málaga y Valencia. Pertenece al Instituto Iberoamericano de Derecho Aeronáutico\, Real Academia de Jurisprudencia y Legislación de España (Sección del Derecho de la Cultura)\, Académica de la Real Academia de Bellas Artes y Ciencias Históricas de Toledo y Miembro del Comité Asesor de la UNESCO (ICOMOS-España). \nEs miembro del Instituto de Estudios Complutenses\, Cofradía Internacional de Investigadores de Toledo\, Instituto de Estudios Madrileños y de la Red de Rutas del Emperador Carlos V del Consejo de Europa y de la Asociación Valenciana de Historia Militar (AVAHISMI). \nCartel:
URL:https://historico.ateneovalencia.es/evento/conferencia-carlos-v-rey-y-emperador/
LOCATION:Salón Sorolla - Ateneo Mercantil de Valencia\, Plaza del Ayuntamiento 18\, Valencia\, Valencia\, 46002\, España
CATEGORIES:Ciclos y Conferencias
ATTACH;FMTTYPE=image/jpeg:https://historico.ateneovalencia.es/wp-content/uploads/2021/09/20211014-Carlos-V.jpg
END:VEVENT
BEGIN:VEVENT
DTSTART;TZID=Europe/Madrid:20211018T190000
DTEND;TZID=Europe/Madrid:20211018T203000
DTSTAMP:20260426T050349
CREATED:20211005T102609Z
LAST-MODIFIED:20211005T103559Z
UID:65121-1634583600-1634589000@historico.ateneovalencia.es
SUMMARY:"Joan de Joanes: Construcción\, destrucción y recuperación de un mito"
DESCRIPTION:El Ateneo Mercantil de Valencia tendrá el próximo lunes 18 de octubre a un especialista de arte como es el director del Museo del Prado\, Miguel Falomir Faus\, para impartir una conferencia magistral sobre el pintor valenciano\, Juan de Juanes\, a las 19 horas en el Salón de Actos del Ateneo. La conferencia llega bajo el título "Joan de Joanes: Construcción\, destrucción y recuperación de un mito". \nEnlace para la conferencia online: https://us06web.zoom.us/j/89616574984\nJuan de Juanes fue uno de los más importantes pintores del renacimiento español\, dominador absoluto del panorama valenciano a mediados del siglo XVI. Juan comenzó a trabajar en el taller paterno y juntos colaboraron en la realización de numerosos trabajos. El nombre de Juan aparece por vez primera en relación con el retablo de la catedral de Segorbe\, en 1531. Es por esos años cuando se aprecia una profunda renovación estilística en la obra de Juan Vicente Masip. Exquisito dibujante\, muestra a la vez un colorido rico y brillante\, los fondos de las pinturas se articulan con evocadores paisajes poblados de arquitecturas y ruinas clásicas\, compuestas como citas eruditas\, mientras dota a sus personajes de una gestualidad retórica que demuestra su conocimiento y meditación sobre los tratados de elocuencia clásica. \nCurriculum del ponente\nMiguel Falomir Faus. (Valencia\, 1966). Director del Museo Nacional del Prado. Doctor en Historia del Arte por la UV\, premio extraordinario. Profesor titular en el Departamento de Historia del Arte de la Universidad de Valencia. Jefe del Departamento de Pintura Italiana y Francesa (hasta 1700) del Museo Nacional del Prado. Andrew Mellon Professor en el Center for Advanced Study in the Visual Arts de la National Gallery of Art de Washington. Director adjunto de Conservación e Investigación del Museo Nacional del Prado\, cargo que ostenta hasta su nombramiento como director del mismo en marzo de 2017. \nCartel:\n \n 
URL:https://historico.ateneovalencia.es/evento/joan-de-joanes-construccion-destruccion-y-recuperacion-de-un-mito/
LOCATION:Teatro Ateneo
CATEGORIES:Ciclo de Conferencias
ATTACH;FMTTYPE=image/jpeg:https://historico.ateneovalencia.es/wp-content/uploads/2021/10/20211018-Juan-de-Juanes.jpg
END:VEVENT
BEGIN:VEVENT
DTSTART;TZID=Europe/Madrid:20211019T173000
DTEND;TZID=Europe/Madrid:20211019T190000
DTSTAMP:20260426T050349
CREATED:20210727T120210Z
LAST-MODIFIED:20210727T120210Z
UID:64711-1634664600-1634670000@historico.ateneovalencia.es
SUMMARY:Paseos por la Historia y el Arte de las Catedrales: "La Catedral de Burgos"
DESCRIPTION:Un nuevo ciclo llega al Ateneo Mercantil de conferencia de la mano del profesor e historiador de arte\, D. Amando García\, el Ciclo Paseos por la Historia y el Arte de las Catedrales de España. En esta ocasión se desarrollará "La Catedral de Burgos"\, que en este 2021 ha cumplido 800 años y está intacta. \nEnlace para la conferencia Online: https://us06web.zoom.us/j/87486784817\nLa Catedral de Burgos cumple años\, nada más y nada menos que 800. Porque el 20 de julio de 1221 fue la fecha en la que se puso la primera piedra para la construcción del que es uno de los templos góticos más importantes de nuestro país. Su grandiosidad\, la minuciosidad en el trabajo de los detalles o su increíble estado de conservación hacen de la Catedral de Burgos una de las maravillas que hay que visitar al menos una vez en la vida. La catedral se construyó en apenas 40 años\, todo un récord para la época. \nCartel:
URL:https://historico.ateneovalencia.es/evento/paseos-por-la-historia-y-el-arte-de-las-catedrales-la-catedral-de-burgos/
LOCATION:Teatro Ateneo
CATEGORIES:Ciclo Paseo por la Historia y el Arte de la Catedrales
ATTACH;FMTTYPE=image/jpeg:https://historico.ateneovalencia.es/wp-content/uploads/2021/07/20211019-Catedral-de-Burgos.jpg
END:VEVENT
BEGIN:VEVENT
DTSTART;TZID=Europe/Madrid:20211019T190000
DTEND;TZID=Europe/Madrid:20211019T203000
DTSTAMP:20260426T050349
CREATED:20210622T083516Z
LAST-MODIFIED:20211016T055233Z
UID:64416-1634670000-1634675400@historico.ateneovalencia.es
SUMMARY:"Centenario de la Coronación de la Virgen (1923-2023)"
DESCRIPTION:El Ciclo de Entidades Históricas Valencianas llega el próximo martes 19 de octubre a las 19 horas al Salón de Actos del Ateneo Mercantil con la conferencia sobre la Real Archicofradía de Nuestra Señora de los Inocentes\, Mártires y Desamparados que tratará el tema del "Centenario de la Coronación de la Virgen (1923-2023)" y los ponentes serán el Rector de la Basílica\, D. Jaime Sancho Andreu y el Vicerrector de la Basílica\, D. Álvaro Almenar Picallo. \nEnlace para la conferencia Online: https://zoom.us/j/98817043174\nLa Real Archicofradía de Nuestra Señora de los Inocentes\, Mártires y Desamparados es una institución que a lo largo de sus más de seis siglos desde su fundación\, el 1 de agosto de 1414\, ha realizado una labor social con los más desfavorecidos y con enfermos mentales\, y ha sido la encargada de conservar y proteger desde sus orígenes la imagen y la Basílica de la patrona de Valencia\, la Virgen de los Desamparados. \nEn poco menos de dos años la institución celebrará el Centenario de la Coronación de la Virgen. En 1923 fue "el año de la Virgen". El acto de la proclamación canónico fue un 12 de mayo de 1923. Para contar la historia\, hay que echar la vista atrás\, hasta el 15 de octubre de 1921\, fecha en la que el Papa Benedicto XV concedió el privilegio para la coronación de la Mare de Deu dels Desamparats como patrona de Valencia. Desde entonces\, los preparativos y actos se venían sucediendo hasta la visita oficial para dicho acontecimiento. Un acontecimiento apoteósico para la fecha. \nCartel:
URL:https://historico.ateneovalencia.es/evento/centenario-de-la-coronacion-de-la-virgen-1923-2023/
LOCATION:Teatro Ateneo
CATEGORIES:Ciclo de Conferencias
ATTACH;FMTTYPE=image/jpeg:https://historico.ateneovalencia.es/wp-content/uploads/2021/06/20211019-Archicofradia-Virgen-Desamparados.jpg
END:VEVENT
BEGIN:VEVENT
DTSTART;TZID=Europe/Madrid:20211021T190000
DTEND;TZID=Europe/Madrid:20211021T203000
DTSTAMP:20260426T050349
CREATED:20210210T151056Z
LAST-MODIFIED:20211016T054413Z
UID:62252-1634842800-1634848200@historico.ateneovalencia.es
SUMMARY:Ciclo Grandes Enigmas de la Humanidad: "Misterios de Egipto"
DESCRIPTION:El Ciclo Grandes Enigmas de la Humanidad llega con una nueva reunión el próximo jueves 21 de octubre a las 19 horas en el Salón de Actos del Ateneo Mercantil. Una conferencia que se emitirá online por la plataforma zoom y que llega bajo el título: "Misterios de Egipto" y la dará el viajero y aventurero\, D. Luis Tobajas. \nEnlace para la conferencia online: https://zoom.us/j/96331802535\nEl antiguo Egipto continúa siendo un misterio para al mundo. Mitos\, leyendas y teorías que alimentan los misterios sin resolver de una civilización adelantada a su tiempo. La construcción de sus pirámides\, su ubicación estratégica\, el descubrimiento de las tumbas de los faraones\, las maldiciones... El antiguo Egipto es intrigante\, apasionante\, y los egipcios tuvieron amplios conocimientos astronómicos y arquitectónicos\, y una cultura de la muerte que ha superado por mucho a todo lo que vino después. \nCartel:
URL:https://historico.ateneovalencia.es/evento/ciclo-grandes-enigmas-misterios-de-egipto/
LOCATION:Teatro Ateneo
CATEGORIES:Ciclo Grandes Enigmas de la Humanidad
ATTACH;FMTTYPE=image/jpeg:https://historico.ateneovalencia.es/wp-content/uploads/2021/02/20210623-Grandes-Enigmas-Egipto.jpg
END:VEVENT
BEGIN:VEVENT
DTSTART;TZID=Europe/Madrid:20211021T190000
DTEND;TZID=Europe/Madrid:20211021T203000
DTSTAMP:20260426T050349
CREATED:20211018T102033Z
LAST-MODIFIED:20211020T083442Z
UID:65368-1634842800-1634848200@historico.ateneovalencia.es
SUMMARY:Presentación del libro de Antonio Ledezma: "De dónde venimos y hacia dónde vamos"
DESCRIPTION:El próximo jueves 21 de octubre a las 19 horas en el Salón Sorolla del Ateneo Mercantil se producirá la conferencia-presentación del libro "De dónde venimos y hacia dónde vamos" del ex alcalde de Caracas y ex senador de la República de Venezuela\, Antonio Ledezma. La presentación correrá a cargo  de Leopoldo López Máñez\, doctor en Derecho y Decano del Cuerpo Consular acreditado en Valencia. Intervendrán: Belén Hoyo Juliá\, diputada y portavoz de Exteriores del Partido Popular y Javier Domínguez Rodrigo\, arquitecto y académico. \nEn esta obra se hace un recuento histórico que permitirá conocer el origen de Venezuela\, para luego detallar las sucesivas convulsiones políticas\, económicas y sociales que dieron lugar a la independencia del país sudamericano. Ledezma saca a flote la seguidilla de traiciones entre perdones y deslealtades y trata de demostrar que tales sentimientos perduran en el tiempo. Es así que después de enumerar las múltiples revoluciones que se escenificaron en la república que emergió a partir de1830\, nos sitúa en la actual tragedia que padece la nación libertada por Simón Bolívar. \nCartel:
URL:https://historico.ateneovalencia.es/evento/presentacion-del-libro-de-antonio-ledezma-de-donde-venimos-y-hacia-donde-vamos/
LOCATION:Salón Sorolla - Ateneo Mercantil de Valencia\, Plaza del Ayuntamiento 18\, Valencia\, Valencia\, 46002\, España
CATEGORIES:Presentaciones Libros
ATTACH;FMTTYPE=image/jpeg:https://historico.ateneovalencia.es/wp-content/uploads/2021/10/20211021-Presentacion-Libro-Ledezma.jpg
END:VEVENT
BEGIN:VEVENT
DTSTART;TZID=Europe/Madrid:20211025T190000
DTEND;TZID=Europe/Madrid:20211025T203000
DTSTAMP:20260426T050349
CREATED:20210316T125301Z
LAST-MODIFIED:20210915T095456Z
UID:62955-1635188400-1635193800@historico.ateneovalencia.es
SUMMARY:“Marco Polo. Un viaje tan largo como el Mundo”
DESCRIPTION:El Ciclo de Conferencias llega el próximo lunes 25 de octubre a las 19 horas al Salón de Actos con un encuentro que será retransmitido también en online por la plataforma Zoom bajo el título "Marco Polo. Un viaje tan largo como el Mundo" y el ponente será el Doctor en Historia Maderna y profesor de la Universidad Católica de Valencia\, Prof. Dr. Francisco Cardells. \nEnlace para la conferencia Online: https://zoom.us/j/97060222832\nLos viajes de Marco Polo se recogen en El libro de las maravillas del mundo\, un libro de viajes del mercader veneciano que relata sus viajes a China\, a la que él llama Catay (norte de China) y Mangi (sur de China). En 1271\, el joven Marco Polo partió de su Venecia natal para acompañar a su padre y a su tío en un fabuloso viaje a través de Asia\, hasta la corte de Kublai Kan. A su vuelta relató sus experiencias en una obra mítica de la literatura. \nCartel:\n \n 
URL:https://historico.ateneovalencia.es/evento/marco-polo-un-viaje-tan-largo-como-el-mundo/
LOCATION:Teatro Ateneo
CATEGORIES:Ciclo de Conferencias
ATTACH;FMTTYPE=image/jpeg:https://historico.ateneovalencia.es/wp-content/uploads/2021/03/20211018-Marco-Polo.jpg
END:VEVENT
BEGIN:VEVENT
DTSTART;TZID=Europe/Madrid:20211026T190000
DTEND;TZID=Europe/Madrid:20211026T203000
DTSTAMP:20260426T050349
CREATED:20210915T105738Z
LAST-MODIFIED:20210923T091104Z
UID:64912-1635274800-1635280200@historico.ateneovalencia.es
SUMMARY:Miradas a la pintura estadounidense: "La influencia europea. Cuando los norteamericanos se hicieron modernos"
DESCRIPTION:La segunda conferencia sobre las Miradas a la pintura estadounidense llega el próximo martes 26 de octubre a las 19 horas al Salón de Actos del Ateneo Mercantil de Valencia. La conferencia llega bajo el título: "La influencia europea. Cuando los norteamericanos se hicieron modernos" y la ponente será  la especialista en Historia del Arte en la Nau Gran de la Universitat de València y Guía en el Museo de Bellas Artes San Pío V de Valencia\, Dª. Manuela García. \nEnlace para la conferencia online: https://us06web.zoom.us/j/82913600147\nA partir de finales del siglo XIX el arte europeo y\, lo que es más importante\, los artistas europeos\, comienzan a tener un impacto mucho mayor en Estados Unidos. El gusto del público se movió hacia temas más cosmopolitas\, y el arte europeo fue una vez más el centro de atención entre los coleccionistas estadounidenses. Este es el resultado de dos factores: el surgimiento del poder comercial estadounidense\, y la aparición de poderosos coleccionistas de arte y filántropos estadounidenses\, que compraron arte europeo para museos en los Estados Unidos. \nLas tendencias del arte moderno en Europa llegaron a los Estados Unidos a través de exposiciones en Nueva York como el Armory Show de 1913\, vista por más de un cuarto de millón de visitantes en Nueva York\, Chicago y Boston\, marcó un punto de inflexión en el interés público en el arte moderno. \nCartel:
URL:https://historico.ateneovalencia.es/evento/miradas-a-la-pintura-estadounidense-la-influencia-europea-cuando-los-norteamericanos-se-hicieron-modernos/
LOCATION:Teatro Ateneo
CATEGORIES:Ciclo de Conferencias
ATTACH;FMTTYPE=image/jpeg:https://historico.ateneovalencia.es/wp-content/uploads/2021/09/20211011-Pintura-EEUU-Influencia-europea.jpg
END:VEVENT
BEGIN:VEVENT
DTSTART;TZID=Europe/Madrid:20211028T190000
DTEND;TZID=Europe/Madrid:20211028T203000
DTSTAMP:20260426T050349
CREATED:20211004T162451Z
LAST-MODIFIED:20211005T111259Z
UID:65117-1635447600-1635453000@historico.ateneovalencia.es
SUMMARY:"La canción y su temática en los compositores valencianos del siglo XX"
DESCRIPTION:El próximo jueves 28 de octubre a las 19 horas en el Salón Sorolla del Ateneo Mercantil se llevará a cabo una nueva conferencia del ciclo M.I. Academia de la Música Valenciana con el siguiente título: "La canción y su temática en los compositores valencianos del siglo XX" y el ponente será el cadémico y profesor de canto del Conservatorio de Valencia\, Amadeo LLoris Martínez. \nA lo largo de la historia\, Valencia ha aportado ilustres figuras de compositores que han contribuido a enriquecer el patrimonio de obras musicales a través de diferentes géneros y formas donde la voz es clara protagonista. Hablaremos de diferentes autores y su particular manera de abordar un género tan rico y variado como es la canción de concierto y escucharemos algunos fragmentos de sus obras. \nCartel:
URL:https://historico.ateneovalencia.es/evento/la-cancion-y-su-tematica-en-los-compositores-valencianos-del-siglo-xx/
LOCATION:Salón Sorolla - Ateneo Mercantil de Valencia\, Plaza del Ayuntamiento 18\, Valencia\, Valencia\, 46002\, España
CATEGORIES:Ciclo de Música M.I.
ATTACH;FMTTYPE=image/jpeg:https://historico.ateneovalencia.es/wp-content/uploads/2021/10/20211028-MI-Musica-Valenciana.jpg
END:VEVENT
END:VCALENDAR