BEGIN:VCALENDAR
VERSION:2.0
PRODID:-//Ateneo Mercantil de Valencia - ECPv6.0.4//NONSGML v1.0//EN
CALSCALE:GREGORIAN
METHOD:PUBLISH
X-WR-CALNAME:Ateneo Mercantil de Valencia
X-ORIGINAL-URL:https://historico.ateneovalencia.es
X-WR-CALDESC:Eventos para Ateneo Mercantil de Valencia
REFRESH-INTERVAL;VALUE=DURATION:PT1H
X-Robots-Tag:noindex
X-PUBLISHED-TTL:PT1H
BEGIN:VTIMEZONE
TZID:Europe/Madrid
BEGIN:DAYLIGHT
TZOFFSETFROM:+0100
TZOFFSETTO:+0200
TZNAME:CEST
DTSTART:20210328T010000
END:DAYLIGHT
BEGIN:STANDARD
TZOFFSETFROM:+0200
TZOFFSETTO:+0100
TZNAME:CET
DTSTART:20211031T010000
END:STANDARD
END:VTIMEZONE
BEGIN:VEVENT
DTSTART;TZID=Europe/Madrid:20211123T190000
DTEND;TZID=Europe/Madrid:20211123T203000
DTSTAMP:20260422T200430
CREATED:20211004T110828Z
LAST-MODIFIED:20211118T105243Z
UID:65108-1637694000-1637699400@historico.ateneovalencia.es
SUMMARY:"Actual relación de Roma con otras tradiciones cristianas y con el judaísmo"
DESCRIPTION:Llega un nuevo ciclo al Ateneo Mercantil que tratará sobre la 'Relación de Roma con otras Confesiones' y se realizarán tres conferencias en las que se tratará este asunto desde diversos puntos de vista. La tercera de las conferencias será el próximo martes 23 de noviembre a las 19 horas en el Salón de Actos del Ateneo Mercantil y llega bajo el título: "Actual relación de Roma con otras tradiciones cristianas y con el judaísmo". El ponente será el Doctor en Teología y Cardenal de la Iglesia católica; presidente del Pontificio Consejo para la Promoción de la Unidad de los Cristianos (Roma) y relaciones con el Judaísmo\, el Emmo. Kurt Koch. \nEnlace del directo de Youtube: https://youtu.be/dePQe62iG1o\nEnlace Zoom: https://us06web.zoom.us/j/87859431456\nEl origen del Consejo Pontificio para la Promoción de la Unidad de los Cristianos está estrechamente vinculado al Concilio Vaticano II. El Papa Juan XXIII quiso que el compromiso de la Iglesia católica en el movimiento ecuménico fuera uno de los principales objetivos del Concilio. Por ello\, el 5 de junio de 1960\, creó un Secretariado para la Promoción de la Unidad de los Cristianos como una de las comisiones preparatorias del Concilio y nombró al cardenal Augustin Bea como su primer presidente. Este fue el comienzo del compromiso oficial de la Iglesia Católica con el movimiento ecuménico. \nPor otro lado\, la Comisión para las Relaciones Religiosas con el Judaísmo fue creada por el Papa Pablo VI el 22 de octubre de 1974\, pero ya antes de esa fecha\, en el Concilio Vaticano II\, durante la preparación del documento conocido hoy como Nostra Aetate\, había surgido la compleja y urgente cuestión de las relaciones con el judaísmo. Después del Concilio\, diversos contactos entre las autoridades de la Curia Romana y los representantes de importantes organizaciones judías dieron lugar a una reunión oficial celebrada en Roma del 20 al 23 de diciembre de 1970; en esta reunión se decidió crear un Comité Internacional de Enlace entre la Iglesia Católica y el Judaísmo (CIL). \nPosteriormente\, surgió la idea de crear una Comisión para las relaciones con el judaísmo. La Comisión ha permanecido en el marco del Secretariado para la Unidad de los Cristianos (hoy Consejo Pontificio para la Promoción de la Unidad de los Cristianos -PCPUC); vinculada al Consejo Pontificio\, es sin embargo distinta de él. \nCartel:
URL:https://historico.ateneovalencia.es/evento/actual-relacion-de-roma-con-otras-tradiciones-cristianas-y-con-el-judaismo/
LOCATION:Teatro Ateneo
CATEGORIES:Ciclo Relación de Roma con otras Conferesiones
ATTACH;FMTTYPE=image/jpeg:https://historico.ateneovalencia.es/wp-content/uploads/2021/10/20211123-Fontana-Conferencia3-Judaismo-Cristianismo.jpg
END:VEVENT
END:VCALENDAR