BEGIN:VCALENDAR
VERSION:2.0
PRODID:-//Ateneo Mercantil de Valencia - ECPv6.0.4//NONSGML v1.0//EN
CALSCALE:GREGORIAN
METHOD:PUBLISH
X-ORIGINAL-URL:https://historico.ateneovalencia.es
X-WR-CALDESC:Eventos para Ateneo Mercantil de Valencia
REFRESH-INTERVAL;VALUE=DURATION:PT1H
X-Robots-Tag:noindex
X-PUBLISHED-TTL:PT1H
BEGIN:VTIMEZONE
TZID:Europe/Madrid
BEGIN:DAYLIGHT
TZOFFSETFROM:+0100
TZOFFSETTO:+0200
TZNAME:CEST
DTSTART:20210328T010000
END:DAYLIGHT
BEGIN:STANDARD
TZOFFSETFROM:+0200
TZOFFSETTO:+0100
TZNAME:CET
DTSTART:20211031T010000
END:STANDARD
END:VTIMEZONE
BEGIN:VEVENT
DTSTART;TZID=Europe/Madrid:20211102T190000
DTEND;TZID=Europe/Madrid:20211102T203000
DTSTAMP:20260421T234434
CREATED:20211004T103708Z
LAST-MODIFIED:20211014T093147Z
UID:65100-1635879600-1635885000@historico.ateneovalencia.es
SUMMARY:"Las Iglesias Orientales: su origen y espiritualidad\, el Cisma entre Roma y Constantinopla"
DESCRIPTION:Llega un nuevo ciclo al Ateneo Mercantil que tratará sobre la 'Relación de Roma con otras Confesiones' y se realizarán tres conferencias en las que se tratará este asunto desde diversos puntos de vista. La primera de las conferencias será el próximo martes 2 de noviembre a las 19 horas en el Salón de Actos del Ateneo Mercantil y llega bajo el título: "Las Iglesias Orientales: su origen y espiritualidad\, el Cisma entre Roma y Constantinopla". El ponente será el profesor universitario de Granada\, Prof. José Manuel Fernandez. \nEnlace para la conferencia Online: https://us06web.zoom.us/j/83004110379\nEn esta breve presentación sobre las Iglesias orientales se abordarán varios aspectos claves para su comprensión: se inicia con una introducción a la concepción del Oriente cristiano; luego se hará una aproximación histórica a las divisiones antiguas entre el Oriente ortodoxo y el Occidente latino\, así como a las tentativas de unión entre las Iglesias. \nSe expondrán las diversas familias litúrgicas; se mostrará el mosaico actual de las Iglesias del Oriente cristiano y\, posteriormente\, se darán unas pinceladas sobre el movimiento ecuménico entre Oriente y Occidente. Por último\, se expondrán los desafíos y las problemáticas actuales que tienen estas Iglesias y se reflexionará sobre las implicaciones eclesiásticas que tienen estas Iglesias orientales para Occidente. \nCartel:
URL:https://historico.ateneovalencia.es/evento/las-iglesias-orientales-su-origen-y-espiritualidad-el-cisma-entre-roma-y-constantinopla/
LOCATION:Salón Sorolla - Ateneo Mercantil de Valencia\, Plaza del Ayuntamiento 18\, Valencia\, Valencia\, 46002\, España
CATEGORIES:Ciclo Relación de Roma con otras Conferesiones
ATTACH;FMTTYPE=image/jpeg:https://historico.ateneovalencia.es/wp-content/uploads/2021/10/20211102-Fontana-Conferencia-1-Confesiones.jpg
END:VEVENT
BEGIN:VEVENT
DTSTART;TZID=Europe/Madrid:20211116T190000
DTEND;TZID=Europe/Madrid:20211116T203000
DTSTAMP:20260421T234434
CREATED:20211004T105651Z
LAST-MODIFIED:20211014T092203Z
UID:65104-1637089200-1637094600@historico.ateneovalencia.es
SUMMARY:"La Reforma y Reformas: El nacimiento de otras confesiones"
DESCRIPTION:Llega un nuevo ciclo al Ateneo Mercantil que tratará sobre la 'Relación de Roma con otras Confesiones' y se realizarán tres conferencias en las que se tratará este asunto desde diversos puntos de vista. La segunda de las conferencias será el próximo martes 16 de noviembre a las 19 horas en el Salón de Actos del Ateneo Mercantil y llega bajo el título: "La Reforma y Reformas: El nacimiento de otras confesiones". El ponente será el Profesor Dr. de la Facultad de Teología "San Vicente Ferrer"\, Prof. Andrés Valencia Pérez. \nEnlace para la conferencia Online: https://us06web.zoom.us/j/86235056216\nEl decreto Unitatis redintegratio del Concilio Vaticano II afirma que "la división contradice abiertamente la voluntad de Cristo y es piedra de escándalo para el mundo y obstáculo para la evangelización" (UR 1). La Iglesia fundada por Cristo sigue hoy herido por el escándalo sangrante de la división\, que resta eficacia salvífica a su acción y no contribuye a la realización del proyecto de reconciliación universal de Jesucristo: "Que todos sean uno\, como tú\, Padre\, en mí y yo en ti" (Jn 17\, 21). \nEn el siglo XVI\, en 1521\, se excomulga a Lutero\, y con esta excomunión se produce una nueva división\, esta vez al interno de la Iglesia de Occidente. Nuevamente fueron cuestiones teológicas las que influyeron\, pero no solo\, e incluso estas razones teológicas fueron aprovechadas para justificar otro tipo de decisiones más ligadas a la política que a la fe. Y\, a partir de esta división\, comienza a desgarrarse la Iglesia de Occidente: reformados (Calvino\, Zwinglio)\, anglicanos\, metodistas\, veterocatólicos\, pentecostales\, evangélicos…\, que tienen su origen en lo que hoy conocemos como "protestantismo". \nCartel:
URL:https://historico.ateneovalencia.es/evento/la-reforma-y-reformas-el-nacimiento-de-otras-confesiones/
LOCATION:Teatro Ateneo
CATEGORIES:Ciclo Relación de Roma con otras Conferesiones
ATTACH;FMTTYPE=image/jpeg:https://historico.ateneovalencia.es/wp-content/uploads/2021/10/20211116-Fontana-Conferencia2-Reformas-Confesiones.jpg
END:VEVENT
BEGIN:VEVENT
DTSTART;TZID=Europe/Madrid:20211123T190000
DTEND;TZID=Europe/Madrid:20211123T203000
DTSTAMP:20260421T234434
CREATED:20211004T110828Z
LAST-MODIFIED:20211118T105243Z
UID:65108-1637694000-1637699400@historico.ateneovalencia.es
SUMMARY:"Actual relación de Roma con otras tradiciones cristianas y con el judaísmo"
DESCRIPTION:Llega un nuevo ciclo al Ateneo Mercantil que tratará sobre la 'Relación de Roma con otras Confesiones' y se realizarán tres conferencias en las que se tratará este asunto desde diversos puntos de vista. La tercera de las conferencias será el próximo martes 23 de noviembre a las 19 horas en el Salón de Actos del Ateneo Mercantil y llega bajo el título: "Actual relación de Roma con otras tradiciones cristianas y con el judaísmo". El ponente será el Doctor en Teología y Cardenal de la Iglesia católica; presidente del Pontificio Consejo para la Promoción de la Unidad de los Cristianos (Roma) y relaciones con el Judaísmo\, el Emmo. Kurt Koch. \nEnlace del directo de Youtube: https://youtu.be/dePQe62iG1o\nEnlace Zoom: https://us06web.zoom.us/j/87859431456\nEl origen del Consejo Pontificio para la Promoción de la Unidad de los Cristianos está estrechamente vinculado al Concilio Vaticano II. El Papa Juan XXIII quiso que el compromiso de la Iglesia católica en el movimiento ecuménico fuera uno de los principales objetivos del Concilio. Por ello\, el 5 de junio de 1960\, creó un Secretariado para la Promoción de la Unidad de los Cristianos como una de las comisiones preparatorias del Concilio y nombró al cardenal Augustin Bea como su primer presidente. Este fue el comienzo del compromiso oficial de la Iglesia Católica con el movimiento ecuménico. \nPor otro lado\, la Comisión para las Relaciones Religiosas con el Judaísmo fue creada por el Papa Pablo VI el 22 de octubre de 1974\, pero ya antes de esa fecha\, en el Concilio Vaticano II\, durante la preparación del documento conocido hoy como Nostra Aetate\, había surgido la compleja y urgente cuestión de las relaciones con el judaísmo. Después del Concilio\, diversos contactos entre las autoridades de la Curia Romana y los representantes de importantes organizaciones judías dieron lugar a una reunión oficial celebrada en Roma del 20 al 23 de diciembre de 1970; en esta reunión se decidió crear un Comité Internacional de Enlace entre la Iglesia Católica y el Judaísmo (CIL). \nPosteriormente\, surgió la idea de crear una Comisión para las relaciones con el judaísmo. La Comisión ha permanecido en el marco del Secretariado para la Unidad de los Cristianos (hoy Consejo Pontificio para la Promoción de la Unidad de los Cristianos -PCPUC); vinculada al Consejo Pontificio\, es sin embargo distinta de él. \nCartel:
URL:https://historico.ateneovalencia.es/evento/actual-relacion-de-roma-con-otras-tradiciones-cristianas-y-con-el-judaismo/
LOCATION:Teatro Ateneo
CATEGORIES:Ciclo Relación de Roma con otras Conferesiones
ATTACH;FMTTYPE=image/jpeg:https://historico.ateneovalencia.es/wp-content/uploads/2021/10/20211123-Fontana-Conferencia3-Judaismo-Cristianismo.jpg
END:VEVENT
END:VCALENDAR