BEGIN:VCALENDAR
VERSION:2.0
PRODID:-//Ateneo Mercantil de Valencia - ECPv6.0.4//NONSGML v1.0//EN
CALSCALE:GREGORIAN
METHOD:PUBLISH
X-ORIGINAL-URL:https://historico.ateneovalencia.es
X-WR-CALDESC:Eventos para Ateneo Mercantil de Valencia
REFRESH-INTERVAL;VALUE=DURATION:PT1H
X-Robots-Tag:noindex
X-PUBLISHED-TTL:PT1H
BEGIN:VTIMEZONE
TZID:Europe/Madrid
BEGIN:DAYLIGHT
TZOFFSETFROM:+0100
TZOFFSETTO:+0200
TZNAME:CEST
DTSTART:20220327T010000
END:DAYLIGHT
BEGIN:STANDARD
TZOFFSETFROM:+0200
TZOFFSETTO:+0100
TZNAME:CET
DTSTART:20221030T010000
END:STANDARD
END:VTIMEZONE
BEGIN:VEVENT
DTSTART;TZID=Europe/Madrid:20221121T190000
DTEND;TZID=Europe/Madrid:20221121T203000
DTSTAMP:20260423T061654
CREATED:20221102T110654Z
LAST-MODIFIED:20221107T115059Z
UID:71607-1669057200-1669062600@historico.ateneovalencia.es
SUMMARY:Ciclo Grandes Conquistadores de la Historia: "Atila\, rey de los Hunos. 'El azote de Dios'"
DESCRIPTION:¡Atila! Ya con sólo mencionar su nombre nos hace pensar en terror\, destrucción\, muerte y el fin violento de una civilización. Pero… ¿Qué hay de verdad en ese mito? Ven a descubrir en qué mundo vivió\, aquellos últimos años del Imperio Romano\, quiénes eran esos "bárbaros"\, al hombre que se esconde detrás de todos ellos y qué pasó realmente en aquellos caóticos años. \nEn el siglo V con solo decir el nombre de Atila\, el Imperio Romano sentía miedo. Un guerrero sanguinario\, un hombre temido en su tiempo que fue la mismísima encarnación del mal. Conocido por los romanos como "el azote de Dios"\, se decía de él que por donde pasaba su caballo no volvía a crecer la hierba. Pero detrás de este personaje legendario y despiadado\, se esconde un brillante caudillo que puso en jaque al imperio romano. En el año 451 Atila\, rey de los Hunos\, invadió el Imperio Romano y avanzó hasta las puertas de la capital. Su propósito era socorrer a la hermana del emperador\, Honoria\, con la que deseaba casarse... el Papa León I le convenció para que no saquease Roma. \nEnlace para el Online: https://youtu.be/Y7hhi10vx2U\n\nEl Ciclo Grandes Conquistadores de la Historia prosigue su curso y en esta ocasión llega la vida de un personaje ilustre como es el de Atila. La conferencia llega bajo el títuloAtila\, rey de los Hunos. 'El azote de Dios' y el ponente será Alejandro Mohorte Medina\, comisariado\, miembro de la Asociación de Amigos del Museo Histórico de Valencia y de su grupo de recreación histórica\, miembro del Club de Amigos del Museo de l’Iber (Valencia) y colaborador del museo. \nTítulo: Atila\, rey de los Hunos. 'El azote de Dios' \nPonente: Alejandro Mohorte Medina\n \nFecha: Lunes\, 21 de noviembre de 2022 \nHora: 19.00h.  \nLugar: Salón de Actos del Ateneo Mercantil\n \nCoordinador: Vicente Bosch \nCartel:
URL:https://historico.ateneovalencia.es/evento/ciclo-grandes-conquistadores-de-la-historia-atila-rey-de-los-hunos-el-azote-de-dios/
LOCATION:Teatro Ateneo
CATEGORIES:Ciclo Grandes Conquistadores de la Historia
ATTACH;FMTTYPE=image/jpeg:https://historico.ateneovalencia.es/wp-content/uploads/2022/11/20221121-Atila-rey-de-los-Hunos.jpg
END:VEVENT
END:VCALENDAR