BEGIN:VCALENDAR
VERSION:2.0
PRODID:-//Ateneo Mercantil de Valencia - ECPv6.0.4//NONSGML v1.0//EN
CALSCALE:GREGORIAN
METHOD:PUBLISH
X-WR-CALNAME:Ateneo Mercantil de Valencia
X-ORIGINAL-URL:https://historico.ateneovalencia.es
X-WR-CALDESC:Eventos para Ateneo Mercantil de Valencia
REFRESH-INTERVAL;VALUE=DURATION:PT1H
X-Robots-Tag:noindex
X-PUBLISHED-TTL:PT1H
BEGIN:VTIMEZONE
TZID:Europe/Madrid
BEGIN:DAYLIGHT
TZOFFSETFROM:+0100
TZOFFSETTO:+0200
TZNAME:CEST
DTSTART:20220327T010000
END:DAYLIGHT
BEGIN:STANDARD
TZOFFSETFROM:+0200
TZOFFSETTO:+0100
TZNAME:CET
DTSTART:20221030T010000
END:STANDARD
END:VTIMEZONE
BEGIN:VEVENT
DTSTART;TZID=Europe/Madrid:20220321T190000
DTEND;TZID=Europe/Madrid:20220321T203000
DTSTAMP:20260423T030754
CREATED:20220112T092630Z
LAST-MODIFIED:20220210T131246Z
UID:66544-1647889200-1647894600@historico.ateneovalencia.es
SUMMARY:Ciclo Grandes Conquistadores de la Historia: "Napoléon. Realidad y Leyenda"
DESCRIPTION:Nueva conferencia del Ciclo Grandes Conquistadores de la Historia que llega el próximo lunes 21 de marzo a las 19 horas en el Salón de Actos del Ateneo Mercantil. En la conferencia se hablará sobre una figura clave en Francia como fue Napoleón Bonaparte. Un militar\, Primer Cónsul y Emperador de los franceses\, cuya figura emergió con la Revolución Francesa. La conferencia llega bajo el título "Napoleón. Realidad y Leyenda" y la realizará Alejandro Mohorte Medina\, comisariado\, experto en la época napoleónica y miembro de la Asociación Cultural de Amigos del Museo Histórico-Militar de Valencia y colaborador de l'Iber. \nEnlace para la conferencia Online: https://youtu.be/78QICGee71g\n\nLa figura de Napoleón Bonaparte emergió durante la Revolución Francesa\, y con el paso de los años se agigantó hasta convertirse en uno de los símbolos militares y políticos más importantes de la historia de Europa. Como emperador\, dominó su país y lo embarcó en una espiral expansionista: las Guerras Napoleónicas. Consumado estratega\, ganó buena parte de las batallas que libró\, hasta las que fueron sus dos grandes derrotas\, en Leipzig y Waterloo. Más allá del ámbito militar\, como gobernante francés Napoleón promovió un nuevo código civil\, que\, entre otras cosas\, prohibía los privilegios basados en el nacimiento\, establecía la meritocracia en el funcionariado y abogaba por la libertad religiosa. \nCartel:
URL:https://historico.ateneovalencia.es/evento/ciclo-grandes-conquistadores-de-la-historia-napoleon-realidad-y-leyenda/
LOCATION:Teatro Ateneo
CATEGORIES:Ciclo Grandes Conquistadores de la Historia
ATTACH;FMTTYPE=image/jpeg:https://historico.ateneovalencia.es/wp-content/uploads/2022/01/20220321-Grandes-Conquistadores-Napoleon.jpg
END:VEVENT
END:VCALENDAR