BEGIN:VCALENDAR
VERSION:2.0
PRODID:-//Ateneo Mercantil de Valencia - ECPv6.0.4//NONSGML v1.0//EN
CALSCALE:GREGORIAN
METHOD:PUBLISH
X-WR-CALNAME:Ateneo Mercantil de Valencia
X-ORIGINAL-URL:https://historico.ateneovalencia.es
X-WR-CALDESC:Eventos para Ateneo Mercantil de Valencia
REFRESH-INTERVAL;VALUE=DURATION:PT1H
X-Robots-Tag:noindex
X-PUBLISHED-TTL:PT1H
BEGIN:VTIMEZONE
TZID:Europe/Madrid
BEGIN:DAYLIGHT
TZOFFSETFROM:+0100
TZOFFSETTO:+0200
TZNAME:CEST
DTSTART:20220327T010000
END:DAYLIGHT
BEGIN:STANDARD
TZOFFSETFROM:+0200
TZOFFSETTO:+0100
TZNAME:CET
DTSTART:20221030T010000
END:STANDARD
END:VTIMEZONE
BEGIN:VEVENT
DTSTART;TZID=Europe/Madrid:20220208T190000
DTEND;TZID=Europe/Madrid:20220208T203000
DTSTAMP:20260421T231259
CREATED:20211221T140805Z
LAST-MODIFIED:20220204T091858Z
UID:66342-1644346800-1644352200@historico.ateneovalencia.es
SUMMARY:Ciclo Grandes Conquistadores de la Historia: "Alejandro Magno. Entre Oriente y Occidente"
DESCRIPTION:Se inicia un esperado nuevo ciclo de conferencias en este 2022 bajo el Ciclo Grandes Conquistadores de la Historia. El primer personaje del que conoceremos su historia y sus hazañas bélicas es el gran conquistador\, Alejandro Magno. La conferencia "Alejandro Magno. Entre Oriente y Occidente" será el próximo martes 8 de febrero a las 19 horas en el Salón de Actos del Ateneo Mercantil y el ponente será Prof. Dr. Alejandro Noguera Borel. \nEnlace para la conferencia en directo: https://youtu.be/lstGunGlrkU\n\nDurante siglos\, Alejandro Magno ha sido considerado por muchos el estratega más grande de todos los tiempos. La huella en la historia de este general macedonio es absolutamente indeleble\, tanto por sus hazañas como por su marcada personalidad. Durante su breve vida se convirtió en una temida leyenda con todos los ingredientes para acabar siendo un mito. \nAlejandro Noguera\nDoctor en Historia antigua por la Université de Paris IV – Sorbonne\, licenciado en Arqueología Clásica oriental por l'École Pratique des Hautes Études de París\, Diplomado en lenguas clásicas y orientales por la Sorbonne y el Collège de France\, Máster en Museología por la Universidad Complutense y Doctor en Historia Antigua por la Universidad de Valencia. \nHa impartido clases en las Universidades de Valencia\, en la Universidad Politécnica de Valencia\, Cardenal Herrera-Ceu San Pablo\, Universidad de Atenas y Fundación Libertas 7. Es conferenciante en diversas Instituciones. Es autor\, editor\, traductor\, corrector de numerosos libros y artículos tanto académicos como de divulgación tanto en castellano como en francés\, inglés\, italiano y valenciano. Colabora con diversos medios de comunicación. \nSu labor en el mundo cultural ha sido reconocida por diversos premios como el Archival 2012\, el de docencia científica Unesco 2001\, el Flash Back 2013\, el Rotary a la labor consular 2020 entre otros. Es desde 2017 es cónsul honorario de Francia en Valencia y Castellón. Es director de la Fundación Libertas 7 y de Liiber\, Museo de los soldaditos de plomo y del Instituto Valenciano de Estudios Clásicos y Orientales. \nCartel:
URL:https://historico.ateneovalencia.es/evento/ciclo-grandes-conquistadores-de-la-historia-alejandro-magno-entre-oriente-y-occidente/
LOCATION:Teatro Ateneo
CATEGORIES:Ciclo Grandes Conquistadores de la Historia
ATTACH;FMTTYPE=image/jpeg:https://historico.ateneovalencia.es/wp-content/uploads/2021/12/20220117-Alejandro-Magno.jpg
END:VEVENT
END:VCALENDAR