BEGIN:VCALENDAR
VERSION:2.0
PRODID:-//Ateneo Mercantil de Valencia - ECPv6.0.4//NONSGML v1.0//EN
CALSCALE:GREGORIAN
METHOD:PUBLISH
X-WR-CALNAME:Ateneo Mercantil de Valencia
X-ORIGINAL-URL:https://historico.ateneovalencia.es
X-WR-CALDESC:Eventos para Ateneo Mercantil de Valencia
REFRESH-INTERVAL;VALUE=DURATION:PT1H
X-Robots-Tag:noindex
X-PUBLISHED-TTL:PT1H
BEGIN:VTIMEZONE
TZID:Europe/Madrid
BEGIN:DAYLIGHT
TZOFFSETFROM:+0100
TZOFFSETTO:+0200
TZNAME:CEST
DTSTART:20200329T010000
END:DAYLIGHT
BEGIN:STANDARD
TZOFFSETFROM:+0200
TZOFFSETTO:+0100
TZNAME:CET
DTSTART:20201025T010000
END:STANDARD
END:VTIMEZONE
BEGIN:VEVENT
DTSTART;TZID=Europe/Madrid:20200227T180000
DTEND;TZID=Europe/Madrid:20200227T200000
DTSTAMP:20260422T003249
CREATED:20200217T100604Z
LAST-MODIFIED:20200218T123650Z
UID:56323-1582826400-1582833600@historico.ateneovalencia.es
SUMMARY:Club Ateneo Empresarial: Jornada Obligaciones Legales sobre Igualdad de Género
DESCRIPTION:El próximo jueves 27 de febrero de 18 a 20 horas se llevará a cabo en el Salón Sorolla una jornada sobre Obligaciones Legales sobre Igualdad de Género que organiza el Club Ateneo Empresarial y el Ateneo Mercantil de Valencia con la colaboración de la Fundación ADADE\, la Asociación Española de Servicios Avanzados a Empresas\, la Consultoria en Igualdad de Género\, OTP Prevención de Riesgos Laborables\, Fundación OTP y Catedra Grupo OTP&UMH. El objetivo de la jornada es dar a conocer las obligaciones legales sobre Planes de Igualdad\, elaboración del Registro Salarial\, formación y otros requisitos que deben cumplir TODAS las empresas y cuáles afectan solamente a empresas de determinado tamaño. Se pretender dar una visión desde 4 puntos de trabajo\, representantes de los trabajadores implantación y empresas afectadas. \nContenido de la Jornada:\n18.00 - 18.15 h.: Presentación y apertura del acto \nDña. María Such Palomares. Directora General del Instituto Valenciano de las Mujeres y por la Igualdad de Género. \n18.15 - 18.45 h.: Igualdad de género: un derecho laboral \nDña. Rosa Benítez Morón. Secretaria de Acción Sindical e Igualdad de UGT-PV. \n18.45 - 19.15 h.: Normativa de igualdad de género \nDña. Mª Belén Fuster Giménez. Inspectora de trabajo. \n19.15 - 19.45 h.: Diagnóstico e implantación de planes de igualdad \nDña. Ana López Ramos. Agente de igualdad - Psicóloga - Investigadora de género. \n19.45 - 20.00 h.: Igualdad de género: perspectiva empresarial \nDña. Victoria Miguel Sanfelix. EVAP - Asociación de Empresarias Valencianas. \nPrograma de la Jornada\nInscripciones:\n\n  \n\n\n\n\n\n\n\n\n\n\n\n\nNombre y Apellidos (*)\n  \n\nE-Mail (*)\n  \n\nTeléfono (*)\n  \n\nCiudad/Provincia\n \n\nNº Socio (si procede)\n \n\nComentario\n \nAntes de Enviar la Solicitud debe leer la Política de Privacidad Específica de las inscripciones a eventos del Club Ateneo Empresarial y consultar también la Política de Privacidad Completa del Ateneo Mercantil de Valencia. \nHe leído y acepto la Política de Privacidad del Ateneo Mercantil de Valencia: \nDeseo Recibir Información del Club Ateneo Empresarial: SiNo\n\n\n\n\n \n×\n\n\n\n\n\n\n\nPOLÍTICA DE PRIVACIDAD ESPECÍFICA DE LAS INSCRIPCIONES A EVENTOS DEL CLUB ATENEO EMPRESARIAL\nDe conformidad con lo previsto en el Reglamento General de Protección de Datos Europeo le informamos que la finalidad del tratamiento de los datos que aporte es: \n\nSi ha marcado Si en la casilla de Recibir Información: se procederá a la inscripción al evento y además se integrarán en la base de datos del Club Ateneo Empresarial del Ateneo Mercantil de Valencia\, poder seguir informándole\, a través del boletín informativo que remitimos por email\, de todas las actividades y eventos que organiza el Club Ateneo Empresarial\, así como en su caso\, contactar con el remitente de la información para dar respuesta a su petición o consulta. Los datos serán conservados durante el tiempo que persista el objeto de la presente\, y que es la remisión de información del Club Ateneo Empresarial\, mediante la newsletter o algún medio que son la misma finalidad le sustituya.\nSi ha marcado No en la casilla de Recibir Información: se procederá a la inscripción al evento pero no se integrarán en ninguna base de datos y la única finalidad del tratamiento de los datos que nos aporte es la de poder contactar con el remitente del correo electrónico\, dar respuesta a su petición o consulta y hacer un seguimiento posterior.\n\nLos datos serán tratados sobre la base jurídica del consentimiento de la persona que los proporciona. Puede retirarse dicho consentimiento en cualquier momento\, si bien ello no afectará a la licitud de los tratamientos efectuados con anterioridad. El hecho de facilitar los datos es voluntario\, aunque\, en caso de no hacerlo\, no se podrá responder a la solicitud\, consulta o reclamación. Por tanto\, la comunicación de sus datos personales a estos efectos es un requisito necesario para que podamos atender las peticiones formuladas por esta vía. \nLos datos serán conservados durante el tiempo que persista el objeto de la presente. Posteriormente\, serán conservados a modo de histórico de comunicaciones\, salvo que usted solicite su supresión. Se informa que el Responsable del Tratamiento es el Ateneo Mercantil de Valencia\, con domicilio en la Plaza del Ayuntamiento\, 18\, de Valencia\, 46002\, y con CIF G-46065272. \nPodrá ejercitar los derechos de acceso\, rectificación\, supresión\, limitación del tratamiento\, oposición o en su caso la portabilidad de los datos mediante solicitud dirigida al Responsable del Tratamiento\, aportando copia de su documento de identidad mediante correo certificado o mediante email a la dirección de correo electrónico ateneo@ateneovalencia.es\, especificando el derecho que desea ejercitar. \nLas actividades que realiza el Ateneo son de carácter público y abierto\, por ello se le informa que podría ser fotografiado o grabado en soporte audiovisual durante la participación de alguna actividad organizada por la entidad\, siendo posteriormente publicadas dichas imágenes en la página web\, publicaciones\, redes sociales\, o incluso en medios ajenos al Ateneo\, por tanto la participación en dichas actividades supone la autorización para el tratamiento y en su caso la cesión y divulgación por terceros ajenos a la entidad de su imagen personal en los términos descritos. \nLa negativa a suministrar los datos que le son solicitados supondrá en su caso la imposibilidad de participar en las actividades de carácter abierto y divulgativo\, o que incorporemos sus datos al tratamiento\, y por tanto cumplamos la finalidad prevista\, ya que sería imposible el cumplimiento de los fines de la misma. \nFrente a cualquier vulneración de derechos\, puede presentarse una reclamación ante la Agencia Española de Protección de Datos. \nPuede consultar información adicional de nuestra entidad en el específico apartado de Información Legal de nuestra página Web. \nSi se facilitan datos de terceros\, quien lo haga asume la responsabilidad de informarles previamente de lo previsto en el artículo 14 del Reglamento General de Protección de Datos. El usuario es responsable de que la información que proporcione a través de esta Web sea cierta. A estos efectos\, responde de la veracidad de todos los datos que comunique y mantendrá convenientemente actualizada la información facilitada\, de tal forma que responda a su situación real. El usuario será responsable de las informaciones falsas o inexactas que proporcione y de los perjuicios que ello cause al Ateneo o a terceros. \nEsta entidad garantiza la seguridad y confidencialidad de los datos de carácter personal que le sean facilitados. A tal fin\, tiene implantadas las medidas de seguridad de índole técnica y organizativa que son necesarias para evitar su alteración\, pérdida\, tratamiento o acceso no autorizados\, de acuerdo con lo establecido en la normativa aplicable. \nPara más información también puede consultar nuestra Política de Privacidad Completa. \n\n\nCartel:
URL:https://historico.ateneovalencia.es/evento/club-ateneo-empresarial-jornada-obligaciones-legales-sobre-igualdad-de-genero/
LOCATION:Salón Sorolla - Ateneo Mercantil de Valencia\, Plaza del Ayuntamiento 18\, Valencia\, Valencia\, 46002\, España
CATEGORIES:Ateneo Club Empresarial
ATTACH;FMTTYPE=image/jpeg:https://historico.ateneovalencia.es/wp-content/uploads/2020/02/20200227-Club-Ateneo-Empresarial-Igualdad-de-Género.jpg
END:VEVENT
END:VCALENDAR