BEGIN:VCALENDAR
VERSION:2.0
PRODID:-//Ateneo Mercantil de Valencia - ECPv6.0.4//NONSGML v1.0//EN
CALSCALE:GREGORIAN
METHOD:PUBLISH
X-WR-CALNAME:Ateneo Mercantil de Valencia
X-ORIGINAL-URL:https://historico.ateneovalencia.es
X-WR-CALDESC:Eventos para Ateneo Mercantil de Valencia
REFRESH-INTERVAL;VALUE=DURATION:PT1H
X-Robots-Tag:noindex
X-PUBLISHED-TTL:PT1H
BEGIN:VTIMEZONE
TZID:Europe/Madrid
BEGIN:DAYLIGHT
TZOFFSETFROM:+0100
TZOFFSETTO:+0200
TZNAME:CEST
DTSTART:20240331T010000
END:DAYLIGHT
BEGIN:STANDARD
TZOFFSETFROM:+0200
TZOFFSETTO:+0100
TZNAME:CET
DTSTART:20241027T010000
END:STANDARD
END:VTIMEZONE
BEGIN:VEVENT
DTSTART;TZID=Europe/Madrid:20240620T190000
DTEND;TZID=Europe/Madrid:20240620T203000
DTSTAMP:20260425T182343
CREATED:20240529T103500Z
LAST-MODIFIED:20240531T081720Z
UID:78173-1718910000-1718915400@historico.ateneovalencia.es
SUMMARY:Club de Innovación del Ateneo: "Innovación en el Mundo de la Moda"
DESCRIPTION:El próximo jueves 20 de Junio a las 19 horas\, el Club de Innovación del Ateneo Mercantil de Valencia se complace en presentar una jornada dedicada a la "Innovación en el Mundo de la Moda". Expertas reconocidas compartirán sus conocimientos y experiencias en el sector. Contaremos con la participación de Inma Aznar\, María Cano\, Mariola Marcet y Paqui Orihuel\, quienes nos brindarán una visión integral de la innovación en la moda desde diferentes perspectivas. \nPerfiles de las Ponentes \nInma Aznar es periodista experta en moda\, Inma Aznar es la presentadora y directora del programa "La Ventana de la Moda" en 999 Plaza Radio. Con una carrera en medios de comunicación. Inma también es docente en comunicación y marketing digital en moda en instituciones como ESIC y CEU Cardenal Herrera. Además\, es la fundadora de la Agencia Molona\, donde ofrece servicios de marketing digital y asesoría de imagen personal. \nMaría Cano es la fundadora y CEO de Canussa. En 2017\, después de más de 18 años trabajando en varias industrias y países\, sintió la necesidad de crear un proyecto con impacto positivo\, un proyecto que pudiese aportar valor a la sociedad. Canussa es una empresa que va un paso más adelante\, innovando para crear una marca de moda sostenible y circular\, y es Made in Spain\, Además de ser emprendedora\, María es mentora en Esade\, columnista sobre economía circular. \nMariola Marcet es la fundadora y CEO de Upcyclick\, una plataforma que promueve la sostenibilidad en la moda a través de la customización de prendas. Es también fundadora y CEO de "Amario a Armario” es el "pop-up del intercambio" donde puedes traer ropa que no te pones\, cambiarla por otra diferente y además pasar un buen rato. Mariola es docente en el "Máster en Co-diseño de Moda y Sostenibilidad" en EASD València. \nPaqui Orihuel es consultora en tendencias de moda y técnica en diseño de producto y desarrollo de colecciones. Colabora en Aitex como técnica de diseño de moda. Paqui tiene una educación superior en diseño de moda por la Universidad Politécnica de Madrid. \nÚnete a nosotros en esta fascinante jornada donde exploraremos cómo la innovación está transformando el mundo de la moda. No pierdas la oportunidad de aprender de expertas líderes en el sector y descubrir nuevas tendencias y estrategias que pueden marcar la diferencia en tu carrera o negocio. ¡Te esperamos en el Ateneo Mercantil de Valencia! \nTítulo: "Innovación en el Mundo de la Moda" \nConferenciantes: Inma Aznar\, María Cano\, Mariola Marcet y Paqui Orihuel \nDía: Jueves 20 de junio de 2024 \nHora: 19 horas \nLugar: Sala de Ocio \nEntrada libre y gratuita hasta completar aforo. \nCartel:
URL:https://historico.ateneovalencia.es/evento/club-de-innovacion-del-ateneo-innovacion-en-el-mundo-de-la-moda/
LOCATION:Sala de Ocio - Ateneo Mercantil de Valencia\, Plaza del Ayuntamiento\, 18\, Valencia\, España\, Valencia\, Valencia\, 46002\, España
CATEGORIES:Ateneo Club de Innovación y Empresa
ATTACH;FMTTYPE=image/jpeg:https://historico.ateneovalencia.es/wp-content/uploads/2024/05/20240620-Club-Innovacion-Moda-1.jpg
ORGANIZER;CN="Ateneo%20Club%20de%20Innovaci%C3%B3n%20y%20Empresa":MAILTO:clubdeinnovacionyempresa@ateneovalencia.es
END:VEVENT
END:VCALENDAR