BEGIN:VCALENDAR
VERSION:2.0
PRODID:-//Ateneo Mercantil de Valencia - ECPv6.0.4//NONSGML v1.0//EN
CALSCALE:GREGORIAN
METHOD:PUBLISH
X-WR-CALNAME:Ateneo Mercantil de Valencia
X-ORIGINAL-URL:https://historico.ateneovalencia.es
X-WR-CALDESC:Eventos para Ateneo Mercantil de Valencia
REFRESH-INTERVAL;VALUE=DURATION:PT1H
X-Robots-Tag:noindex
X-PUBLISHED-TTL:PT1H
BEGIN:VTIMEZONE
TZID:Europe/Madrid
BEGIN:DAYLIGHT
TZOFFSETFROM:+0100
TZOFFSETTO:+0200
TZNAME:CEST
DTSTART:20190331T010000
END:DAYLIGHT
BEGIN:STANDARD
TZOFFSETFROM:+0200
TZOFFSETTO:+0100
TZNAME:CET
DTSTART:20191027T010000
END:STANDARD
END:VTIMEZONE
BEGIN:VEVENT
DTSTART;TZID=Europe/Madrid:20190128T200000
DTEND;TZID=Europe/Madrid:20190128T213000
DTSTAMP:20260424T060113
CREATED:20190117T112542Z
LAST-MODIFIED:20190117T121613Z
UID:41865-1548705600-1548711000@historico.ateneovalencia.es
SUMMARY:Mesa Redonda: "Valencia 2019: Los retos de emprender - XII PREMIOS Ideas UPV"
DESCRIPTION:El próximo lunes 28 de enero a las 20:00 horas\, la Sala de Exposiciones albergará una mesa redonda en la que se debatirá sobre emprendimiento. La mesa redonda llega bajo el título "Valencia 2019: Los retos de emprender - XII PREMIOS Ideas UPV"\, en el marco del Ciclo Ateneo StartUps y Emprendimiento y que contará con el patrocinio de nuestro principal partner Caixa Popular y la colaboración de Tele 7 Valencia.\n \nEn esta mesa redonda y debate se tendrá la oportunidad de conocer a los ganadores de la 12ª edición de los 'PREMIOS Ideas UPV' otorgados el pasado mes de diciembre de 2018\, y cuáles son los retos que han superado hasta llegar a la actualidad. La lista de participantes son: \n- D. Israel Griol del Instituto IDEAS U.P.V. \n- D. Ignacio Zaballos de Journify.com: Vencedor categoría 'LEAN'\n \n- D. Vicente Ramírez de Bemore3D.com: Vencedor categoría 'CREA'\n \n- D. Daniel Perelló de Schollmars.com: Vencedor categoría 'AVANZA'\n \nPara inscribirse en el evento hay que rellenar la siguiente solicitud:\n\n  \n\n\n\n\n\n\n\n\n\n\n\n\nNombre (*)\n  \n\nApellidos (*)\n  \n\nE-Mail (*) \n   \n\nTeléfono (*) \n   \n\nNº Socio (si procede)\n  \n\nComentario\n \nAntes de Enviar la Solicitud debe leer la Política de Privacidad Específica de las inscripciones a eventos del Club de Innovación & Empresa y consultar también la Política de Privacidad Completa del Ateneo Mercantil de Valencia. \nHe leído y acepto la Política de Privacidad del Ateneo: \nDeseo Recibir Información del Ateneo Club de Innovación: SiNo\n\n\n\n\n \n×\n\n\n\n\n\n\n\nPOLÍTICA DE PRIVACIDAD ESPECÍFICA DE LAS INSCRIPCIONES A EVENTOS DEL CLUB DE INNOVACIÓN & EMPRESA\nDe conformidad con lo previsto en el Reglamento General de Protección de Datos Europeo le informamos que la finalidad del tratamiento de los datos que aporte es: \n\nSi ha marcado Si en la casilla de Recibir Información: se procederá a la inscripción al evento y además se integrarán en la base de datos del Club de Innovación & Empresa del Ateneo Mercantil de Valencia\, poder seguir informándole\, a través del boletín informativo que remitimos por email\, de todas las actividades y eventos que organiza el Club de Innovación & Empresa\, así como en su caso\, contactar con el remitente de la información para dar respuesta a su petición o consulta. Los datos serán conservados durante el tiempo que persista el objeto de la presente\, y que es la remisión de información del Ateneo Club de Innovación & Empresa\, mediante la newsletter o algún medio que son la misma finalidad le sustituya.\nSi ha marcado No en la casilla de Recibir Información: se procederá a la inscripción al evento pero no se integrarán en ninguna base de datos y la única finalidad del tratamiento de los datos que nos aporte es la de poder contactar con el remitente del correo electrónico\, dar respuesta a su petición o consulta y hacer un seguimiento posterior.\n\nLos datos serán tratados sobre la base jurídica del consentimiento de la persona que los proporciona. Puede retirarse dicho consentimiento en cualquier momento\, si bien ello no afectará a la licitud de los tratamientos efectuados con anterioridad. El hecho de facilitar los datos es voluntario\, aunque\, en caso de no hacerlo\, no se podrá responder a la solicitud\, consulta o reclamación. Por tanto\, la comunicación de sus datos personales a estos efectos es un requisito necesario para que podamos atender las peticiones formuladas por esta vía. \nLos datos serán conservados durante el tiempo que persista el objeto de la presente. Posteriormente\, serán conservados a modo de histórico de comunicaciones\, salvo que usted solicite su supresión. Se informa que el Responsable del Tratamiento es el Ateneo Mercantil de Valencia\, con domicilio en la Plaza del Ayuntamiento\, 18\, de Valencia\, 46002\, y con CIF G-46065272. \nPodrá ejercitar los derechos de acceso\, rectificación\, supresión\, limitación del tratamiento\, oposición o en su caso la portabilidad de los datos mediante solicitud dirigida al Responsable del Tratamiento\, aportando copia de su documento de identidad mediante correo certificado o mediante email a la dirección de correo electrónico ateneo@ateneovalencia.es\, especificando el derecho que desea ejercitar. \nLas actividades que realiza el Ateneo son de carácter público y abierto\, por ello se le informa que podría ser fotografiado o grabado en soporte audiovisual durante la participación de alguna actividad organizada por la entidad\, siendo posteriormente publicadas dichas imágenes en la página web\, publicaciones\, redes sociales\, o incluso en medios ajenos al Ateneo\, por tanto la participación en dichas actividades supone la autorización para el tratamiento y en su caso la cesión y divulgación por terceros ajenos a la entidad de su imagen personal en los términos descritos. \nLa negativa a suministrar los datos que le son solicitados supondrá en su caso la imposibilidad de participar en las actividades de carácter abierto y divulgativo\, o que incorporemos sus datos al tratamiento\, y por tanto cumplamos la finalidad prevista\, ya que sería imposible el cumplimiento de los fines de la misma. \nFrente a cualquier vulneración de derechos\, puede presentarse una reclamación ante la Agencia Española de Protección de Datos. \nPuede consultar información adicional de nuestra entidad en el específico apartado de Información Legal de nuestra página Web. \nSi se facilitan datos de terceros\, quien lo haga asume la responsabilidad de informarles previamente de lo previsto en el artículo 14 del Reglamento General de Protección de Datos. El usuario es responsable de que la información que proporcione a través de esta Web sea cierta. A estos efectos\, responde de la veracidad de todos los datos que comunique y mantendrá convenientemente actualizada la información facilitada\, de tal forma que responda a su situación real. El usuario será responsable de las informaciones falsas o inexactas que proporcione y de los perjuicios que ello cause al Ateneo o a terceros. \nEsta entidad garantiza la seguridad y confidencialidad de los datos de carácter personal que le sean facilitados. A tal fin\, tiene implantadas las medidas de seguridad de índole técnica y organizativa que son necesarias para evitar su alteración\, pérdida\, tratamiento o acceso no autorizados\, de acuerdo con lo establecido en la normativa aplicable. \nPara más información también puede consultar nuestra Política de Privacidad Completa. \n\n\nCartel
URL:https://historico.ateneovalencia.es/evento/mesa-redonda-valencia-2019-los-retos-de-emprender-xii-premios-ideas-upv/
LOCATION:Sala de Exposiciones - Ateneo Mercantil de Valencia\, Plaza del Ayuntamiento\, 18\, Valencia\, España\, Valencia\, Valencia\, 46002\, España
CATEGORIES:Ciclo Startup y Emprendedores
ATTACH;FMTTYPE=image/jpeg:https://historico.ateneovalencia.es/wp-content/uploads/2019/01/20190128-Mesa-Redonda-Premios-Ideas-UPV.jpg
ORGANIZER;CN="Ateneo%20Club%20de%20Innovaci%C3%B3n%20y%20Empresa":MAILTO:clubdeinnovacionyempresa@ateneovalencia.es
END:VEVENT
END:VCALENDAR