BEGIN:VCALENDAR
VERSION:2.0
PRODID:-//Ateneo Mercantil de Valencia - ECPv6.0.4//NONSGML v1.0//EN
CALSCALE:GREGORIAN
METHOD:PUBLISH
X-ORIGINAL-URL:https://historico.ateneovalencia.es
X-WR-CALDESC:Eventos para Ateneo Mercantil de Valencia
REFRESH-INTERVAL;VALUE=DURATION:PT1H
X-Robots-Tag:noindex
X-PUBLISHED-TTL:PT1H
BEGIN:VTIMEZONE
TZID:Europe/Madrid
BEGIN:DAYLIGHT
TZOFFSETFROM:+0100
TZOFFSETTO:+0200
TZNAME:CEST
DTSTART:20190331T010000
END:DAYLIGHT
BEGIN:STANDARD
TZOFFSETFROM:+0200
TZOFFSETTO:+0100
TZNAME:CET
DTSTART:20191027T010000
END:STANDARD
END:VTIMEZONE
BEGIN:VEVENT
DTSTART;TZID=Europe/Madrid:20190401T200000
DTEND;TZID=Europe/Madrid:20190401T213000
DTSTAMP:20260423T235726
CREATED:20190323T103119Z
LAST-MODIFIED:20190329T121219Z
UID:46357-1554148800-1554154200@historico.ateneovalencia.es
SUMMARY:Club de Innovación y Empresa: "¿Qué busca un inversor?"
DESCRIPTION:El Club de Innovación y Empresa del Ateneo Mercantil de Valencia regresa con una interesante conferencia el próximo lunes 1 de abril a las 20 horas en la Sala de Exposiciones que llega bajo el título: ¿Qué busca un inversor?" y lo hace gracias al principal patrocinador del Club que es Caixa Popular. En la conferencia partiparán D. Ricardo Rodríguez\, presidente de AESCAV\, Dª. Victoria Majadas\, presidenta de Big Ban Angels y D. Juan Antonio Galindo\, CEO de Quois.es y Business Angel. El acto lo presentará Asun Hernández. \nEn la conferencia se tratarán interesantes temas como la búsqueda de financiación que es un común denominador entre los emprendedores sobre todo en algunas etapas de su proyecto\, pero se darán las principales claves sobre ¿Qué busca un inversor? En este debate coloquio tendremos la oportunidad de averiguarlo. \nCartel:
URL:https://historico.ateneovalencia.es/evento/club-de-innovacion-y-empresa-que-busca-un-inversor/
LOCATION:Sala de Exposiciones - Ateneo Mercantil de Valencia\, Plaza del Ayuntamiento\, 18\, Valencia\, España\, Valencia\, Valencia\, 46002\, España
CATEGORIES:Ciclo Startup y Emprendedores
ATTACH;FMTTYPE=image/jpeg:https://historico.ateneovalencia.es/wp-content/uploads/2019/03/20190401-CLUB-INNOVACION-QUE-BUSCA-INVERSOR.jpg
ORGANIZER;CN="Ateneo%20Club%20de%20Innovaci%C3%B3n%20y%20Empresa":MAILTO:clubdeinnovacionyempresa@ateneovalencia.es
END:VEVENT
END:VCALENDAR